Shooting information for this photo
Camera: | NIKON CORPORATION NIKON D200 |
Exposure: | 0.01111 sec. (1/90) |
Aperture: | f/5.0 |
Focal Length: | 10.5 mm (35 mm equivalent: 15.0 mm) |
Flash: | No Flash |
Exposure mode: | Program AE |
Max Aperture: | 2.8 |
Resolution: | 240 x 240 dpi |
Dimension: | 1600 x 1200 pixels |
Original Date: | 2008:05:26 16:45:22.32 |
Digitized Date: | 2008:05:26 16:45:22.32-05:00 |
Created on: | 2008:05:26 16:45:22.32 |
Modified on: | 2008:05:31 19:48:34.32 |
Software: | Adobe Photoshop CS3 Macintosh |
Copyright: | ©Marina van der Linden |
Already Applied | True |
Blue Hue | -10 |
Blue Saturation | +16 |
Brightness | +68 |
CFA Pattern | [Green,Red][Blue,Green] |
Camera Profile | ACR 3.3 |
Chromatic Aberration B | 0 |
Chromatic Aberration R | 0 |
Circle Of Confusion | 0.021 mm |
Color Mode | RGB |
Color Noise Reduction | 39 |
Color Space | Uncalibrated |
Color Temperature | 4350 |
Contrast | +35 |
Convert To Grayscale | False |
Custom Rendered | Normal |
Description | I don't know why, but this church door fascinated me. |
Digital Zoom Ratio | 1 |
Exposure | +0.10 |
Exposure Compensation | 0 |
Exposure Mode | Auto |
Field Of View | 100.4 deg |
Fill Light | 0 |
Flash Fired | False |
Flash Function | False |
Flash Mode | Unknown |
Flash Red Eye Mode | False |
Flash Return | No return detection |
Focal Length In 35mm Format | 15 mm |
Format | image/jpeg |
Gain Control | None |
Green Hue | +15 |
Green Saturation | +4 |
Has Crop | False |
Has Settings | True |
Highlight Recovery | 0 |
Hue Adjustment Aqua | 0 |
Hue Adjustment Blue | 0 |
Hue Adjustment Green | 0 |
Hue Adjustment Magenta | 0 |
Hue Adjustment Orange | 0 |
Hue Adjustment Purple | 0 |
Hue Adjustment Red | 0 |
Hue Adjustment Yellow | 0 |
Hyperfocal Distance | 1.05 m |
ICC Profile Name | Adobe RGB (1998) |
ISO | 100 |
Image Description | I don't know why, but this church door fascinated me. |
Image Number | 13952 |
Image Size | 1600x1200 |
Lens | 10.5 mm f/2.8 |
Lens Info | 10.5mm f/2.8 |
Light Source | Unknown |
Light Value | 11.1 |
Luminance Adjustment Aqua | 0 |
Luminance Adjustment Blue | 0 |
Luminance Adjustment Green | 0 |
Luminance Adjustment Magenta | 0 |
Luminance Adjustment Orange | 0 |
Luminance Adjustment Purple | 0 |
Luminance Adjustment Red | 0 |
Luminance Adjustment Yellow | 0 |
Luminance Smoothing | 8 |
Marked | True |
Metering Mode | Multi-segment |
Parametric Darks | -10 |
Parametric Highlight Split | 75 |
Parametric Highlights | +25 |
Parametric Lights | +9 |
Parametric Midtone Split | 50 |
Parametric Shadow Split | 25 |
Parametric Shadows | -23 |
Rating | 0 |
Raw File Name | NMN_9892.NEF |
Red Hue | +13 |
Red Saturation | +7 |
Rights | ©Marina van der Linden |
Saturation | 0 |
Saturation Adjustment Aqua | 0 |
Saturation Adjustment Blue | 0 |
Saturation Adjustment Green | 0 |
Saturation Adjustment Magenta | 0 |
Saturation Adjustment Orange | 0 |
Saturation Adjustment Purple | 0 |
Saturation Adjustment Red | 0 |
Saturation Adjustment Yellow | 0 |
Scale Factor To 35 mm Equivalent | 1.4 |
Scene Capture Type | Standard |
Scene Type | Directly photographed |
Sensing Method | One-chip color area |
Shadow Tint | -3 |
Shadows | 18 |
Sharpness | 58 |
Sidecar For Extension | NEF |
Split Toning Balance | -37 |
Split Toning Highlight Hue | 54 |
Split Toning Highlight Saturation | 9 |
Split Toning Shadow Hue | 36 |
Split Toning Shadow Saturation | 16 |
Startup Profile | |
Subject | door, church, St. Andrew's, Toronto |
Subject Distance Range | Unknown |
Time Zone Offset | -5 -5 |
Tint | -4 |
Title | St. Andrew's |
Tone Curve | 0, 0, 32, 22, 64, 56, 128, 128, 192, 196, 255, 255 |
Tone Curve Name | Medium Contrast |
Version | 4.0 |
Vibrance | 0 |
Vignette Amount | 0 |
White Balance | Custom |