Shooting information for this photo
Camera: | OLYMPUS IMAGING CORP. E-PL1 |
Exposure: | 0.008 sec. (1/125) |
Aperture: | f/5.6 |
Focal Length: | 42.0 mm (35 mm equivalent: 84.0 mm) |
Flash: | Auto, Did not fire |
Exposure mode: | Aperture-priority AE |
Max Aperture: | 3.5 |
Resolution: | 300 x 300 dpi |
Dimension: | 4032 x 3024 pixels |
Original Date: | 2011:10:30 13:40:48 |
Digitized Date: | 2011:10:30 13:40:48+01:00 |
Created on: | 2011:10:30 13:40:48 |
Modified on: | 2012:01:04 20:28:52 |
Software: | Version 1.1 |
Already Applied | True |
Approximate Focus Distance | 3.41 |
Blue Hue | 0 |
Blue Saturation | 0 |
Brightness | +150 |
CFA Pattern | [Red,Green][Green,Blue] |
Camera Profile | Adobe Standard |
Chromatic Aberration B | 0 |
Chromatic Aberration R | 0 |
Circle Of Confusion | 0.015 mm |
Clarity | 0 |
Color Noise Reduction | 25 |
Color Noise Reduction Detail | 50 |
Color Temperature | 6881 |
Contrast | +82 |
Convert To Grayscale | True |
Custom Rendered | Normal |
Defringe | 0 |
Depth Of Field | 1.12 m (2.94 - 4.06) |
Description | OLYMPUS DIGITAL CAMERA |
Digital Zoom Ratio | 1 |
Exposure | 0.00 |
Exposure Compensation | 0 |
Exposure Mode | Auto |
Field Of View | 24.2 deg |
Fill Light | 17 |
Flash Compensation | 0 |
Flash Fired | False |
Flash Function | False |
Flash Mode | Auto |
Flash Red Eye Mode | False |
Flash Return | No return detection |
Focal Length In 35mm Format | 84 mm |
Gain Control | Low gain up |
Grain Amount | 0 |
Gray Mixer Aqua | -19 |
Gray Mixer Blue | +9 |
Gray Mixer Green | -27 |
Gray Mixer Magenta | +4 |
Gray Mixer Orange | -18 |
Gray Mixer Purple | +15 |
Gray Mixer Red | -9 |
Gray Mixer Yellow | -22 |
Green Hue | 0 |
Green Saturation | 0 |
Has Crop | False |
Has Settings | True |
Highlight Recovery | 0 |
Hyperfocal Distance | 20.97 m |
ISO | 200 |
Image Description | OLYMPUS DIGITAL CAMERA |
Image Size | 4032x3024 |
Lens | OLYMPUS M.14-42mm F3.5-5.6 L |
Lens Info | 14-42mm f/3.5-5.6 |
Lens Manual Distortion Amount | 0 |
Lens Model | OLYMPUS M.14-42mm F3.5-5.6 L |
Lens Profile Enable | 0 |
Lens Profile Setup | LensDefaults |
Light Source | Unknown |
Light Value | 10.9 |
Luminance Smoothing | 0 |
Metering Mode | Multi-segment |
Parametric Darks | -45 |
Parametric Highlight Split | 75 |
Parametric Highlights | -24 |
Parametric Lights | -26 |
Parametric Midtone Split | 50 |
Parametric Shadow Split | 25 |
Parametric Shadows | +42 |
Perspective Horizontal | 0 |
Perspective Rotate | 0.0 |
Perspective Scale | 100 |
Perspective Vertical | 0 |
Post Crop Vignette Amount | -29 |
Post Crop Vignette Feather | 50 |
Post Crop Vignette Highlight Contrast | 0 |
Post Crop Vignette Midpoint | 50 |
Post Crop Vignette Roundness | 0 |
Post Crop Vignette Style | 1 |
Process Version | 5.7 |
Red Hue | 0 |
Red Saturation | 0 |
Saturation | Normal |
Scale Factor To 35 mm Equivalent | 2.0 |
Scene Capture Type | Standard |
Sensitivity Type | Unknown |
Shadow Tint | 0 |
Shadows | 24 |
Sharpen Detail | 25 |
Sharpen Edge Masking | 0 |
Sharpen Radius | +1.0 |
Sharpness | 25 |
Split Toning Balance | 0 |
Split Toning Highlight Hue | 53 |
Split Toning Highlight Saturation | 8 |
Split Toning Shadow Hue | 46 |
Split Toning Shadow Saturation | 5 |
Subject Distance | 3.41 m |
Tint | -18 |
Tone Curve | 0, 0, 32, 22, 64, 56, 128, 128, 192, 196, 255, 255 |
Tone Curve Name | Medium Contrast |
Version | 6.3 |
Vignette Amount | -100 |
Vignette Midpoint | 17 |
White Balance | Custom |