Shooting information for this photo
Camera: | SONY NEX-5R |
Resolution: | 300 x 300 dpi |
Dimension: | 1181 x 1780 pixels |
Created on: | 2014:11:30 16:47+01:00 |
Modified on: | 2014:11:30 16:55:18 |
Software: | Adobe Photoshop Elements 11.0 Windows |
Already Applied | True |
Auto Lateral CA | 0 |
Blacks 2012 | 0 |
Blue Hue | 0 |
Blue Saturation | 0 |
Camera Profile | Embedded |
Clarity 2012 | +33 |
Color Mode | RGB |
Color Noise Reduction | 0 |
Color Space | Uncalibrated |
Contrast 2012 | 0 |
Convert To Grayscale | False |
Crop Angle | 0 |
Crop Bottom | 0.830186 |
Crop Constrain To Warp | 0 |
Crop Height | 4088 |
Crop Left | 0.087912 |
Crop Right | 0.918098 |
Crop Top | 0 |
Crop Unit | pixels |
Crop Width | 2713 |
Defringe Green Amount | 0 |
Defringe Green Hue Hi | 60 |
Defringe Green Hue Lo | 40 |
Defringe Purple Amount | 0 |
Defringe Purple Hue Hi | 70 |
Defringe Purple Hue Lo | 30 |
Exposure 2012 | +0.50 |
Format | image/jpeg |
Grain Amount | 0 |
Green Hue | 0 |
Green Saturation | 0 |
Has Crop | True |
Has Settings | True |
Highlights 2012 | 0 |
Hue Adjustment Aqua | 0 |
Hue Adjustment Blue | 0 |
Hue Adjustment Green | 0 |
Hue Adjustment Magenta | 0 |
Hue Adjustment Orange | 0 |
Hue Adjustment Purple | 0 |
Hue Adjustment Red | 0 |
Hue Adjustment Yellow | 0 |
ICC Profile Name | ProPhoto RGB |
Image Size | 1181x1780 |
Incremental Temperature | +11 |
Incremental Tint | 0 |
Lens Manual Distortion Amount | 0 |
Lens Profile Enable | 0 |
Lens Profile Setup | LensDefaults |
Luminance Adjustment Aqua | 0 |
Luminance Adjustment Blue | +11 |
Luminance Adjustment Green | +33 |
Luminance Adjustment Magenta | 0 |
Luminance Adjustment Orange | +11 |
Luminance Adjustment Purple | 0 |
Luminance Adjustment Red | +22 |
Luminance Adjustment Yellow | 0 |
Luminance Noise Reduction Contrast | 0 |
Luminance Noise Reduction Detail | 40 |
Luminance Smoothing | 66 |
Parametric Darks | +11 |
Parametric Highlight Split | 75 |
Parametric Highlights | +11 |
Parametric Lights | +11 |
Parametric Midtone Split | 50 |
Parametric Shadow Split | 25 |
Parametric Shadows | -11 |
Perspective Horizontal | 0 |
Perspective Rotate | 0.0 |
Perspective Scale | 100 |
Perspective Vertical | -34 |
Photometric Interpretation | RGB |
Planar Configuration | Chunky |
Post Crop Vignette Amount | 0 |
Process Version | 6.7 |
Red Hue | 0 |
Red Saturation | 0 |
Samples Per Pixel | 3 |
Saturation | +11 |
Saturation Adjustment Aqua | 0 |
Saturation Adjustment Blue | +100 |
Saturation Adjustment Green | +100 |
Saturation Adjustment Magenta | 0 |
Saturation Adjustment Orange | +33 |
Saturation Adjustment Purple | +100 |
Saturation Adjustment Red | +100 |
Saturation Adjustment Yellow | -55 |
Shadow Tint | 0 |
Shadows 2012 | 0 |
Sharpen Detail | 25 |
Sharpen Edge Masking | 0 |
Sharpen Radius | +1.0 |
Sharpness | 50 |
Split Toning Balance | 0 |
Split Toning Highlight Hue | 0 |
Split Toning Highlight Saturation | 0 |
Split Toning Shadow Hue | 0 |
Split Toning Shadow Saturation | 0 |
Tone Curve Name 2012 | Linear |
Tone Curve PV2012 | 0, 0, 255, 255 |
Tone Curve PV2012 Blue | 0, 0, 255, 255 |
Tone Curve PV2012 Green | 0, 0, 255, 255 |
Tone Curve PV2012 Red | 0, 0, 255, 255 |
Version | 7.4 |
Vibrance | -11 |
Vignette Amount | 0 |
White Balance | Custom |
Whites 2012 | 0 |
GPS Information |
GPS Latitude | 49 deg 7' 12.83" N |
GPS Latitude Ref | North |
GPS Longitude | 6 deg 10' 33.37" E |
GPS Longitude Ref | East |
GPS Position | 49 deg 7' 12.83" N, 6 deg 10' 33.37" E |
GPS Version ID | 2.2.0.0 |