Shooting information for this photo
Camera: | PENTAX K200D |
Exposure: | 0.004 sec. (1/250) |
Aperture: | f/8.0 |
Focal Length: | 26.0 mm (35 mm equivalent: 39.0 mm) |
Flash: | Off, Did not fire |
Exposure mode: | Program AE |
Resolution: | 300 x 300 dpi |
Original Date: | 2014:08:09 14:40:13 |
Created on: | 2014:08:09 14:40:13 |
Modified on: | 2014:08:10 17:28:22 |
Software: | Adobe Photoshop Lightroom 5.6 (Windows) |
Copyright: | Copyright 2014 by Tobias Bauer |
Already Applied | True |
Artist | Tobias Bauer |
Auto Lateral CA | 0 |
Auto White Version | 134348800 |
Blacks 2012 | -10 |
Blue Hue | 0 |
Blue Saturation | 0 |
Camera Profile | Adobe Standard |
Circle Of Confusion | 0.020 mm |
City | Heiligenstadt |
Clarity 2012 | 0 |
Color Noise Reduction | 25 |
Color Noise Reduction Detail | 50 |
Color Noise Reduction Smoothness | 50 |
Color Temperature | 5500 |
Contrast | High |
Contrast 2012 | -10 |
Convert To Grayscale | False |
Country | Deutschland |
Country Code | DEU |
Creator | Tobias Bauer |
Custom Rendered | Normal |
Date Created | 2014:08:09 14:40:13 |
Defringe Green Amount | 0 |
Defringe Green Hue Hi | 60 |
Defringe Green Hue Lo | 40 |
Defringe Purple Amount | 0 |
Defringe Purple Hue Hi | 70 |
Defringe Purple Hue Lo | 30 |
Exposure 2012 | 0.00 |
Exposure Compensation | 0 |
Exposure Mode | Auto |
Field Of View | 49.6 deg |
Focal Length In 35mm Format | 39 mm |
Format | image/jpeg |
Grain Amount | 0 |
Green Hue | 0 |
Green Saturation | 0 |
Has Crop | False |
Has Settings | True |
Highlights 2012 | -50 |
Hue Adjustment Aqua | 0 |
Hue Adjustment Blue | 0 |
Hue Adjustment Green | 0 |
Hue Adjustment Magenta | 0 |
Hue Adjustment Orange | 0 |
Hue Adjustment Purple | 0 |
Hue Adjustment Red | 0 |
Hue Adjustment Yellow | 0 |
Hyperfocal Distance | 4.22 m |
ISO | 100 |
Image Size | 3872x2592 |
Lens | Sigma or Tamron Lens |
Lens ID | Sigma 17-70mm F2.8-4.5 DC Macro or Sigma 18-50mm F3.5-5.6 DC |
Lens Manual Distortion Amount | 0 |
Lens Model | Sigma or Tamron Lens |
Lens Profile Chromatic Aberration Scale | 100 |
Lens Profile Distortion Scale | 100 |
Lens Profile Enable | 1 |
Lens Profile Filename | PENTAX (Sigma_17-70mm_F2.8-4.5_DC_MAC RO_HSM ) - RAW.lcp |
Lens Profile Name | Adobe (SIGMA 17-70mm F2.8-4.5 DC MACRO / HSM, PENTAX) |
Lens Profile Setup | Custom |
Lens Profile Vignetting Scale | 100 |
Light Value | 14.0 |
Location | Heiligenstadt |
Luminance Adjustment Aqua | 0 |
Luminance Adjustment Blue | 0 |
Luminance Adjustment Green | 0 |
Luminance Adjustment Magenta | 0 |
Luminance Adjustment Orange | 0 |
Luminance Adjustment Purple | 0 |
Luminance Adjustment Red | 0 |
Luminance Adjustment Yellow | 0 |
Luminance Smoothing | 0 |
Marked | True |
Metering Mode | Multi-segment |
Parametric Darks | 0 |
Parametric Highlight Split | 75 |
Parametric Highlights | 0 |
Parametric Lights | 0 |
Parametric Midtone Split | 50 |
Parametric Shadow Split | 25 |
Parametric Shadows | 0 |
Perspective Aspect | 0 |
Perspective Horizontal | 0 |
Perspective Rotate | 0.0 |
Perspective Scale | 100 |
Perspective Upright | 0 |
Perspective Vertical | 0 |
Post Crop Vignette Amount | 0 |
Primary Chromaticities | 0.64, 0.33, 0.21, 0.71, 0.15, 0.06 |
Process Version | 6.7 |
Red Hue | 0 |
Red Saturation | 0 |
Rights | Copyright 2014 by Tobias Bauer |
Saturation | Normal |
Saturation Adjustment Aqua | 0 |
Saturation Adjustment Blue | 0 |
Saturation Adjustment Green | 0 |
Saturation Adjustment Magenta | 0 |
Saturation Adjustment Orange | 0 |
Saturation Adjustment Purple | 0 |
Saturation Adjustment Red | 0 |
Saturation Adjustment Yellow | 0 |
Scale Factor To 35 mm Equivalent | 1.5 |
Scene Capture Type | Standard |
Sensing Method | One-chip color area |
Shadow Tint | 0 |
Shadows 2012 | +50 |
Sharpen Detail | 25 |
Sharpen Edge Masking | 0 |
Sharpen Radius | +1.0 |
Sharpness | Hard |
Split Toning Balance | 0 |
Split Toning Highlight Hue | 0 |
Split Toning Highlight Saturation | 0 |
Split Toning Shadow Hue | 0 |
Split Toning Shadow Saturation | 0 |
State | Bayern |
Subject | Ausflugsziele, Bayern, Deutschland, Heiligenstadt, Orte, St. Veit und St. Michael |
Subject Distance Range | Distant |
Tint | +10 |
Title | Heiligenstadt i. Oberfranken |
Tone Curve | 0, 0, 255, 255 |
Tone Curve Blue | 0, 0, 255, 255 |
Tone Curve Green | 0, 0, 255, 255 |
Tone Curve Name | Linear |
Tone Curve Name 2012 | Linear |
Tone Curve PV2012 | 0, 0, 255, 255 |
Tone Curve PV2012 Blue | 0, 0, 255, 255 |
Tone Curve PV2012 Green | 0, 0, 255, 255 |
Tone Curve PV2012 Red | 0, 0, 255, 255 |
Tone Curve Red | 0, 0, 255, 255 |
Version | 8.6 |
Vibrance | 0 |
Vignette Amount | 0 |
White Balance | Auto |
White Point | 0.313, 0.329 |
Whites 2012 | +24 |
GPS Information |
GPS Altitude | 360 m Above Sea Level |
GPS Altitude Ref | Above Sea Level |
GPS Date Stamp | 2014:08:09 |
GPS Date/Time | 2014:08:09 12:40:13Z |
GPS Latitude | 49 deg 51' 50.81" N |
GPS Latitude Ref | North |
GPS Longitude | 11 deg 10' 10.37" E |
GPS Longitude Ref | East |
GPS Map Datum | WGS-84 |
GPS Position | 49 deg 51' 50.81" N, 11 deg 10' 10.37" E |
GPS Time Stamp | 12:40:13 |
GPS Version ID | 2.2.0.0 |