Shooting information for this photo
Camera: | PENTAX Corporation PENTAX K200D |
Exposure: | 0.03333 sec. (1/30) |
Aperture: | f/4.0 |
Focal Length: | 23.0 mm (35 mm equivalent: 34.0 mm) |
Flash: | Off, Did not fire |
Exposure mode: | Program AE |
Resolution: | 240 x 240 dpi |
Dimension: | 3872 x 2592 pixels |
Original Date: | 2008:08:03 08:29:47 |
Digitized Date: | 2008:08:03 08:29:47+02:00 |
Created on: | 2008:08:03 08:29:47 |
Modified on: | 2008:08:03 11:40:02 |
Software: | K200D Ver 1.00 |
Copyright: | Copyright 2008 by Tobias Bauer. |
Already Applied | True |
Artist | Tobias Bauer |
Blue Hue | 0 |
Blue Saturation | 0 |
Brightness | +59 |
Camera Profile | ACR 4.4 |
Chromatic Aberration B | 0 |
Chromatic Aberration R | 0 |
Circle Of Confusion | 0.020 mm |
City | Tröstau |
Clarity | 0 |
Color Noise Reduction | 25 |
Color Temperature | 5150 |
Contrast | High |
Convert To Grayscale | False |
Country | Deutschland |
Country Code | DEU |
Creator | Tobias Bauer |
Custom Rendered | Normal |
Defringe | 0 |
Description | Hersteller: Antonov / PZL Mielec / Polen.Wurde eingesetzt als: Landwirtschafts- und Transportflugzeug.Besatzung: 1-2; Passagiere: bis 12.Motor: Shvetsov Sternmotor Asch 62IR.Leistung: 1.000 PS.Hubraum: 29,87 l.Anzahl Zylinder: 9.Leergewicht: 3.400 kg.Spannweite: 18,18 m.Länge: 12,40 m.Höhe: 6,10 m.Max. Abfluggewicht: 5.500 kg.Höchstgeschwindigkeit: 258 km/h.Reisegeschwindigkeit: 180 km/h.Dienstgipfelhöhe: 5000 m.Reichweite: 900 km.Verbrauch Reise: 150 - 220 l/h.Tankinhalt: 1200 l.Landestrecke: 220 m.Startstrecke: 250 m |
Exposure | 0.00 |
Exposure Compensation | 0 |
Exposure Mode | Auto |
Field Of View | 55.8 deg |
Fill Light | 0 |
Flash Fired | False |
Flash Function | False |
Flash Mode | Off |
Flash Red Eye Mode | False |
Flash Return | No return detection |
Focal Length In 35mm Format | 34 mm |
Green Hue | 0 |
Green Saturation | 0 |
Has Crop | False |
Has Settings | True |
Hierarchical Subject | Ereignisse|Flugfest Tröstau, Orte|Deutschland, Orte|Deutschland|Bayern, Orte|Deutschland|Bayern|Tröst au, Sonstiges|Fahrzeuge|Flugzeug, Sonstiges|Fahrzeuge|Flugzeug|A ntonov AN 2 |
Highlight Recovery | 24 |
Hue Adjustment Aqua | 0 |
Hue Adjustment Blue | 0 |
Hue Adjustment Green | 0 |
Hue Adjustment Magenta | 0 |
Hue Adjustment Orange | 0 |
Hue Adjustment Purple | 0 |
Hue Adjustment Red | 0 |
Hue Adjustment Yellow | 0 |
Hyperfocal Distance | 6.51 m |
ISO | 100 |
Image Description | Hersteller: Antonov / PZL Mielec / Polen.Wurde eingesetzt als: Landwirtschafts- und Transportflugzeug.Besatzung: 1-2; Passagiere: bis 12.Motor: Shvetsov Sternmotor Asch 62IR.Leistung: 1.000 PS.Hubraum: 29,87 l.Anzahl Zylinder: 9.Leergewicht: 3.400 kg.Spannweite: 18,18 m.Lange: 12,40 m.Hohe: 6,10 m.Max. Abfluggewicht: 5.500 kg.Hochstgeschwindigkeit: 258 km/h.Reisegeschwindigkeit: 180 km/h.Dienstgipfelhohe: 5000 m.Reichweite: 900 km.Verbrauch Reise: 150 - 220 l/h.Tankinhalt: 1200 l.Landestrecke: 220 m.Startstrecke: 250 m |
Image Size | 3872x2592 |
Lens | smc PENTAX-DA 18-55mm F3.5-5.6 AL |
Lens ID | smc PENTAX-DA 18-55mm F3.5-5.6 AL |
Lens Info | 18-55mm f/3.5-5.6 |
Light Value | 8.9 |
Location | Tröstau |
Luminance Adjustment Aqua | 0 |
Luminance Adjustment Blue | 0 |
Luminance Adjustment Green | 0 |
Luminance Adjustment Magenta | 0 |
Luminance Adjustment Orange | 0 |
Luminance Adjustment Purple | 0 |
Luminance Adjustment Red | 0 |
Luminance Adjustment Yellow | 0 |
Luminance Smoothing | 0 |
Marked | True |
Metering Mode | Multi-segment |
Parametric Darks | 0 |
Parametric Highlight Split | 75 |
Parametric Highlights | 0 |
Parametric Lights | 0 |
Parametric Midtone Split | 50 |
Parametric Shadow Split | 25 |
Parametric Shadows | 0 |
Post Crop Vignette Amount | 0 |
Red Hue | 0 |
Red Saturation | 0 |
Rights | Copyright 2008 by Tobias Bauer. |
Saturation | Normal |
Saturation Adjustment Aqua | 0 |
Saturation Adjustment Blue | 0 |
Saturation Adjustment Green | 0 |
Saturation Adjustment Magenta | 0 |
Saturation Adjustment Orange | 0 |
Saturation Adjustment Purple | 0 |
Saturation Adjustment Red | 0 |
Saturation Adjustment Yellow | 0 |
Scale Factor To 35 mm Equivalent | 1.5 |
Scene Capture Type | Standard |
Sensing Method | One-chip color area |
Shadow Tint | 0 |
Shadows | 11 |
Sharpen Detail | 25 |
Sharpen Edge Masking | 0 |
Sharpen Radius | +1.0 |
Sharpness | Hard |
Split Toning Balance | 0 |
Split Toning Highlight Hue | 0 |
Split Toning Highlight Saturation | 0 |
Split Toning Shadow Hue | 0 |
Split Toning Shadow Saturation | 0 |
State | Bayern |
Subject | Antonov AN 2, Bayern, Deutschland, Ereignisse, Fahrzeuge, Flugfest Tröstau, Flugzeug, Sonstiges, Tröstau |
Subject Distance Range | Distant |
Tint | +30 |
Title | Antonov AN 2 "Anhalt" |
Tone Curve | 0, 0, 32, 22, 64, 56, 128, 128, 192, 196, 255, 255 |
Tone Curve Name | Medium Contrast |
Version | 4.5 |
Vibrance | 0 |
Vignette Amount | 0 |
White Balance | Auto |
GPS Information |
GPS Altitude | 560 m Above Sea Level |
GPS Altitude Ref | Above Sea Level |
GPS Date Stamp | 2008:08:03 |
GPS Date/Time | 2008:08:03 06:29:47Z |
GPS Latitude | 50 deg 1' 6.51" N |
GPS Latitude Ref | North |
GPS Longitude | 11 deg 56' 5.44" E |
GPS Longitude Ref | East |
GPS Map Datum | WGS-84 |
GPS Position | 50 deg 1' 6.51" N, 11 deg 56' 5.44" E |
GPS Satellites | 0 |
GPS Time Stamp | 06:29:47 |
GPS Version ID | 2.2.0.0 |