Shooting information for this photo
Camera: | PENTAX Corporation PENTAX K10D |
Exposure: | 0.00286 sec. (1/350) |
Aperture: | f/5.6 |
Focal Length: | 220.0 mm (35 mm equivalent: 330.0 mm) |
Flash: | Off, Did not fire |
Exposure mode: | Aperture-priority AE |
Resolution: | 72 x 72 dpi |
Dimension: | 720 x 514 pixels |
Original Date: | 2009:08:31 15:45:00 |
Digitized Date: | 2009:08:31 15:45:00+10:00 |
Created on: | 2009:08:31 15:45:00 |
Modified on: | 2012:03:23 23:26:01 |
Software: | Adobe Photoshop Elements 6.0 Windows |
Copyright: | George Cook |
Already Applied | True |
Artist | George Cook |
Blue Hue | 0 |
Blue Saturation | 0 |
Brightness | +50 |
Camera Profile | ACR 3.7 |
Chromatic Aberration B | 0 |
Chromatic Aberration R | 0 |
Circle Of Confusion | 0.020 mm |
Clarity | 55 |
Color Mode | RGB |
Color Noise Reduction | 25 |
Color Space | sRGB |
Color Temperature | 5100 |
Contrast | Low |
Convert To Grayscale | False |
Creator | George Cook |
Custom Rendered | Normal |
Defringe | 0 |
Exposure | 0.00 |
Exposure Compensation | -1/2 |
Exposure Mode | Manual |
Field Of View | 6.2 deg |
Fill Light | 10 |
Flash Fired | False |
Flash Function | False |
Flash Mode | Off |
Flash Red Eye Mode | False |
Flash Return | No return detection |
Focal Length In 35mm Format | 330 mm |
Format | image/jpeg |
Green Hue | 0 |
Green Saturation | 0 |
Has Crop | False |
Has Settings | True |
Highlight Recovery | 26 |
Hue Adjustment Aqua | 0 |
Hue Adjustment Blue | 0 |
Hue Adjustment Green | 0 |
Hue Adjustment Magenta | 0 |
Hue Adjustment Orange | 0 |
Hue Adjustment Purple | 0 |
Hue Adjustment Red | 0 |
Hue Adjustment Yellow | 0 |
Hyperfocal Distance | 431.48 m |
ICC Profile Name | sRGB IEC61966-2.1 |
ISO | 200 |
Image Size | 720x514 |
Lens | smc PENTAX-FA J 75-300mm F4.5-5.8 AL |
Lens ID | smc PENTAX-FA J 75-300mm F4.5-5.8 AL |
Lens Info | 75-300mm f/4.5-5.8 |
Light Value | 12.4 |
Luminance Adjustment Aqua | 0 |
Luminance Adjustment Blue | 0 |
Luminance Adjustment Green | 0 |
Luminance Adjustment Magenta | 0 |
Luminance Adjustment Orange | 0 |
Luminance Adjustment Purple | 0 |
Luminance Adjustment Red | 0 |
Luminance Adjustment Yellow | 0 |
Luminance Smoothing | 0 |
Metering Mode | Multi-segment |
Parametric Darks | 0 |
Parametric Highlight Split | 75 |
Parametric Highlights | 0 |
Parametric Lights | 0 |
Parametric Midtone Split | 50 |
Parametric Shadow Split | 25 |
Parametric Shadows | 0 |
Rating | 0 |
Raw File Name | IMGP0316.DNG |
Red Hue | 0 |
Red Saturation | 0 |
Rights | George Cook |
Saturation | Low |
Saturation Adjustment Aqua | 0 |
Saturation Adjustment Blue | 0 |
Saturation Adjustment Green | 0 |
Saturation Adjustment Magenta | 0 |
Saturation Adjustment Orange | 0 |
Saturation Adjustment Purple | 0 |
Saturation Adjustment Red | 0 |
Saturation Adjustment Yellow | 0 |
Scale Factor To 35 mm Equivalent | 1.5 |
Scene Capture Type | Standard |
Sensing Method | One-chip color area |
Shadow Tint | 0 |
Shadows | 10 |
Sharpen Detail | 25 |
Sharpen Edge Masking | 0 |
Sharpen Radius | +1.0 |
Sharpness | Hard |
Split Toning Balance | 0 |
Split Toning Highlight Hue | 0 |
Split Toning Highlight Saturation | 0 |
Split Toning Shadow Hue | 0 |
Split Toning Shadow Saturation | 0 |
Subject | Wildlife / birds |
Subject Distance Range | Close |
Tint | -7 |
Tone Curve | 0, 0, 32, 22, 64, 56, 128, 128, 192, 196, 255, 255 |
Tone Curve Name | Medium Contrast |
Version | 4.2 |
Vibrance | +27 |
Vignette Amount | 0 |
White Balance | Auto |