Shooting information for this photo
Camera: | NIKON CORPORATION NIKON D800 |
Exposure: | 0.004 sec. (1/250) |
Aperture: | f/8.0 |
Focal Length: | 17.0 mm (35 mm equivalent: 17.0 mm) |
Flash: | Off, Did not fire |
Exposure mode: | Program AE |
Max Aperture: | 4.1 |
Resolution: | 300 x 300 dpi |
Original Date: | 2013:05:15 15:34:57.00 |
Created on: | 2013:05:15 15:34:57.00 |
Modified on: | 2013:06:07 19:35:40 |
Software: | Adobe Photoshop Lightroom 4.4 (Windows) |
Copyright: | Sven Scholz |
Already Applied | True |
Approximate Focus Distance | 0.84 |
Artist | Sven Scholz |
Auto Lateral CA | 0 |
Blacks 2012 | +46 |
Blue Hue | 0 |
Blue Saturation | 0 |
CFA Pattern | [Red,Green][Green,Blue] |
Camera Profile | Adobe Standard |
Circle Of Confusion | 0.030 mm |
Clarity 2012 | +17 |
Color Noise Reduction | 25 |
Color Noise Reduction Detail | 50 |
Color Temperature | 5300 |
Contrast | Normal |
Contrast 2012 | +9 |
Convert To Grayscale | False |
Creator | Sven Scholz |
Crop Angle | 0 |
Crop Bottom | 0.955182 |
Crop Constrain To Warp | 0 |
Crop Height | 4348 |
Crop Left | 0.057423 |
Crop Right | 0.942577 |
Crop Top | 0.070028 |
Crop Unit | pixels |
Crop Width | 6515 |
Custom Rendered | Normal |
Date Created | 2013:05:15 15:34:57.00 |
Defringe Green Amount | 0 |
Defringe Green Hue Hi | 60 |
Defringe Green Hue Lo | 40 |
Defringe Purple Amount | 0 |
Defringe Purple Hue Hi | 70 |
Defringe Purple Hue Lo | 30 |
Digital Zoom Ratio | 1 |
Exposure 2012 | +0.45 |
Exposure Compensation | 0 |
Exposure Mode | Auto |
Field Of View | 93.3 deg |
Focal Length In 35mm Format | 17 mm |
Format | image/jpeg |
Gain Control | Low gain up |
Grain Amount | 0 |
Green Hue | 0 |
Green Saturation | 0 |
Has Crop | True |
Has Settings | True |
Highlights 2012 | -75 |
Hue Adjustment Aqua | 0 |
Hue Adjustment Blue | 0 |
Hue Adjustment Green | 0 |
Hue Adjustment Magenta | 0 |
Hue Adjustment Orange | 0 |
Hue Adjustment Purple | 0 |
Hue Adjustment Red | 0 |
Hue Adjustment Yellow | 0 |
Hyperfocal Distance | 1.20 m |
ISO | 400 |
Image Number | 1163 |
Image Size | 6515x4348 |
Lens | 10.0-24.0 mm f/3.5-4.5 |
Lens ID | AF-S DX Nikkor 10-24mm f/3.5-4.5G ED |
Lens Info | 10-24mm f/3.5-4.5 |
Lens Manual Distortion Amount | 0 |
Lens Model | 10.0-24.0 mm f/3.5-4.5 |
Lens Profile Chromatic Aberration Scale | 100 |
Lens Profile Distortion Scale | 100 |
Lens Profile Enable | 1 |
Lens Profile Filename | NIKON D90 (Nikon AF-S DX NIKKOR 10-24mm f3.5-4.5G ED) - RAW.lcp |
Lens Profile Name | Adobe (Nikon AF-S DX NIKKOR 10-24mm f/3.5-4.5G ED) |
Lens Profile Setup | Custom |
Lens Profile Vignetting Scale | 100 |
Light Source | Unknown |
Light Value | 12.0 |
Luminance Adjustment Aqua | 0 |
Luminance Adjustment Blue | -41 |
Luminance Adjustment Green | 0 |
Luminance Adjustment Magenta | 0 |
Luminance Adjustment Orange | 0 |
Luminance Adjustment Purple | 0 |
Luminance Adjustment Red | 0 |
Luminance Adjustment Yellow | 0 |
Luminance Smoothing | 0 |
Metering Mode | Center-weighted average |
Parametric Darks | 0 |
Parametric Highlight Split | 75 |
Parametric Highlights | 0 |
Parametric Lights | 0 |
Parametric Midtone Split | 50 |
Parametric Shadow Split | 25 |
Parametric Shadows | 0 |
Perspective Horizontal | 0 |
Perspective Rotate | 0.0 |
Perspective Scale | 100 |
Perspective Vertical | 0 |
Post Crop Vignette Amount | +7 |
Post Crop Vignette Feather | 55 |
Post Crop Vignette Midpoint | 59 |
Post Crop Vignette Roundness | +100 |
Post Crop Vignette Style | 1 |
Process Version | 6.7 |
Red Hue | 0 |
Red Saturation | 0 |
Rights | Sven Scholz |
Saturation | Normal |
Saturation Adjustment Aqua | 0 |
Saturation Adjustment Blue | -67 |
Saturation Adjustment Green | +67 |
Saturation Adjustment Magenta | 0 |
Saturation Adjustment Orange | 0 |
Saturation Adjustment Purple | 0 |
Saturation Adjustment Red | 0 |
Saturation Adjustment Yellow | 0 |
Scale Factor To 35 mm Equivalent | 1.0 |
Scene Capture Type | Standard |
Scene Type | Directly photographed |
Sensing Method | One-chip color area |
Sensitivity Type | Recommended Exposure Index |
Shadow Tint | 0 |
Shadows 2012 | +40 |
Sharpen Detail | 25 |
Sharpen Edge Masking | 0 |
Sharpen Radius | +1.0 |
Sharpness | Normal |
Split Toning Balance | 0 |
Split Toning Highlight Hue | 0 |
Split Toning Highlight Saturation | 0 |
Split Toning Shadow Hue | 0 |
Split Toning Shadow Saturation | 0 |
Subject Distance Range | Unknown |
Tint | +10 |
Tone Curve Name 2012 | Custom |
Tone Curve PV2012 | 0, 0, 29, 19, 51, 51, 120, 133, 255, 255 |
Tone Curve PV2012 Blue | 0, 0, 255, 255 |
Tone Curve PV2012 Green | 0, 0, 255, 255 |
Tone Curve PV2012 Red | 0, 0, 255, 255 |
Version | 7.4 |
Vibrance | +22 |
Vignette Amount | 0 |
White Balance | Auto |
Whites 2012 | +42 |