Shooting information for this photo
Camera: | LEICA CAMERA AG LEICA Q2 MONO |
Exposure: | 0.008 sec. (1/125) |
Aperture: | f/1.7 |
Focal Length: | 28.0 mm (35 mm equivalent: 28.0 mm) |
Flash: | Off, Did not fire |
Exposure mode: | Manual |
Max Aperture: | 1.7 |
Resolution: | 240 x 240 dpi |
Original Date: | 2023:03:04 14:17:14 |
Created on: | 2023:03:04 14:17:14 |
Modified on: | 2023:03:05 17:18:19 |
Software: | Adobe Photoshop Lightroom Classic 12.2 (Macintosh) |
Copyright: | Stefan Stroessenreuther |
Already Applied | True |
Artist | Stefan Stroessenreuther |
Authors Position | Hobbyfotograf |
Auto Lateral CA | 0 |
Blacks 2012 | +100 |
Blue Hue | 0 |
Blue Saturation | 0 |
Camera Profile | Embedded |
Circle Of Confusion | 0.030 mm |
Clarity 2012 | +25 |
Color Grade Blending | 50 |
Color Grade Global Hue | 0 |
Color Grade Global Lum | 0 |
Color Grade Global Sat | 0 |
Color Grade Highlight Lum | 0 |
Color Grade Midtone Hue | 0 |
Color Grade Midtone Lum | 0 |
Color Grade Midtone Sat | 0 |
Color Grade Shadow Lum | 0 |
Color Noise Reduction | 0 |
Color Space | sRGB |
Contrast | Normal |
Contrast 2012 | 0 |
Convert To Grayscale | False |
Creator | Stefan Stroessenreuther |
Crop Angle | 0 |
Crop Bottom | 1 |
Crop Constrain To Warp | 0 |
Crop Left | 0 |
Crop Right | 0.966341 |
Crop Top | 0.033659 |
Custom Rendered | Normal |
Date Created | 2023:03:04 14:17:14+02:00 |
Defringe Green Amount | 0 |
Defringe Green Hue Hi | 60 |
Defringe Green Hue Lo | 40 |
Defringe Purple Amount | 0 |
Defringe Purple Hue Hi | 70 |
Defringe Purple Hue Lo | 30 |
Dehaze | +10 |
Description | Flughafen Tempelhof Berlin |
Digital Zoom Ratio | 1 |
Distortion Correction Already Applied | True |
Exposure 2012 | 0.00 |
Exposure Compensation | 0 |
Field Of View | 65.5 deg |
Focal Length In 35mm Format | 28 mm |
Format | image/jpeg |
Grain Amount | 0 |
Green Hue | 0 |
Green Saturation | 0 |
Has Crop | True |
Has Settings | True |
Highlights 2012 | 0 |
Hue Adjustment Aqua | 0 |
Hue Adjustment Blue | 0 |
Hue Adjustment Green | 0 |
Hue Adjustment Magenta | 0 |
Hue Adjustment Orange | 0 |
Hue Adjustment Purple | 0 |
Hue Adjustment Red | 0 |
Hue Adjustment Yellow | 0 |
Hyperfocal Distance | 15.35 m |
ISO | 800 |
Image Description | Flughafen Tempelhof Berlin |
Image Size | 2480x1655 |
Incremental Temperature | 0 |
Incremental Tint | 0 |
Label | Tempelhof Berlin |
Lens | SUMMILUX 1:1.7/28 ASPH. |
Lens Info | 28mm f/1.53125-2.97265625 |
Lens Manual Distortion Amount | 0 |
Lens Model | SUMMILUX 1:1.7/28 ASPH. |
Lens Profile Enable | 0 |
Light Source | Unknown |
Light Value | 5.5 |
Luminance Adjustment Aqua | 0 |
Luminance Adjustment Blue | 0 |
Luminance Adjustment Green | 0 |
Luminance Adjustment Magenta | 0 |
Luminance Adjustment Orange | 0 |
Luminance Adjustment Purple | 0 |
Luminance Adjustment Red | 0 |
Luminance Adjustment Yellow | 0 |
Luminance Smoothing | 0 |
Marked | True |
Metering Mode | Other |
Override Look Vignette | False |
Parametric Darks | -13 |
Parametric Highlight Split | 75 |
Parametric Highlights | 0 |
Parametric Lights | -43 |
Parametric Midtone Split | 50 |
Parametric Shadow Split | 25 |
Parametric Shadows | 0 |
Perspective Aspect | 0 |
Perspective Horizontal | 0 |
Perspective Rotate | 0.0 |
Perspective Scale | 100 |
Perspective Upright | 0 |
Perspective Vertical | 0 |
Perspective X | 0.00 |
Perspective Y | 0.00 |
Post Crop Vignette Amount | 0 |
Preserved File Name | L1014401.DNG |
Process Version | 11.0 |
Raw File Name | L1014401-Bearbeitet.tif |
Red Hue | 0 |
Red Saturation | 0 |
Rights | Stefan Stroessenreuther |
Saturation | 0 |
Saturation Adjustment Aqua | 0 |
Saturation Adjustment Blue | 0 |
Saturation Adjustment Green | 0 |
Saturation Adjustment Magenta | 0 |
Saturation Adjustment Orange | 0 |
Saturation Adjustment Purple | 0 |
Saturation Adjustment Red | 0 |
Saturation Adjustment Yellow | 0 |
Scale Factor To 35 mm Equivalent | 1.0 |
Scene Capture Type | Standard |
Sensitivity Type | Standard Output Sensitivity |
Shadow Tint | 0 |
Shadows 2012 | 0 |
Sharpness | Normal |
Split Toning Balance | 0 |
Split Toning Highlight Hue | 0 |
Split Toning Highlight Saturation | 0 |
Split Toning Shadow Hue | 0 |
Split Toning Shadow Saturation | 0 |
Standard Output Sensitivity | 800 |
Subject | Berlin, Flughafen, Tempelhof |
Texture | +10 |
Tone Curve Name 2012 | Linear |
Tone Curve PV2012 | 0, 0, 255, 255 |
Tone Curve PV2012 Blue | 0, 0, 255, 255 |
Tone Curve PV2012 Green | 0, 0, 255, 255 |
Tone Curve PV2012 Red | 0, 0, 255, 255 |
Usage Terms | Stefan Stroessenreuther |
Version | 15.2 |
Vibrance | 0 |
Vignette Amount | 0 |
Web Statement | Stefan Stroessenreuther |
Weighted Flat Subject | Berlin, Flughafen, Tempelhof |
White Balance | As Shot |
Whites 2012 | 0 |