Shooting information for this photo
Camera: | OM Digital Solutions OM-1 |
Exposure: | 0.00156 sec. (1/640) |
Aperture: | f/5.6 |
Focal Length: | 500.0 mm (35 mm equivalent: 1002.0 mm) |
Flash: | Off, Did not fire |
Exposure mode: | Manual |
Max Aperture: | 5.6 |
Resolution: | 240 x 240 dpi |
Original Date: | 2022:10:17 09:18:38 |
Created on: | 2022:10:17 09:18:38 |
Modified on: | 2022:10:21 16:38:42 |
Software: | Adobe Photoshop Lightroom Classic 12.0 (Macintosh) |
Copyright: | Stefan Stroessenreuther |
Already Applied | True |
Artist | Stefan Stroessenreuther |
Authors Position | Managementberatung SMCT-MANAGEMENT.DE |
Auto Lateral CA | 0 |
Blacks 2012 | 0 |
Blue Hue | 0 |
Blue Saturation | 0 |
CFA Pattern | [Red,Green][Green,Blue] |
Camera Profile | Embedded |
Camera Profiles Aperture Value | 4.970854 |
Camera Profiles Author | Adobe |
Camera Profiles Auto Scale | False |
Camera Profiles Camera Pretty Name | OM Digital Solutions OM-1 |
Camera Profiles Camera Raw Profile | True |
Camera Profiles Focal Length | 500 |
Camera Profiles Focus Distance | 10000 |
Camera Profiles Lens | OLYMPUS M.150-400mm F4.5 TC |
Camera Profiles Lens Pretty Name | OLYMPUS M.150-400mm F4.5 TC |
Camera Profiles Make | OM Digital Solutions |
Camera Profiles Model | OM-1 |
Camera Profiles Perspective Model Image X Center | 0.498851 |
Camera Profiles Perspective Model Image Y Center | 0.5 |
Camera Profiles Perspective Model Radial Distort Param 1 | 39.092953 |
Camera Profiles Perspective Model Radial Distort Param 2 | 6342.939103 |
Camera Profiles Perspective Model Radial Distort Param 3 | 1561261.234619 |
Camera Profiles Perspective Model Scale Factor | 0.977597 |
Camera Profiles Perspective Model Version | 2 |
Camera Profiles Profile Name | Camera Settings |
Camera Profiles Sensor Format Factor | 2.006163 |
Camera Profiles Unique Camera Model | OM Digital Solutions OM-1 |
Circle Of Confusion | 0.015 mm |
Clarity 2012 | 0 |
Color Grade Blending | 50 |
Color Grade Global Hue | 0 |
Color Grade Global Lum | 0 |
Color Grade Global Sat | 0 |
Color Grade Highlight Lum | 0 |
Color Grade Midtone Hue | 0 |
Color Grade Midtone Lum | 0 |
Color Grade Midtone Sat | 0 |
Color Grade Shadow Lum | 0 |
Color Noise Reduction | 0 |
Color Space | sRGB |
Contrast | Normal |
Contrast 2012 | 0 |
Convert To Grayscale | False |
Creator | Stefan Stroessenreuther |
Crop Angle | 0 |
Crop Bottom | 1 |
Crop Constrain To Warp | 0 |
Crop Left | 0 |
Crop Right | 1 |
Crop Top | 0 |
Custom Rendered | Normal |
Date Created | 2022 |
Defringe Green Amount | 0 |
Defringe Green Hue Hi | 60 |
Defringe Green Hue Lo | 40 |
Defringe Purple Amount | 0 |
Defringe Purple Hue Hi | 70 |
Defringe Purple Hue Lo | 30 |
Dehaze | 0 |
Description | Ostsee, Berlin, Steinbruch, Wetzlar Monochrome Q2 Leica |
Digital Zoom Ratio | 1 |
Distortion Correction Already Applied | True |
Exposure 2012 | 0.00 |
Exposure Compensation | 0 |
Exposure Mode | Manual |
Field Of View | 2.1 deg |
Flash Compensation | 0 |
Focal Length In 35mm Format | 1002 mm |
Format | image/jpeg |
Gain Control | High gain up |
Grain Amount | 0 |
Green Hue | 0 |
Green Saturation | 0 |
Has Crop | False |
Has Settings | True |
Hierarchical Subject | Bayern, Berlin, Brandenburg, Franken, Hessen, Leica, Mecklenburg-Vorpommern, Niedersachsen, Nordsee, Ostsee, Q2, Rheinland-Pfalz, Steinbruch, Wetzlar Monochrome |
Highlights 2012 | -48 |
Hue Adjustment Aqua | 0 |
Hue Adjustment Blue | 0 |
Hue Adjustment Green | 0 |
Hue Adjustment Magenta | 0 |
Hue Adjustment Orange | 0 |
Hue Adjustment Purple | 0 |
Hue Adjustment Red | 0 |
Hue Adjustment Yellow | 0 |
Hyperfocal Distance | 2977.55 m |
ISO | 1600 |
Image Description | Ostsee, Berlin, Steinbruch, Wetzlar Monochrome Q2 Leica |
Image Size | 2480x1860 |
Incremental Temperature | 0 |
Incremental Tint | 0 |
Label | Leica Q2 Monochrome |
Lateral Chromatic Aberration Correction Already Applied | True |
Lens | OLYMPUS M.150-400mm F4.5 TC |
Lens Info | 188-500mm f/5.59999990463257 |
Lens Manual Distortion Amount | 0 |
Lens Model | OLYMPUS M.150-400mm F4.5 TC |
Lens Profile Enable | 0 |
Light Source | Unknown |
Light Value | 10.3 |
Luminance Adjustment Aqua | 0 |
Luminance Adjustment Blue | 0 |
Luminance Adjustment Green | 0 |
Luminance Adjustment Magenta | 0 |
Luminance Adjustment Orange | 0 |
Luminance Adjustment Purple | 0 |
Luminance Adjustment Red | 0 |
Luminance Adjustment Yellow | 0 |
Luminance Smoothing | 0 |
Marked | True |
Metering Mode | Multi-segment |
Override Look Vignette | False |
Parametric Darks | -13 |
Parametric Highlight Split | 75 |
Parametric Highlights | 0 |
Parametric Lights | -12 |
Parametric Midtone Split | 50 |
Parametric Shadow Split | 25 |
Parametric Shadows | 0 |
Perspective Aspect | 0 |
Perspective Horizontal | 0 |
Perspective Rotate | 0.0 |
Perspective Scale | 100 |
Perspective Upright | 0 |
Perspective Vertical | 0 |
Perspective X | 0.00 |
Perspective Y | 0.00 |
Post Crop Vignette Amount | 0 |
Preserved File Name | PA170602.ORF |
Process Version | 11.0 |
Raw File Name | PA170602-Bearbeitet-Bearbeitet .tif |
Red Hue | 0 |
Red Saturation | 0 |
Rights | Stefan Stroessenreuther |
Saturation | Normal |
Saturation Adjustment Aqua | 0 |
Saturation Adjustment Blue | 0 |
Saturation Adjustment Green | 0 |
Saturation Adjustment Magenta | 0 |
Saturation Adjustment Orange | 0 |
Saturation Adjustment Purple | 0 |
Saturation Adjustment Red | 0 |
Saturation Adjustment Yellow | 0 |
Scale Factor To 35 mm Equivalent | 2.0 |
Scene Capture Type | Standard |
Sensitivity Type | Standard Output Sensitivity |
Shadow Tint | 0 |
Shadows 2012 | 0 |
Sharpness | Normal |
Split Toning Balance | 0 |
Split Toning Highlight Hue | 0 |
Split Toning Highlight Saturation | 0 |
Split Toning Shadow Hue | 0 |
Split Toning Shadow Saturation | 0 |
Standard Output Sensitivity | 1 |
Subject | Bayern, Berlin, Brandenburg, Franken, Hessen, Leica, Mecklenburg-Vorpommern, Niedersachsen, Nordsee, Ostsee, Q2, Rheinland-Pfalz, Steinbruch, Wetzlar Monochrome |
Texture | 0 |
Tone Curve Name 2012 | Linear |
Tone Curve PV2012 | 0, 0, 255, 255 |
Tone Curve PV2012 Blue | 0, 0, 255, 255 |
Tone Curve PV2012 Green | 0, 0, 255, 255 |
Tone Curve PV2012 Red | 0, 0, 255, 255 |
Version | 15.0 |
Vibrance | 0 |
Vignette Amount | 0 |
Weighted Flat Subject | Bayern, Berlin, Brandenburg, Franken, Hessen, Leica, Mecklenburg-Vorpommern, Niedersachsen, Nordsee, Ostsee, Q2, Rheinland-Pfalz, Steinbruch, Wetzlar Monochrome |
White Balance | Auto |
Whites 2012 | 0 |