Shooting information for this photo
Camera: | NIKON CORPORATION NIKON D810 |
Exposure: | 0.5 sec. |
Aperture: | f/5.6 |
Focal Length: | 24.0 mm (35 mm equivalent: 24.0 mm) |
Flash: | Off, Did not fire |
Exposure mode: | Manual |
Max Aperture: | 4.0 |
Resolution: | 300 x 300 dpi |
Dimension: | 1730 x 1197 pixels |
Original Date: | 2023:08:21 19:02:31 |
Created on: | 2023:08:21 19:02:31 |
Modified on: | 2023:09:10 08:45:01 |
Software: | Adobe Photoshop 24.0 (Windows) |
Copyright: | Stephan Wolf.All rights reserved! |
Already Applied | True |
Approximate Focus Distance | 10 |
Artist | Stephan Wolf |
Auto Lateral CA | 1 |
Blacks 2012 | +25 |
Blue Hue | 0 |
Blue Saturation | 0 |
Brightness | 0 |
Camera Profile | Adobe Standard |
Circle Of Confusion | 0.030 mm |
Clarity 2012 | 0 |
Color Grade Blending | 50 |
Color Grade Global Hue | 0 |
Color Grade Global Lum | 0 |
Color Grade Global Sat | 0 |
Color Grade Highlight Lum | 0 |
Color Grade Midtone Hue | 0 |
Color Grade Midtone Lum | 0 |
Color Grade Midtone Sat | 0 |
Color Grade Shadow Lum | 0 |
Color Mode | RGB |
Color Noise Reduction | 25 |
Color Noise Reduction Detail | 50 |
Color Noise Reduction Smoothness | 50 |
Color Space | Uncalibrated |
Color Temperature | 6500 |
Contrast | Normal |
Contrast 2012 | -33 |
Creator | Stephan Wolf |
Curve Refine Saturation | 100 |
Custom Rendered | Normal |
Date Created | 2023:08:21 19:02:31.033 |
Defringe Green Amount | 0 |
Defringe Green Hue Hi | 60 |
Defringe Green Hue Lo | 40 |
Defringe Purple Amount | 0 |
Defringe Purple Hue Hi | 70 |
Defringe Purple Hue Lo | 30 |
Dehaze | 0 |
Digital Zoom Ratio | 1 |
Distortion Correction Already Applied | True |
Exposure 2012 | -1.00 |
Exposure Compensation | +2 |
Exposure Mode | Manual |
Field Of View | 73.7 deg |
Focal Length In 35mm Format | 24 mm |
Format | image/jpeg |
Gain Control | High gain up |
Grain Amount | 0 |
Green Hue | 0 |
Green Saturation | 0 |
Has Crop | False |
Has Settings | True |
Highlights 2012 | 0 |
Hue Adjustment Aqua | 0 |
Hue Adjustment Blue | 0 |
Hue Adjustment Green | 0 |
Hue Adjustment Magenta | 0 |
Hue Adjustment Orange | 0 |
Hue Adjustment Purple | 0 |
Hue Adjustment Red | 0 |
Hue Adjustment Yellow | 0 |
Hyperfocal Distance | 3.42 m |
ICC Profile Name | Adobe RGB (1998) |
ISO | 1000 |
Image Number | 10612 |
Image Size | 1730x1197 |
Lateral Chromatic Aberration Correction Already Applied | True |
Lens | 24.0-120.0 mm f/4.0 |
Lens ID | AF-S Nikkor 24-120mm f/4G ED VR |
Lens Info | 24-120mm f/4 |
Lens Manual Distortion Amount | 0 |
Lens Model | 24.0-120.0 mm f/4.0 |
Lens Profile Distortion Scale | 100 |
Lens Profile Enable | 1 |
Lens Profile Filename | NIKON D3X (Nikon AF-S NIKKOR 24-120mm f4G ED VR) v2 - RAW.lcp |
Lens Profile Is Embedded | False |
Lens Profile Name | Adobe (Nikon AF-S NIKKOR 24-120mm f/4G ED VR) v2 |
Lens Profile Setup | LensDefaults |
Lens Profile Vignetting Scale | 100 |
Light Source | Cloudy |
Light Value | 2.6 |
Look Amount | 1 |
Look Copyright | © 2018 Adobe Systems, Inc. |
Look Group | Profiles |
Look Name | Adobe Color |
Look Parameters Camera Profile | Adobe Standard |
Look Parameters Convert To Grayscale | False |
Look Parameters Look Table | E1095149FDB39D7A057BAB208837E2 E1 |
Look Parameters Process Version | 15.4 |
Look Parameters Tone Curve PV2012 | 0, 0, 22, 16, 40, 35, 127, 127, 224, 230, 240, 246, 255, 255 |
Look Parameters Tone Curve PV2012 Blue | 0, 0, 255, 255 |
Look Parameters Tone Curve PV2012 Green | 0, 0, 255, 255 |
Look Parameters Tone Curve PV2012 Red | 0, 0, 255, 255 |
Look Parameters Version | 15.5.1 |
Look Supports Amount | false |
Look Supports Monochrome | false |
Look Supports Output Referred | false |
Luminance Adjustment Aqua | 0 |
Luminance Adjustment Blue | 0 |
Luminance Adjustment Green | 0 |
Luminance Adjustment Magenta | 0 |
Luminance Adjustment Orange | 0 |
Luminance Adjustment Purple | 0 |
Luminance Adjustment Red | 0 |
Luminance Adjustment Yellow | 0 |
Luminance Smoothing | 0 |
Metering Mode | Multi-segment |
Override Look Vignette | False |
Parametric Darks | 0 |
Parametric Highlight Split | 75 |
Parametric Highlights | 0 |
Parametric Lights | 0 |
Parametric Midtone Split | 50 |
Parametric Shadow Split | 25 |
Parametric Shadows | 0 |
Perspective Aspect | 0 |
Perspective Horizontal | 0 |
Perspective Rotate | 0.0 |
Perspective Scale | 100 |
Perspective Upright | 0 |
Perspective Vertical | 0 |
Perspective X | 0.00 |
Perspective Y | 0.00 |
Post Crop Vignette Amount | 0 |
Preserved File Name | 230821_190234_Asien_Urlaub_Lao s.NEF |
Process Version | 15.4 |
Red Hue | 0 |
Red Saturation | 0 |
Reference Black White | 0 255 0 255 0 255 |
Rights | Stephan Wolf.All rights reserved! |
Saturation | Normal |
Saturation Adjustment Aqua | 0 |
Saturation Adjustment Blue | 0 |
Saturation Adjustment Green | 0 |
Saturation Adjustment Magenta | 0 |
Saturation Adjustment Orange | 0 |
Saturation Adjustment Purple | 0 |
Saturation Adjustment Red | 0 |
Saturation Adjustment Yellow | 0 |
Scale Factor To 35 mm Equivalent | 1.0 |
Scene Capture Type | Standard |
Scene Type | Directly photographed |
Sensing Method | One-chip color area |
Sensitivity Type | Recommended Exposure Index |
Shadow Tint | 0 |
Shadows | 0 |
Shadows 2012 | 0 |
Sharpen Detail | 25 |
Sharpen Edge Masking | 0 |
Sharpen Radius | +1.0 |
Sharpness | Normal |
Split Toning Balance | 0 |
Split Toning Highlight Hue | 0 |
Split Toning Highlight Saturation | 0 |
Split Toning Shadow Hue | 0 |
Split Toning Shadow Saturation | 0 |
Subject | Hanoi, Vietnam, Quang truong Dong Kinh Nghia Thuc |
Subject Distance Range | Unknown |
Texture | 0 |
Tint | -7 |
Tone Curve Name 2012 | Custom |
Tone Curve PV2012 | 0, 0, 17, 26, 34, 44, 51, 60, 68, 74, 85, 89, 102, 105, 119, 120, 136, 135, 153, 151, 170, 167, 187, 183, 204, 200, 221, 218, 238, 236, 255, 255 |
Tone Curve PV2012 Blue | 0, 0, 255, 255 |
Tone Curve PV2012 Green | 0, 0, 255, 255 |
Tone Curve PV2012 Red | 0, 0, 255, 255 |
Version | 15.5.1 |
Vibrance | 0 |
Vignette Amount | 0 |
Vignette Correction Already Applied | True |
White Balance | Manual |
Whites 2012 | 0 |
GPS Information |
GPS Altitude | 8.1 m Above Sea Level |
GPS Altitude Ref | Above Sea Level |
GPS Date Stamp | 2023:08:21 |
GPS Date/Time | 2023:08:21 12:02:31Z |
GPS Latitude | 21 deg 1' 54.68" N |
GPS Latitude Ref | North |
GPS Longitude | 105 deg 51' 5.52" E |
GPS Longitude Ref | East |
GPS Map Datum | WGS-84 |
GPS Position | 21 deg 1' 54.68" N, 105 deg 51' 5.52" E |
GPS Time Stamp | 12:02:31 |
GPS Version ID | 2.2.0.0 |