Shooting information for this photo
Camera: | NIKON CORPORATION NIKON D700 |
Exposure: | 0.05 sec. (1/20) |
Aperture: | f/2.8 |
Focal Length: | 105.0 mm (35 mm equivalent: 105.0 mm) |
Flash: | No Flash |
Exposure mode: | Aperture-priority AE |
Max Aperture: | 2.8 |
Resolution: | 240 x 240 dpi |
Dimension: | 4256 x 2832 pixels |
Original Date: | 2008:09:11 19:55:43.49 |
Digitized Date: | 2008:09:11 19:55:43.49+02:00 |
Created on: | 2008:09:11 19:55:43.49 |
Modified on: | 2008:09:21 17:01:01.49 |
Software: | Adobe Photoshop CS3 Windows |
Copyright: | Thore Siebrands |
Already Applied | True |
Artist | Thore Siebrands |
Blue Hue | 0 |
Blue Saturation | 0 |
Brightness | 0 |
CFA Pattern | [Red,Green][Green,Blue] |
Camera Profile | Beta |
Chromatic Aberration B | 0 |
Chromatic Aberration R | 0 |
Circle Of Confusion | 0.030 mm |
Clarity | +38 |
Color Mode | RGB |
Color Noise Reduction | 25 |
Color Space | Uncalibrated |
Color Temperature | 3500 |
Contrast | +31 |
Convert To Grayscale | False |
Country | Germany |
Country Code | DE |
Creator | Thore Siebrands |
Custom Rendered | Normal |
Defringe | 0 |
Digital Zoom Ratio | 1 |
Exposure | -0.30 |
Exposure Compensation | -1 |
Exposure Mode | Auto |
Field Of View | 19.5 deg |
Fill Light | 0 |
Flash Fired | False |
Flash Function | False |
Flash Mode | Unknown |
Flash Red Eye Mode | False |
Flash Return | No return detection |
Focal Length In 35mm Format | 105 mm |
Format | image/jpeg |
Gain Control | Low gain up |
Green Hue | 0 |
Green Saturation | 0 |
Has Crop | False |
Has Settings | True |
Hierarchical Subject | AF Micro 105 mm/2.8D, D700 |
Highlight Recovery | 3 |
Hue Adjustment Aqua | 0 |
Hue Adjustment Blue | 0 |
Hue Adjustment Green | 0 |
Hue Adjustment Magenta | 0 |
Hue Adjustment Orange | 0 |
Hue Adjustment Purple | 0 |
Hue Adjustment Red | 0 |
Hue Adjustment Yellow | 0 |
Hyperfocal Distance | 131.05 m |
ICC Profile Name | Adobe RGB (1998) |
ISO | 400 |
Image Number | 2078 |
Image Size | 4256x2832 |
Label | gelb |
Lens | 105.0 mm f/2.8 |
Lens Info | 105mm f/2.8 |
Light Source | Unknown |
Light Value | 5.3 |
Location | S-Bahnhof Tempelhof |
Luminance Adjustment Aqua | 0 |
Luminance Adjustment Blue | 0 |
Luminance Adjustment Green | 0 |
Luminance Adjustment Magenta | 0 |
Luminance Adjustment Orange | 0 |
Luminance Adjustment Purple | 0 |
Luminance Adjustment Red | 0 |
Luminance Adjustment Yellow | 0 |
Luminance Smoothing | 0 |
Metering Mode | Multi-segment |
Parametric Darks | 0 |
Parametric Highlight Split | 75 |
Parametric Highlights | 0 |
Parametric Lights | 0 |
Parametric Midtone Split | 50 |
Parametric Shadow Split | 25 |
Parametric Shadows | 0 |
Photometric Interpretation | RGB |
Post Crop Vignette Amount | 0 |
Rating | 0 |
Raw File Name | _D7H1906.NEF |
Red Hue | 0 |
Red Saturation | 0 |
Rights | Thore Siebrands |
Samples Per Pixel | 3 |
Saturation | 0 |
Saturation Adjustment Aqua | 0 |
Saturation Adjustment Blue | 0 |
Saturation Adjustment Green | 0 |
Saturation Adjustment Magenta | 0 |
Saturation Adjustment Orange | 0 |
Saturation Adjustment Purple | 0 |
Saturation Adjustment Red | 0 |
Saturation Adjustment Yellow | 0 |
Scale Factor To 35 mm Equivalent | 1.0 |
Scene Capture Type | Standard |
Scene Type | Directly photographed |
Sensing Method | One-chip color area |
Shadow Tint | 0 |
Shadows | 1 |
Sharpen Detail | 25 |
Sharpen Edge Masking | 0 |
Sharpen Radius | +1.0 |
Sharpness | 96 |
Sidecar For Extension | NEF |
Split Toning Balance | 0 |
Split Toning Highlight Hue | 0 |
Split Toning Highlight Saturation | 0 |
Split Toning Shadow Hue | 0 |
Split Toning Shadow Saturation | 0 |
State | Berlin |
Subject | AF Micro 105 mm/2.8D, D700 |
Subject Distance Range | Unknown |
Tint | -25 |
Tone Curve | 0, 0, 32, 22, 64, 56, 128, 128, 192, 196, 255, 255 |
Tone Curve Name | Medium Contrast |
Version | 4.5 |
Vibrance | +35 |
Vignette Amount | 0 |
White Balance | As Shot |