Shooting information for this photo
Camera: | NIKON CORPORATION NIKON D700 |
Exposure: | 0.01667 sec. (1/60) |
Aperture: | f/2.8 |
Focal Length: | 70.0 mm (35 mm equivalent: 70.0 mm) |
Flash: | No Flash |
Exposure mode: | Aperture-priority AE |
Max Aperture: | 2.8 |
Resolution: | 240 x 240 dpi |
Original Date: | 2011:09:01 13:39:55.25 |
Created on: | 2011:09:01 13:39:55.25 |
Modified on: | 2011:11:13 23:58:20 |
Software: | Adobe Photoshop Camera Raw 6.5 (Macintosh) |
Copyright: | Thore Siebrands |
Already Applied | True |
Approximate Focus Distance | 0.6 |
Artist | Thore Siebrands |
Blue Hue | 0 |
Blue Saturation | 0 |
Brightness | +50 |
CFA Pattern | [Red,Green][Green,Blue] |
Camera Profile | Adobe Standard |
Chromatic Aberration B | 0 |
Chromatic Aberration R | 0 |
Circle Of Confusion | 0.030 mm |
Clarity | +33 |
Color Noise Reduction | 25 |
Color Noise Reduction Detail | 50 |
Color Space | Uncalibrated |
Color Temperature | 3050 |
Contrast | +25 |
Convert To Grayscale | False |
Country | Frankreich |
Country Code | FR |
Creator | Thore Siebrands |
Crop Angle | 0 |
Crop Bottom | 0.941033 |
Crop Constrain To Warp | 1 |
Crop Left | 0.115881 |
Crop Right | 0.959065 |
Crop Top | 0.097848 |
Custom Rendered | Normal |
Defringe | 0 |
Depth Of Field | 0.01 m (0.59 - 0.61) |
Digital Zoom Ratio | 1 |
Exposure | -1.45 |
Exposure Compensation | 0 |
Exposure Mode | Auto |
Field Of View | 28.8 deg |
Fill Light | 48 |
Focal Length In 35mm Format | 70 mm |
Format | image/jpeg |
Gain Control | None |
Grain Amount | 0 |
Green Hue | 0 |
Green Saturation | 0 |
Has Crop | True |
Has Settings | True |
Hierarchical Subject | Auvergne, Auvergne|Frankreich, Auvergne|Frankreich|France, Auvergne|St. Nectaire, Auvergne|St. Nectaire|Notre-Dame-du-Mont-Co rnadore de Saint-Nectaire, Kamera|D700, Kamera|AF-S 24-70 mm/2.8G ED, Auvergne|Kirche|church |
Highlight Recovery | 0 |
Hue Adjustment Aqua | 0 |
Hue Adjustment Blue | 0 |
Hue Adjustment Green | 0 |
Hue Adjustment Magenta | 0 |
Hue Adjustment Orange | 0 |
Hue Adjustment Purple | 0 |
Hue Adjustment Red | 0 |
Hue Adjustment Yellow | 0 |
Hyperfocal Distance | 58.24 m |
ISO | 320 |
Image Number | 31055 |
Image Size | 2388x3589 |
Label | gelb |
Lens | 24.0-70.0 mm f/2.8 |
Lens ID | AF-S Zoom-Nikkor 24-70mm f/2.8G ED |
Lens Info | 24-70mm f/2.8 |
Lens Manual Distortion Amount | +4 |
Lens Model | 24.0-70.0 mm f/2.8 |
Lens Profile Chromatic Aberration Scale | 100 |
Lens Profile Distortion Scale | 100 |
Lens Profile Enable | 1 |
Lens Profile Filename | NIKON D3X (Nikon FX 24-70mm f2.8 G ED) - RAW.lcp |
Lens Profile Name | Adobe (Nikon AF-S NIKKOR 24-70mm f/2.8G ED) |
Lens Profile Setup | LensDefaults |
Lens Profile Vignetting Scale | 100 |
Light Source | Unknown |
Light Value | 7.2 |
Location | Notre-Dame-du-Mont-Cornadore de Saint-Nectaire |
Luminance Adjustment Aqua | 0 |
Luminance Adjustment Blue | 0 |
Luminance Adjustment Green | 0 |
Luminance Adjustment Magenta | 0 |
Luminance Adjustment Orange | 0 |
Luminance Adjustment Purple | 0 |
Luminance Adjustment Red | 0 |
Luminance Adjustment Yellow | 0 |
Luminance Smoothing | 0 |
Metering Mode | Multi-segment |
Parametric Darks | 0 |
Parametric Highlight Split | 75 |
Parametric Highlights | 0 |
Parametric Lights | 0 |
Parametric Midtone Split | 50 |
Parametric Shadow Split | 25 |
Parametric Shadows | 0 |
Perspective Horizontal | -17 |
Perspective Rotate | -2.6 |
Perspective Scale | 100 |
Perspective Vertical | 0 |
Post Crop Vignette Amount | 0 |
Process Version | 5.7 |
Raw File Name | D7H_9766.NEF |
Red Hue | 0 |
Red Saturation | 0 |
Rights | Thore Siebrands |
Saturation | 0 |
Saturation Adjustment Aqua | 0 |
Saturation Adjustment Blue | 0 |
Saturation Adjustment Green | 0 |
Saturation Adjustment Magenta | 0 |
Saturation Adjustment Orange | 0 |
Saturation Adjustment Purple | 0 |
Saturation Adjustment Red | 0 |
Saturation Adjustment Yellow | 0 |
Scale Factor To 35 mm Equivalent | 1.0 |
Scene Capture Type | Standard |
Scene Type | Directly photographed |
Sensing Method | One-chip color area |
Shadow Tint | 0 |
Shadows | 5 |
Sharpen Detail | 25 |
Sharpen Edge Masking | 0 |
Sharpen Radius | +1.9 |
Sharpness | 94 |
Split Toning Balance | 0 |
Split Toning Highlight Hue | 0 |
Split Toning Highlight Saturation | 0 |
Split Toning Shadow Hue | 0 |
Split Toning Shadow Saturation | 0 |
State | Auvergne |
Subject | AF-S 24-70 mm/2.8G ED, Auvergne, church, D700, France, Frankreich, Notre-Dame-du-Mont-Cornadore de Saint-Nectaire, St. Nectaire |
Subject Distance | 0.6 m |
Subject Distance Range | Unknown |
Tint | +2 |
Tone Curve | 0, 0, 32, 22, 64, 56, 128, 128, 192, 196, 255, 255 |
Tone Curve Name | Medium Contrast |
Version | 6.5 |
Vibrance | +50 |
Vignette Amount | 0 |
White Balance | As Shot |