Shooting information for this photo
Camera: | NIKON CORPORATION NIKON D700 |
Exposure: | 0.008 sec. (1/125) |
Aperture: | f/5.6 |
Focal Length: | 200.0 mm (35 mm equivalent: 200.0 mm) |
Flash: | On, Return detected |
Exposure mode: | Manual |
Max Aperture: | 2.8 |
Resolution: | 240 x 240 dpi |
Original Date: | 2012:02:09 18:24:23.17 |
Created on: | 2012:02:09 18:24:23.17 |
Modified on: | 2012:02:13 00:40:36 |
Software: | Adobe Photoshop Camera Raw 6.6 (Macintosh) |
Copyright: | Thore Siebrands |
Already Applied | True |
Approximate Focus Distance | 7.08 |
Artist | Thore Siebrands |
Blue Hue | 0 |
Blue Saturation | 0 |
Brightness | +50 |
CFA Pattern | [Red,Green][Green,Blue] |
Camera Profile | Adobe Standard |
Chromatic Aberration B | 0 |
Chromatic Aberration R | 0 |
Circle Of Confusion | 0.030 mm |
Clarity | 0 |
Color Noise Reduction | 25 |
Color Noise Reduction Detail | 50 |
Color Space | sRGB |
Color Temperature | 4600 |
Contrast | +38 |
Convert To Grayscale | False |
Country | Germany |
Country Code | DE |
Creator | Thore Siebrands |
Crop Angle | 0 |
Crop Bottom | 1 |
Crop Constrain To Warp | 1 |
Crop Left | 0 |
Crop Right | 0.849483 |
Crop Top | 0.150517 |
Custom Rendered | Normal |
Defringe | 0 |
Depth Of Field | 0.41 m (6.88 - 7.29) |
Description | Opening of the 62nd Berlin International Film Festival |
Digital Zoom Ratio | 1 |
Exposure | -0.50 |
Exposure Compensation | 0 |
Exposure Mode | Manual |
Field Of View | 10.3 deg |
Fill Light | 25 |
Focal Length In 35mm Format | 200 mm |
Format | image/jpeg |
Gain Control | Low gain up |
Grain Amount | 0 |
Green Hue | 0 |
Green Saturation | 0 |
Has Crop | True |
Has Settings | True |
Hierarchical Subject | Berlinale|62. Berlinale, Berlinale|62. Internationale Filmfestspiele Berlin, Berlinale|62nd Berlin International Film Festival, Berlinale|roter Teppich, Berlinale|roter Teppich|red carpet, Berlinale|Christopher Lee, Berlinale|actor, Berlinale|actor|Schauspieler, Berlinale|Berlinale 2012, Kamera|AF-S VR 70-200 mm/2.8G IF-ED, Kamera|D700 |
Highlight Recovery | 65 |
Hue Adjustment Aqua | 0 |
Hue Adjustment Blue | 0 |
Hue Adjustment Green | 0 |
Hue Adjustment Magenta | 0 |
Hue Adjustment Orange | 0 |
Hue Adjustment Purple | 0 |
Hue Adjustment Red | 0 |
Hue Adjustment Yellow | 0 |
Hyperfocal Distance | 237.73 m |
ISO | 400 |
Image Description | Opening of the 62nd Berlin International Film Festival |
Image Number | 32929 |
Image Size | 1280x852 |
Label | gelb |
Lens | 70.0-200.0 mm f/2.8 |
Lens ID | AF-S VR Zoom-Nikkor 70-200mm f/2.8G IF-ED |
Lens Info | 70-200mm f/2.8 |
Lens Manual Distortion Amount | 0 |
Lens Model | 70.0-200.0 mm f/2.8 |
Lens Profile Enable | 0 |
Lens Profile Setup | LensDefaults |
Light Source | Unknown |
Light Value | 9.9 |
Location | Berlinale Palast, Marlene-Dietrich-Platz |
Luminance Adjustment Aqua | 0 |
Luminance Adjustment Blue | 0 |
Luminance Adjustment Green | 0 |
Luminance Adjustment Magenta | 0 |
Luminance Adjustment Orange | 0 |
Luminance Adjustment Purple | 0 |
Luminance Adjustment Red | 0 |
Luminance Adjustment Yellow | 0 |
Luminance Smoothing | 0 |
Metering Mode | Multi-segment |
Parametric Darks | 0 |
Parametric Highlight Split | 75 |
Parametric Highlights | 0 |
Parametric Lights | 0 |
Parametric Midtone Split | 50 |
Parametric Shadow Split | 25 |
Parametric Shadows | 0 |
Perspective Horizontal | 0 |
Perspective Rotate | 0.0 |
Perspective Scale | 100 |
Perspective Vertical | 0 |
Post Crop Vignette Amount | 0 |
Process Version | 5.7 |
Rating | 5 |
Raw File Name | D7H_1480.NEF |
Red Hue | 0 |
Red Saturation | 0 |
Related Image Height | 852 |
Related Image Width | 1280 |
Rights | Thore Siebrands |
Saturation | 0 |
Saturation Adjustment Aqua | 0 |
Saturation Adjustment Blue | 0 |
Saturation Adjustment Green | 0 |
Saturation Adjustment Magenta | 0 |
Saturation Adjustment Orange | 0 |
Saturation Adjustment Purple | 0 |
Saturation Adjustment Red | 0 |
Saturation Adjustment Yellow | 0 |
Scale Factor To 35 mm Equivalent | 1.0 |
Scene Capture Type | Standard |
Scene Type | Directly photographed |
Sensing Method | One-chip color area |
Shadow Tint | 0 |
Shadows | 8 |
Sharpen Detail | 25 |
Sharpen Edge Masking | 0 |
Sharpen Radius | +1.0 |
Sharpness | 56 |
Split Toning Balance | 0 |
Split Toning Highlight Hue | 0 |
Split Toning Highlight Saturation | 0 |
Split Toning Shadow Hue | 0 |
Split Toning Shadow Saturation | 0 |
State | Berlin |
Subject | 62. Berlinale, 62. Internationale Filmfestspiele Berlin, 62nd Berlin International Film Festival, actor, AF-S VR 70-200 mm/2.8G IF-ED, Berlinale 2012, Christopher Lee, D700, red carpet, roter Teppich, Schauspieler |
Subject Distance | 7.08 m |
Subject Distance Range | Unknown |
Tint | -16 |
Title | Christopher Lee |
Tone Curve | 0, 0, 32, 22, 64, 56, 128, 128, 192, 196, 255, 255 |
Tone Curve Name | Medium Contrast |
Version | 6.6 |
Vibrance | 0 |
Vignette Amount | 0 |
White Balance | As Shot |