Shooting information for this photo
Camera: | SONY ILCE-6400 |
Exposure: | 0.25 sec. (1/4) |
Aperture: | f/22.0 |
Focal Length: | 21.0 mm (35 mm equivalent: 31.0 mm) |
Flash: | Off, Did not fire |
Exposure mode: | Shutter speed priority AE |
Max Aperture: | 3.5 |
Resolution: | 240 x 240 dpi |
Dimension: | 4880 x 3664 pixels |
Original Date: | 2022:10:17 07:37:39 |
Created on: | 2022:10:17 07:37:39 |
Modified on: | 2022:10:20 06:54:04 |
Software: | Adobe Photoshop Elements 12.0 Windows |
Already Applied | True |
Auto Lateral CA | 0 |
Blacks 2012 | -6 |
Blue Hue | 0 |
Blue Saturation | 0 |
Brightness Value | 3.96640625 |
Camera Profile | Adobe Standard |
Circle Of Confusion | 0.020 mm |
Clarity 2012 | +23 |
Color Mode | RGB |
Color Noise Reduction | 25 |
Color Noise Reduction Detail | 50 |
Color Space | sRGB |
Color Temperature | 6300 |
Contrast | Normal |
Contrast 2012 | +8 |
Convert To Grayscale | False |
Crop Angle | 2.09342 |
Crop Bottom | 0.979977 |
Crop Constrain To Warp | 1 |
Crop Left | 0.034092 |
Crop Right | 0.824575 |
Crop Top | 0.020023 |
Custom Rendered | Normal |
Date Created | 2022:10:17 07:37:39-04:00 |
Defringe Green Amount | 0 |
Defringe Green Hue Hi | 60 |
Defringe Green Hue Lo | 40 |
Defringe Purple Amount | 0 |
Defringe Purple Hue Hi | 70 |
Defringe Purple Hue Lo | 30 |
Digital Zoom Ratio | 1 |
Exposure 2012 | -0.90 |
Exposure Compensation | +0.7 |
Exposure Mode | Auto |
Field Of View | 60.3 deg |
Focal Length In 35mm Format | 31 mm |
Format | image/jpeg |
Grain Amount | 0 |
Green Hue | 0 |
Green Saturation | 0 |
Has Crop | True |
Has Settings | True |
Highlights 2012 | -14 |
Hue Adjustment Aqua | 0 |
Hue Adjustment Blue | 0 |
Hue Adjustment Green | 0 |
Hue Adjustment Magenta | 0 |
Hue Adjustment Orange | 0 |
Hue Adjustment Purple | 0 |
Hue Adjustment Red | 0 |
Hue Adjustment Yellow | 0 |
Hyperfocal Distance | 0.98 m |
ICC Profile Name | sRGB IEC61966-2.1 |
ISO | 1000 |
Image Size | 4880x3664 |
Lens | E 18-200mm F3.5-6.3 OSS LE |
Lens Distort Info | 33247/32768 -59031751/1073741824 20779065/1073741824 14100348/1073741824 |
Lens Info | 18-200mm f/3.5-6.3 |
Lens Manual Distortion Amount | 0 |
Lens Model | E 18-200mm F3.5-6.3 OSS LE |
Lens Profile Enable | 0 |
Lens Profile Setup | LensDefaults |
Light Source | Unknown |
Light Value | 7.6 |
Luminance Adjustment Aqua | 0 |
Luminance Adjustment Blue | 0 |
Luminance Adjustment Green | 0 |
Luminance Adjustment Magenta | 0 |
Luminance Adjustment Orange | 0 |
Luminance Adjustment Purple | 0 |
Luminance Adjustment Red | 0 |
Luminance Adjustment Yellow | 0 |
Luminance Smoothing | 0 |
Metering Mode | Spot |
Parametric Darks | 0 |
Parametric Highlight Split | 75 |
Parametric Highlights | 0 |
Parametric Lights | 0 |
Parametric Midtone Split | 50 |
Parametric Shadow Split | 25 |
Parametric Shadows | 0 |
Perspective Aspect | 0 |
Perspective Horizontal | 0 |
Perspective Rotate | 0.0 |
Perspective Scale | 100 |
Perspective Upright | 0 |
Perspective Vertical | 0 |
Post Crop Vignette Amount | 0 |
Process Version | 6.7 |
Rating | 0 |
Raw File Name | Rumsford Maine waterfall fall foliage_23.dng |
Recommended Exposure Index | 1000 |
Red Hue | 0 |
Red Saturation | 0 |
Saturation | Normal |
Saturation Adjustment Aqua | 0 |
Saturation Adjustment Blue | 0 |
Saturation Adjustment Green | 0 |
Saturation Adjustment Magenta | 0 |
Saturation Adjustment Orange | 0 |
Saturation Adjustment Purple | 0 |
Saturation Adjustment Red | 0 |
Saturation Adjustment Yellow | 0 |
Scale Factor To 35 mm Equivalent | 1.5 |
Scene Capture Type | Standard |
Scene Type | Directly photographed |
Sensitivity Type | Recommended Exposure Index |
Shadow Tint | 0 |
Shadows 2012 | -11 |
Sharpen Detail | 25 |
Sharpen Edge Masking | 0 |
Sharpen Radius | +1.0 |
Sharpness | Normal |
Split Toning Balance | 0 |
Split Toning Highlight Hue | 0 |
Split Toning Highlight Saturation | 0 |
Split Toning Shadow Hue | 0 |
Split Toning Shadow Saturation | 0 |
Tint | +21 |
Tone Curve Name 2012 | Linear |
Tone Curve PV2012 | 0, 0, 255, 255 |
Tone Curve PV2012 Blue | 0, 0, 255, 255 |
Tone Curve PV2012 Green | 0, 0, 255, 255 |
Tone Curve PV2012 Red | 0, 0, 255, 255 |
Version | 8.0 |
Vibrance | +17 |
Vignette Amount | 0 |
White Balance | Auto |
Whites 2012 | -43 |