Shooting information for this photo
Camera: | samsung SM-G965U |
Exposure: | 0.01111 sec. (1/90) |
Aperture: | f/2.4 |
Focal Length: | 4.3 mm (35 mm equivalent: 26.0 mm) |
Flash: | No Flash |
Exposure mode: | Manual |
Max Aperture: | 1.5 |
Resolution: | 240 x 240 dpi |
Dimension: | 1411 x 507 pixels |
Original Date: | 2020:09:09 16:28:59.388662 |
Digitized Date: | 2020:09:09 16:28:59.388662-07:00 |
Created on: | 2020:09:09 16:28:59.388662 |
Modified on: | 2021:06:14 22:33:30 |
Software: | G965USQU7DTA8 |
Already Applied | True |
Blue Hue | 0 |
Blue Saturation | 0 |
Brightness | 0 |
Brightness Value | 3.3 |
Camera Profile | Embedded |
Chromatic Aberration B | 0 |
Chromatic Aberration R | 0 |
Circle Of Confusion | 0.005 mm |
Clarity | +19 |
Color Noise Reduction | 0 |
Contrast | +73 |
Convert To Grayscale | False |
Crop Angle | 1.02205 |
Crop Bottom | 0.963638 |
Crop Height | 507 |
Crop Left | 0.474168 |
Crop Right | 0.821924 |
Crop Top | 0.728988 |
Crop Unit | pixels |
Crop Width | 1411 |
Defringe | 0 |
Exposure | -0.57 |
Exposure Compensation | -0.2 |
Exposure Mode | Manual |
Field Of View | 69.4 deg |
Fill Light | 0 |
Flash Fired | False |
Flash Function | False |
Flash Mode | Unknown |
Flash Red Eye Mode | False |
Flash Return | No return detection |
Focal Length In 35mm Format | 26 mm |
Green Hue | 0 |
Green Saturation | 0 |
Has Crop | True |
Has Settings | True |
Highlight Recovery | 0 |
Hue Adjustment Aqua | 0 |
Hue Adjustment Blue | 0 |
Hue Adjustment Green | 0 |
Hue Adjustment Magenta | 0 |
Hue Adjustment Orange | 0 |
Hue Adjustment Purple | 0 |
Hue Adjustment Red | 0 |
Hue Adjustment Yellow | 0 |
Hyperfocal Distance | 1.55 m |
ISO | 800 |
Image Size | 1411x507 |
Incremental Temperature | 0 |
Incremental Tint | 0 |
Light Value | 6.0 |
Luminance Adjustment Aqua | 0 |
Luminance Adjustment Blue | 0 |
Luminance Adjustment Green | 0 |
Luminance Adjustment Magenta | 0 |
Luminance Adjustment Orange | 0 |
Luminance Adjustment Purple | 0 |
Luminance Adjustment Red | 0 |
Luminance Adjustment Yellow | 0 |
Luminance Smoothing | 0 |
Metering Mode | Center-weighted average |
Parametric Darks | 0 |
Parametric Highlight Split | 75 |
Parametric Highlights | +37 |
Parametric Lights | 0 |
Parametric Midtone Split | 50 |
Parametric Shadow Split | 25 |
Parametric Shadows | -100 |
Post Crop Vignette Amount | 0 |
Rating | 5 |
Red Hue | 0 |
Red Saturation | 0 |
Saturation | -5 |
Saturation Adjustment Aqua | 0 |
Saturation Adjustment Blue | 0 |
Saturation Adjustment Green | 0 |
Saturation Adjustment Magenta | 0 |
Saturation Adjustment Orange | 0 |
Saturation Adjustment Purple | 0 |
Saturation Adjustment Red | 0 |
Saturation Adjustment Yellow | 0 |
Scale Factor To 35 mm Equivalent | 6.0 |
Scene Capture Type | Standard |
Scene Type | Directly photographed |
Sensing Method | Not defined |
Shadow Tint | 0 |
Shadows | 94 |
Sharpen Detail | 25 |
Sharpen Edge Masking | 0 |
Sharpen Radius | +1.0 |
Sharpness | 0 |
Split Toning Balance | 0 |
Split Toning Highlight Hue | 0 |
Split Toning Highlight Saturation | 0 |
Split Toning Shadow Hue | 0 |
Split Toning Shadow Saturation | 0 |
Subject | art, blue, rail, rust, sky, smoke, translation |
Tone Curve | 0, 0, 255, 255 |
Tone Curve Name | Linear |
Version | 5.3 |
Vibrance | 0 |
Vignette Amount | 0 |
White Balance | Manual |
GPS Information |
GPS Altitude | 40.1 m Above Sea Level |
GPS Altitude Ref | Above Sea Level |
GPS Date Stamp | 2020:09:09 |
GPS Date/Time | 2020:09:09 23:28:07Z |
GPS Latitude | 45 deg 29' 29.92" N |
GPS Latitude Ref | North |
GPS Longitude | 122 deg 40' 29.08" W |
GPS Longitude Ref | West |
GPS Position | 45 deg 29' 29.92" N, 122 deg 40' 29.08" W |
GPS Processing Method | GPS |
GPS Time Stamp | 23:28:07 |