Shooting information for this photo
Camera: | Canon PowerShot S95 |
Exposure: | 0.0025 sec. (1/400) |
Aperture: | f/4.0 |
Focal Length: | 6.0 mm (35 mm equivalent: 28.0 mm) |
Flash: | Off, Did not fire |
Max Aperture: | 2.0 |
Resolution: | 240 x 240 dpi |
Dimension: | 3648 x 2048 pixels |
Original Date: | 2015:06:25 08:22:41 |
Digitized Date: | 2015:06:25 08:22:41-07:00 |
Created on: | 2015:06:25 08:22:41 |
Modified on: | 2015:08:07 22:50:13 |
Copyright: | Laura Mason Fletcher |
Already Applied | True |
Authors Position | Photographer |
Blue Hue | 0 |
Blue Saturation | 0 |
Brightness | 0 |
Camera Profile | Embedded |
Chromatic Aberration B | 0 |
Chromatic Aberration R | 0 |
Circle Of Confusion | 0.006 mm |
Clarity | +10 |
Color Noise Reduction | 0 |
Contrast | +11 |
Convert To Grayscale | False |
Creator | Laura Mason Fletcher |
Custom Rendered | Normal |
Defringe | 0 |
Depth Of Field | inf (1.19 m - inf) |
Digital Zoom Ratio | 1 |
Exposure | +0.29 |
Exposure Compensation | 0 |
Exposure Mode | Auto |
Field Of View | 65.5 deg |
Fill Light | 0 |
Firmware | 1.00 |
Flash Compensation | 0 |
Flash Fired | False |
Flash Function | False |
Flash Mode | Off |
Flash Red Eye Mode | False |
Flash Return | No return detection |
Green Hue | 0 |
Green Saturation | 0 |
Has Crop | False |
Has Settings | True |
Highlight Recovery | 0 |
Hue Adjustment Aqua | 0 |
Hue Adjustment Blue | 0 |
Hue Adjustment Green | 0 |
Hue Adjustment Magenta | 0 |
Hue Adjustment Orange | 0 |
Hue Adjustment Purple | 0 |
Hue Adjustment Red | 0 |
Hue Adjustment Yellow | 0 |
Hyperfocal Distance | 1.40 m |
ISO | 320 |
Image Size | 3648x2048 |
Incremental Temperature | 0 |
Incremental Tint | 0 |
Lens | 6.0-22.5 mm |
Lens ID | Unknown (65535) 6-22mm |
Lens Info | 6-22.5mm f/? |
Light Value | 11.0 |
Luminance Adjustment Aqua | 0 |
Luminance Adjustment Blue | 0 |
Luminance Adjustment Green | 0 |
Luminance Adjustment Magenta | 0 |
Luminance Adjustment Orange | 0 |
Luminance Adjustment Purple | 0 |
Luminance Adjustment Red | 0 |
Luminance Adjustment Yellow | 0 |
Luminance Smoothing | 0 |
Marked | True |
Metering Mode | Multi-segment |
Parametric Darks | 0 |
Parametric Highlight Split | 75 |
Parametric Highlights | 0 |
Parametric Lights | 0 |
Parametric Midtone Split | 50 |
Parametric Shadow Split | 25 |
Parametric Shadows | 0 |
Post Crop Vignette Amount | 0 |
Red Hue | 0 |
Red Saturation | 0 |
Rights | Laura Mason Fletcher |
Saturation | -5 |
Saturation Adjustment Aqua | 0 |
Saturation Adjustment Blue | 0 |
Saturation Adjustment Green | 0 |
Saturation Adjustment Magenta | 0 |
Saturation Adjustment Orange | 0 |
Saturation Adjustment Purple | 0 |
Saturation Adjustment Red | 0 |
Saturation Adjustment Yellow | 0 |
Scale Factor To 35 mm Equivalent | 4.7 |
Scene Capture Type | Standard |
Sensing Method | One-chip color area |
Shadow Tint | 0 |
Shadows | 7 |
Sharpen Detail | 25 |
Sharpen Edge Masking | 0 |
Sharpen Radius | +1.0 |
Sharpness | 87 |
Split Toning Balance | 0 |
Split Toning Highlight Hue | 0 |
Split Toning Highlight Saturation | 0 |
Split Toning Shadow Hue | 0 |
Split Toning Shadow Saturation | 0 |
Subject | 2015, Carnforth, England, Kirkby Lonsdale, cumbria, river lune, ruskin view, vacation |
Subject Distance | 7.99 m |
Tone Curve | 0, 0, 255, 255 |
Tone Curve Name | Linear |
Usage Terms | No usage without prior consent |
Version | 5.7 |
Vibrance | +45 |
Vignette Amount | 0 |
Web Statement | http://www.raingirlphotos.com |
White Balance | Auto |