Shooting information for this photo
Camera: | NIKON CORPORATION NIKON D610 |
Exposure: | 0.005 sec. (1/200) |
Aperture: | f/18.0 |
Focal Length: | 14.0 mm (35 mm equivalent: 14.0 mm) |
Flash: | Off, Did not fire |
Exposure mode: | Manual |
Max Aperture: | 2.8 |
Resolution: | 300 x 300 dpi |
Dimension: | 4016 x 6016 pixels |
Original Date: | 2019:02:21 12:29:19.90 |
Created on: | 2019:02:21 12:29:19.90 |
Modified on: | 2019:07:14 00:03:15.90 |
Software: | Adobe Photoshop CS6 (Macintosh) |
Already Applied | True |
Approximate Focus Distance | 4294967295 |
Auto Lateral CA | 1 |
Auto White Version | 134348800 |
Blacks 2012 | +43 |
Blue Hue | 0 |
Blue Saturation | 0 |
CFA Pattern | [Red,Green][Green,Blue] |
Camera Profile | Adobe Standard |
Circle Of Confusion | 0.030 mm |
Clarity 2012 | +100 |
Color Mode | RGB |
Color Noise Reduction | 53 |
Color Noise Reduction Detail | 50 |
Color Noise Reduction Smoothness | 50 |
Color Space | Uncalibrated |
Color Temperature | 4600 |
Contrast | Normal |
Contrast 2012 | +78 |
Convert To Grayscale | True |
Custom Rendered | Normal |
Description | pasarela al embarcadero en bajamar sobre la ría de Plentzia, ver eje de posición en pleamar para advertir las diferencias acusadas entre mareas: Plentzia, Bizkaia |
Digital Zoom Ratio | 1 |
Exposure 2012 | -0.65 |
Exposure Compensation | -1/3 |
Exposure Mode | Manual |
Field Of View | 104.3 deg |
Focal Length In 35mm Format | 14 mm |
Format | image/jpeg |
Gain Control | None |
Grain Amount | 0 |
Gray Mixer Aqua | +17 |
Gray Mixer Blue | +43 |
Gray Mixer Green | -37 |
Gray Mixer Magenta | +27 |
Gray Mixer Orange | -8 |
Gray Mixer Purple | +39 |
Gray Mixer Red | +4 |
Gray Mixer Yellow | -7 |
Green Hue | 0 |
Green Saturation | 0 |
Has Crop | False |
Has Settings | True |
Highlights 2012 | -7 |
Hyperfocal Distance | 0.36 m |
ICC Profile Name | Adobe RGB (1998) |
ISO | 250 |
Image Number | 28248 |
Image Size | 4016x6016 |
Lens | 14.0 mm f/2.8 |
Lens ID | Samyang AE 14mm f/2.8 ED AS IF UMC |
Lens Info | 14mm f/2.8-1.4 |
Lens Manual Distortion Amount | 0 |
Lens Model | 14.0 mm f/2.8 |
Lens Profile Enable | 1 |
Lens Profile Setup | LensDefaults |
Light Source | Unknown |
Light Value | 14.7 |
Luminance Noise Reduction Contrast | 40 |
Luminance Noise Reduction Detail | 83 |
Luminance Smoothing | 100 |
Metering Mode | Center-weighted average |
Parametric Darks | -27 |
Parametric Highlight Split | 75 |
Parametric Highlights | -22 |
Parametric Lights | +42 |
Parametric Midtone Split | 50 |
Parametric Shadow Split | 25 |
Parametric Shadows | +21 |
Perspective Aspect | 0 |
Perspective Horizontal | 0 |
Perspective Rotate | 0.0 |
Perspective Scale | 100 |
Perspective Upright | 0 |
Perspective Vertical | 0 |
Post Crop Vignette Amount | 0 |
Process Version | 6.7 |
Rating | 0 |
Raw File Name | DSC_7234.NEF |
Red Hue | 0 |
Red Saturation | 0 |
Saturation | Normal |
Scale Factor To 35 mm Equivalent | 1.0 |
Scene Capture Type | Standard |
Scene Type | Directly photographed |
Sensing Method | One-chip color area |
Sensitivity Type | Recommended Exposure Index |
Shadow Tint | 0 |
Shadows 2012 | -25 |
Sharpen Detail | 78 |
Sharpen Edge Masking | 100 |
Sharpen Radius | +2.5 |
Sharpness | Normal |
Split Toning Balance | -34 |
Split Toning Highlight Hue | 28 |
Split Toning Highlight Saturation | 41 |
Split Toning Shadow Hue | 0 |
Split Toning Shadow Saturation | 0 |
Subject Distance Range | Unknown |
Tint | +2 |
Tone Curve Name 2012 | Linear |
Tone Curve PV2012 | 0, 0, 255, 255 |
Tone Curve PV2012 Blue | 0, 0, 255, 255 |
Tone Curve PV2012 Green | 0, 0, 255, 255 |
Tone Curve PV2012 Red | 0, 0, 255, 255 |
Version | 8.3 |
Vignette Amount | 0 |
White Balance | Auto |
Whites 2012 | +36 |