Shooting information for this photo
Camera: | Canon EOS 40D |
Exposure: | 0.008 sec. (1/125) |
Aperture: | f/6.3 |
Focal Length: | 28.0 mm (35 mm equivalent: 51.1 mm) |
Flash: | Off, Did not fire |
Exposure mode: | Aperture-priority AE |
Max Aperture: | 4.6 |
Resolution: | 240 x 240 dpi |
Original Date: | 2009:01:25 15:07:54.00 |
Digitized Date: | 2009:01:25 15:07:54.00+01:00 |
Created on: | 2009:01:25 15:07:54.00 |
Modified on: | 2009:01:31 16:24:33 |
Already Applied | True |
Artist | Christoph Mueller |
Blue Hue | 0 |
Blue Saturation | 0 |
Brightness | +9 |
Camera Profile | ACR 4.4 |
Chromatic Aberration B | 0 |
Chromatic Aberration R | 0 |
Circle Of Confusion | 0.016 mm |
Clarity | 0 |
Color Noise Reduction | 25 |
Color Temperature | 6250 |
Contrast | +30 |
Convert To Grayscale | True |
Creator | Christoph Mueller |
Crop Angle | 0 |
Crop Bottom | 1 |
Crop Height | 2592 |
Crop Left | 0.049652 |
Crop Right | 0.882986 |
Crop Top | 0 |
Crop Unit | pixels |
Crop Width | 3240 |
Custom Rendered | Normal |
Defringe | 0 |
Exposure | +1.28 |
Exposure Compensation | -1/3 |
Exposure Mode | Auto |
Field Of View | 38.8 deg |
Fill Light | 0 |
Firmware | 1.0.3 |
Flash Compensation | 0 |
Flash Fired | False |
Flash Function | False |
Flash Mode | Off |
Flash Red Eye Mode | False |
Flash Return | No return detection |
Gray Mixer Aqua | -18 |
Gray Mixer Blue | +9 |
Gray Mixer Green | -27 |
Gray Mixer Magenta | +4 |
Gray Mixer Orange | -19 |
Gray Mixer Purple | +15 |
Gray Mixer Red | -10 |
Gray Mixer Yellow | -23 |
Green Hue | 0 |
Green Saturation | 0 |
Has Crop | True |
Has Settings | True |
Highlight Recovery | 25 |
Hyperfocal Distance | 7.55 m |
ISO | 320 |
Image Number | 0 |
Image Size | 3240x2592 |
Lens | EF-S17-85mm f/4-5.6 IS USM |
Lens Info | 17-85mm f/? |
Light Value | 10.6 |
Luminance Smoothing | 0 |
Metering Mode | Multi-segment |
Owner Name | Christoph Mueller |
Parametric Darks | 0 |
Parametric Highlight Split | 75 |
Parametric Highlights | 0 |
Parametric Lights | 0 |
Parametric Midtone Split | 50 |
Parametric Shadow Split | 25 |
Parametric Shadows | 0 |
Red Hue | 0 |
Red Saturation | 0 |
Scale Factor To 35 mm Equivalent | 1.8 |
Scene Capture Type | Standard |
Shadow Tint | 0 |
Shadows | 5 |
Sharpen Detail | 25 |
Sharpen Edge Masking | 0 |
Sharpen Radius | +1.0 |
Sharpness | 25 |
Split Toning Balance | 0 |
Split Toning Highlight Hue | 0 |
Split Toning Highlight Saturation | 0 |
Split Toning Shadow Hue | 0 |
Split Toning Shadow Saturation | 0 |
Subject | Nötznitz, Schloss Nötznitz, schloss |
Tint | -5 |
Tone Curve | 0, 0, 32, 22, 64, 56, 128, 128, 192, 196, 255, 255 |
Tone Curve Name | Medium Contrast |
Version | 4.4.1 |
Vignette Amount | 0 |
White Balance | As Shot |