Shooting information for this photo
Camera: | Canon EOS 350D DIGITAL |
Exposure: | 0.002 sec. (1/500) |
Aperture: | f/5.6 |
Focal Length: | 214.0 mm (35 mm equivalent: 1500.0 mm) |
Flash: | Off, Did not fire |
Exposure mode: | Aperture-priority AE |
Max Aperture: | 5.6 |
Resolution: | 240 x 240 dpi |
Dimension: | 800 x 533 pixels |
Original Date: | 2009:10:11 15:32:18 |
Digitized Date: | 2009:10:11 15:32:18+02:00 |
Created on: | 2009:10:11 15:32:18 |
Modified on: | 2010:06:02 23:57:33 |
Already Applied | True |
Artist | unknown |
Blue Hue | 0 |
Blue Saturation | 0 |
Brightness | -48 |
Camera Profile | Embedded |
Chromatic Aberration B | 0 |
Chromatic Aberration R | 0 |
Circle Of Confusion | 0.004 mm |
Clarity | -34 |
Color Noise Reduction | 0 |
Color Temperature | 5122 |
Contrast | +53 |
Convert To Grayscale | False |
Creator | unknown |
Custom Rendered | Normal |
Defringe | 0 |
Exposure | +1.13 |
Exposure Compensation | 0 |
Exposure Mode | Auto |
Field Of View | 1.4 deg |
Fill Light | 4 |
Firmware | 1.0.3 |
Flash Compensation | 0 |
Flash Fired | False |
Flash Function | False |
Flash Mode | Off |
Flash Red Eye Mode | False |
Flash Return | No return detection |
Gradient Based Corr Active | true |
Gradient Based Corr Amount | 1.000000 |
Gradient Based Corr Brightness | 0.000000 |
Gradient Based Corr Clarity | -0.564000 |
Gradient Based Corr Contrast | 0.855000 |
Gradient Based Corr Exposure | 0.000000 |
Gradient Based Corr Hue | 230.000000 |
Gradient Based Corr Mask Full X | -0.382364 |
Gradient Based Corr Mask Full Y | 0.661161 |
Gradient Based Corr Mask Value | 1.000000 |
Gradient Based Corr Mask What | Mask/Gradient |
Gradient Based Corr Mask Zero X | 0.476684 |
Gradient Based Corr Mask Zero Y | 0.776529 |
Gradient Based Corr Saturation | 1.000000 |
Gradient Based Corr Sharpness | 0.000000 |
Gradient Based Corr What | Correction |
Green Hue | 0 |
Green Saturation | 0 |
Has Crop | False |
Has Settings | True |
Highlight Recovery | 10 |
Hue Adjustment Aqua | 0 |
Hue Adjustment Blue | -17 |
Hue Adjustment Green | 0 |
Hue Adjustment Magenta | 0 |
Hue Adjustment Orange | 0 |
Hue Adjustment Purple | -5 |
Hue Adjustment Red | 0 |
Hue Adjustment Yellow | 0 |
Hyperfocal Distance | 1907.77 m |
ISO | 100 |
Image Number | 229 |
Image Size | 800x533 |
Lens | 55.0-250.0 mm |
Lens Info | 55-250mm f/? |
Light Value | 13.9 |
Luminance Adjustment Aqua | 0 |
Luminance Adjustment Blue | 0 |
Luminance Adjustment Green | 0 |
Luminance Adjustment Magenta | 0 |
Luminance Adjustment Orange | -5 |
Luminance Adjustment Purple | 0 |
Luminance Adjustment Red | -4 |
Luminance Adjustment Yellow | -2 |
Luminance Smoothing | 0 |
Metering Mode | Multi-segment |
Owner Name | unknown |
Parametric Darks | -11 |
Parametric Highlight Split | 75 |
Parametric Highlights | +13 |
Parametric Lights | +24 |
Parametric Midtone Split | 50 |
Parametric Shadow Split | 25 |
Parametric Shadows | -63 |
Post Crop Vignette Amount | 0 |
Red Hue | 0 |
Red Saturation | 0 |
Saturation | +67 |
Saturation Adjustment Aqua | -18 |
Saturation Adjustment Blue | +12 |
Saturation Adjustment Green | -13 |
Saturation Adjustment Magenta | 0 |
Saturation Adjustment Orange | -50 |
Saturation Adjustment Purple | 0 |
Saturation Adjustment Red | -52 |
Saturation Adjustment Yellow | -56 |
Scale Factor To 35 mm Equivalent | 7.0 |
Scene Capture Type | Standard |
Shadow Tint | 0 |
Shadows | 9 |
Sharpen Detail | 25 |
Sharpen Edge Masking | 0 |
Sharpen Radius | +1.0 |
Sharpness | 7 |
Split Toning Balance | +13 |
Split Toning Highlight Hue | 59 |
Split Toning Highlight Saturation | 49 |
Split Toning Shadow Hue | 241 |
Split Toning Shadow Saturation | 43 |
Tint | +4 |
Tone Curve | 0, 0, 255, 255 |
Tone Curve Name | Linear |
Version | 4.5 |
Vibrance | -53 |
Vignette Amount | -45 |
Vignette Midpoint | 22 |
White Balance | Custom |