Shooting information for this photo
Camera: | FUJIFILM X-E2 |
Exposure: | 0.00125 sec. (1/800) |
Aperture: | f/10.0 |
Focal Length: | 28.9 mm (35 mm equivalent: 43.0 mm) |
Flash: | Off, Did not fire |
Exposure mode: | Aperture-priority AE |
Max Aperture: | 2.8 |
Resolution: | 50 x 50 dpi |
Original Date: | 2014:03:02 13:53:44 |
Created on: | 2014:03:02 13:53:44 |
Modified on: | 2014:03:14 19:18:56 |
Software: | Adobe Photoshop Lightroom 5.3 (Windows) |
Already Applied | True |
Blue Hue | 0 |
Blue Saturation | 0 |
Brightness Value | 10.86 |
Camera Profile | Adobe Standard |
Circle Of Confusion | 0.020 mm |
Color Noise Reduction | 0 |
Color Space | sRGB |
Color Temperature | 4800 |
Convert To Grayscale | True |
Crop Angle | 0 |
Crop Bottom | 1 |
Crop Constrain To Warp | 0 |
Crop Left | 0.057647 |
Crop Right | 0.960717 |
Crop Top | 0.09693 |
Custom Rendered | Normal |
Date Created | 2014:03:02 13:53:44 |
Exposure Compensation | 0 |
Exposure Mode | Auto |
Field Of View | 45.4 deg |
Focal Length In 35mm Format | 43 mm |
Format | image/jpeg |
Grain Amount | 16 |
Grain Frequency | 50 |
Grain Size | 25 |
Gray Mixer Aqua | +100 |
Gray Mixer Blue | -62 |
Gray Mixer Green | -28 |
Gray Mixer Magenta | +3 |
Gray Mixer Orange | -20 |
Gray Mixer Purple | -12 |
Gray Mixer Red | +85 |
Gray Mixer Yellow | +41 |
Green Hue | 0 |
Green Saturation | 0 |
Has Crop | True |
Has Settings | True |
Hyperfocal Distance | 4.14 m |
ISO | 400 |
Image Size | 480x720 |
Lens | XF18-55mmF2.8-4 R LM OIS |
Lens Info | 18-55mm f/2.8-4 |
Lens Make | FUJIFILM |
Lens Manual Distortion Amount | 0 |
Lens Model | XF18-55mmF2.8-4 R LM OIS |
Lens Profile Enable | 0 |
Lens Profile Setup | LensDefaults |
Light Source | Unknown |
Light Value | 14.3 |
Luminance Smoothing | 0 |
Metering Mode | Multi-segment |
Parametric Darks | +26 |
Parametric Highlight Split | 75 |
Parametric Highlights | +28 |
Parametric Lights | +11 |
Parametric Midtone Split | 50 |
Parametric Shadow Split | 21 |
Parametric Shadows | +100 |
Perspective Horizontal | 0 |
Perspective Rotate | 0.0 |
Perspective Scale | 100 |
Perspective Vertical | 0 |
Post Crop Vignette Amount | 0 |
Process Version | 6.7 |
Red Hue | 0 |
Red Saturation | 0 |
Scale Factor To 35 mm Equivalent | 1.5 |
Scene Capture Type | Standard |
Scene Type | Directly photographed |
Sensing Method | One-chip color area |
Sensitivity Type | Standard Output Sensitivity |
Shadow Tint | 0 |
Sharpen Detail | 25 |
Sharpen Edge Masking | 0 |
Sharpen Radius | +1.0 |
Sharpness | Hard |
Split Toning Balance | 0 |
Split Toning Highlight Hue | 0 |
Split Toning Highlight Saturation | 0 |
Split Toning Shadow Hue | 0 |
Split Toning Shadow Saturation | 0 |
Subject Distance Range | Unknown |
Tint | +7 |
Version | 8.3 |
Vignette Amount | -100 |
Vignette Midpoint | 100 |
White Balance | Auto |