Shooting information for this photo
Camera: | Canon EOS 350D DIGITAL |
Exposure: | 0.00156 sec. (1/640) |
Aperture: | f/5.6 |
Focal Length: | 171.0 mm (35 mm equivalent: 1084.1 mm) |
Flash: | Off, Did not fire |
Exposure mode: | Aperture-priority AE |
Resolution: | 72 x 72 dpi |
Original Date: | 2013:05:05 12:38:55 |
Created on: | 2013:05:05 12:38:55 |
Modified on: | 2013:05:06 12:03:12 |
Software: | Adobe Photoshop Lightroom 3.4.1 |
Already Applied | True |
Artist | unknown |
Blue Hue | 0 |
Blue Saturation | -72 |
Brightness | +5 |
Camera Profile | Embedded |
Chromatic Aberration B | +6 |
Chromatic Aberration R | 0 |
Circle Of Confusion | 0.005 mm |
Clarity | -8 |
Color Noise Reduction | 9 |
Color Noise Reduction Detail | 50 |
Color Space | Uncalibrated |
Color Temperature | 5249 |
Contrast | High |
Convert To Grayscale | False |
Creator | unknown |
Custom Rendered | Normal |
Date Created | 2013:05:05 12:38:55 |
Defringe | 0 |
Exposure | +1.27 |
Exposure Compensation | -2/3 |
Exposure Mode | Auto |
Field Of View | 1.9 deg |
Fill Light | 25 |
Firmware | 1.0.3 |
Flash Compensation | 0 |
Grain Amount | 0 |
Green Hue | 0 |
Green Saturation | 0 |
Has Crop | False |
Has Settings | True |
Highlight Recovery | 0 |
Hue Adjustment Aqua | 0 |
Hue Adjustment Blue | 0 |
Hue Adjustment Green | -8 |
Hue Adjustment Magenta | +4 |
Hue Adjustment Orange | +6 |
Hue Adjustment Purple | -13 |
Hue Adjustment Red | -6 |
Hue Adjustment Yellow | -4 |
Hyperfocal Distance | 1101.72 m |
ISO | 200 |
Image Number | 15 |
Image Size | 800x700 |
Lens | 55.0-250.0 mm |
Lens Info | 55-250mm f/? |
Lens Manual Distortion Amount | 0 |
Lens Model | 55.0-250.0 mm |
Lens Profile Chromatic Aberration Scale | 100 |
Lens Profile Distortion Scale | 100 |
Lens Profile Enable | 1 |
Lens Profile Filename | Canon EOS 50D (Canon EF-S 55-250mm f4-5.6 IS) - RAW.lcp |
Lens Profile Name | Adobe (Canon EF-S 55-250mm f/4-5.6 IS) |
Lens Profile Setup | Custom |
Lens Profile Vignetting Scale | 100 |
Light Value | 13.3 |
Luminance Adjustment Aqua | 0 |
Luminance Adjustment Blue | 0 |
Luminance Adjustment Green | 0 |
Luminance Adjustment Magenta | 0 |
Luminance Adjustment Orange | 0 |
Luminance Adjustment Purple | 0 |
Luminance Adjustment Red | 0 |
Luminance Adjustment Yellow | 0 |
Luminance Noise Reduction Contrast | 0 |
Luminance Noise Reduction Detail | 50 |
Luminance Smoothing | 28 |
Metering Mode | Multi-segment |
Owner Name | unknown |
Parametric Darks | +10 |
Parametric Highlight Split | 90 |
Parametric Highlights | 0 |
Parametric Lights | +60 |
Parametric Midtone Split | 58 |
Parametric Shadow Split | 36 |
Parametric Shadows | -34 |
Perspective Horizontal | 0 |
Perspective Rotate | 0.0 |
Perspective Scale | 100 |
Perspective Vertical | 0 |
Post Crop Vignette Amount | 0 |
Process Version | 5.7 |
Red Hue | 0 |
Red Saturation | 0 |
Saturation | Low |
Saturation Adjustment Aqua | 0 |
Saturation Adjustment Blue | 0 |
Saturation Adjustment Green | -22 |
Saturation Adjustment Magenta | 0 |
Saturation Adjustment Orange | 0 |
Saturation Adjustment Purple | 0 |
Saturation Adjustment Red | 0 |
Saturation Adjustment Yellow | +36 |
Scale Factor To 35 mm Equivalent | 6.3 |
Scene Capture Type | Standard |
Shadow Tint | 0 |
Shadows | 3 |
Sharpen Detail | 25 |
Sharpen Edge Masking | 0 |
Sharpen Radius | +1.0 |
Sharpness | Hard |
Split Toning Balance | -1 |
Split Toning Highlight Hue | 47 |
Split Toning Highlight Saturation | 39 |
Split Toning Shadow Hue | 0 |
Split Toning Shadow Saturation | 0 |
Tint | +10 |
Tone Curve | 0, 0, 255, 255 |
Tone Curve Name | Linear |
Version | 6.4.1 |
Vibrance | -8 |
Vignette Amount | -100 |
Vignette Midpoint | 0 |
White Balance | Manual |