Shooting information for this photo
Camera: | Canon EOS 5D Mark II |
Exposure: | 0.01 sec. (1/100) |
Aperture: | f/10.0 |
Focal Length: | 35.0 mm (35 mm equivalent: 34.2 mm) |
Flash: | Off, Did not fire |
Exposure mode: | Manual |
Max Aperture: | 2.8 |
Resolution: | 72 x 72 dpi |
Original Date: | 2013:03:02 10:51:35.31 |
Created on: | 2013:03:02 10:51:35.31 |
Modified on: | 2013:05:09 10:01:29 |
Software: | Adobe Photoshop Lightroom 4.4 (Macintosh) |
Copyright: | Julien Valantin Photographe |
Already Applied | True |
Approximate Focus Distance | 2.25 |
Artist | julien valantin Photographe |
Auto Lateral CA | 1 |
Blacks 2012 | 0 |
Blue Hue | 0 |
Blue Saturation | 0 |
Camera Profile | Adobe Standard |
Circle Of Confusion | 0.031 mm |
Clarity 2012 | +54 |
Color Noise Reduction | 25 |
Color Noise Reduction Detail | 50 |
Color Temperature | 5958 |
Contrast 2012 | +25 |
Convert To Grayscale | True |
Creator | julien valantin Photographe |
Crop Angle | 0 |
Crop Bottom | 1 |
Crop Constrain To Warp | 0 |
Crop Height | 1280 |
Crop Left | 0.062354 |
Crop Right | 0.506799 |
Crop Top | 0 |
Crop Unit | pixels |
Crop Width | 853 |
Custom Rendered | Normal |
Date Created | 2013:03:02 10:51:35.31 |
Description | www.julienvalantin.com |
Exposure 2012 | 0.00 |
Exposure Compensation | 0 |
Exposure Mode | Manual |
Field Of View | 55.6 deg |
Firmware | 1.1.0 |
Flash Compensation | 0 |
Format | image/jpeg |
Gradient Based Corr Active | true |
Gradient Based Corr Amount | 1.000000 |
Gradient Based Corr Brightness | 0.000000 |
Gradient Based Corr Clarity 2012 | 0.000000 |
Gradient Based Corr Contrast 2012 | 0.000000 |
Gradient Based Corr Defringe | 0.000000 |
Gradient Based Corr Exposure 2012 | 0.110904 |
Gradient Based Corr Highlights 2012 | 0.000000 |
Gradient Based Corr Hue | 13.960900 |
Gradient Based Corr Luminance Noise | 0.000000 |
Gradient Based Corr Mask Full X | 0.436079 |
Gradient Based Corr Mask Full Y | 0.148342 |
Gradient Based Corr Mask Value | 1.000000 |
Gradient Based Corr Mask What | Mask/Gradient |
Gradient Based Corr Mask Zero X | 0.383546 |
Gradient Based Corr Mask Zero Y | 0.181783 |
Gradient Based Corr Moire | 0.000000 |
Gradient Based Corr Saturation | 0.000000 |
Gradient Based Corr Shadows 2012 | 0.000000 |
Gradient Based Corr Sharpness | 0.000000 |
Gradient Based Corr Temperature | 0.000000 |
Gradient Based Corr Tint | 0.000000 |
Gradient Based Corr What | Correction |
Grain Amount | 0 |
Gray Mixer Aqua | 0 |
Gray Mixer Blue | 0 |
Gray Mixer Green | 0 |
Gray Mixer Magenta | 0 |
Gray Mixer Orange | 0 |
Gray Mixer Purple | 0 |
Gray Mixer Red | 0 |
Gray Mixer Yellow | 0 |
Green Hue | 0 |
Green Saturation | 0 |
Has Crop | True |
Has Settings | True |
Hierarchical Subject | Vienne, julien, photo, photographe, poitiers, portrait, studio, valantin |
Highlights 2012 | -27 |
Hyperfocal Distance | 3.98 m |
ISO | 400 |
Image Description | www.julienvalantin.com |
Image Number | 0 |
Image Size | 853x1280 |
Lens | EF24-70mm f/2.8L USM |
Lens ID | Canon EF 24-70mm f/2.8L |
Lens Info | 24-70mm f/? |
Lens Manual Distortion Amount | 0 |
Lens Model | EF24-70mm f/2.8L USM |
Lens Profile Chromatic Aberration Scale | 100 |
Lens Profile Distortion Scale | 100 |
Lens Profile Enable | 1 |
Lens Profile Filename | Canon EOS-1Ds Mark III (Canon EF 24-70mm f2.8 L USM) - RAW.lcp |
Lens Profile Name | Adobe (Canon EF 24-70mm f/2.8 L USM) |
Lens Profile Setup | LensDefaults |
Lens Profile Vignetting Scale | 100 |
Light Value | 11.3 |
Luminance Noise Reduction Contrast | 0 |
Luminance Noise Reduction Detail | 50 |
Luminance Smoothing | 6 |
Marked | True |
Metering Mode | Center-weighted average |
Parametric Darks | 0 |
Parametric Highlight Split | 75 |
Parametric Highlights | 0 |
Parametric Lights | 0 |
Parametric Midtone Split | 50 |
Parametric Shadow Split | 25 |
Parametric Shadows | 0 |
Perspective Horizontal | 0 |
Perspective Rotate | 0.0 |
Perspective Scale | 100 |
Perspective Vertical | 0 |
Post Crop Vignette Amount | 0 |
Process Version | 6.7 |
Rating | 5 |
Red Hue | 0 |
Red Saturation | 0 |
Rights | Julien Valantin Photographe |
Scale Factor To 35 mm Equivalent | 1.0 |
Scene Capture Type | Standard |
Shadow Tint | 0 |
Shadows 2012 | +34 |
Sharpen Detail | 14 |
Sharpen Edge Masking | 0 |
Sharpen Radius | +1.0 |
Sharpness | 76 |
Split Toning Balance | 0 |
Split Toning Highlight Hue | 220 |
Split Toning Highlight Saturation | 11 |
Split Toning Shadow Hue | 226 |
Split Toning Shadow Saturation | 22 |
Subject | Vienne, julien, photo, photographe, poitiers, portrait, studio, valantin |
Tint | +10 |
Title | www.julienvalantin.com |
Tone Curve Name 2012 | Custom |
Tone Curve PV2012 | 0, 0, 68, 54, 190, 213, 255, 255 |
Tone Curve PV2012 Blue | 0, 30, 255, 203 |
Tone Curve PV2012 Green | 0, 34, 255, 229 |
Tone Curve PV2012 Red | 0, 40, 255, 234 |
Version | 7.4 |
Vignette Amount | -38 |
Vignette Midpoint | 50 |
White Balance | Auto |
Whites 2012 | -72 |