Shooting information for this photo
Camera: | ZTE Z958 |
Exposure: | 0.06667 sec. (1/15) |
Aperture: | f/2.0 |
Focal Length: | 2.9 mm |
Flash: | Auto, Did not fire |
Resolution: | 72 x 72 dpi |
Original Date: | 2016:04:16 16:23:48.692128 |
Created on: | 2016:04:16 16:23:48.692128 |
Modified on: | 2016:04:16 16:34:11 |
Software: | Adobe Photoshop Lightroom 6.5 (Windows) |
Already Applied | True |
Auto Lateral CA | 0 |
Auto White Version | 134348800 |
Blacks 2012 | -60 |
Blue Hue | 0 |
Blue Saturation | 0 |
Camera Profile | Embedded |
Clarity 2012 | +80 |
Color Noise Reduction | 0 |
Color Space | sRGB |
Contrast 2012 | +90 |
Convert To Grayscale | True |
Crop Angle | 1.63488 |
Crop Bottom | 0.89935 |
Crop Constrain To Warp | 0 |
Crop Left | 0.158704 |
Crop Right | 0.723743 |
Crop Top | 0 |
Date Created | 2016:04:16 16:23:48.692128 |
Dehaze | 0 |
Exposure 2012 | -0.40 |
Exposure Index | 329 |
Format | image/jpeg |
Gain Control | Low gain down |
Grain Amount | 0 |
Gray Mixer Aqua | -17 |
Gray Mixer Blue | +10 |
Gray Mixer Green | -26 |
Gray Mixer Magenta | +3 |
Gray Mixer Orange | -18 |
Gray Mixer Purple | +15 |
Gray Mixer Red | -9 |
Gray Mixer Yellow | -22 |
Green Hue | 0 |
Green Saturation | 0 |
Has Crop | True |
Has Settings | True |
Highlights 2012 | -96 |
ISO | 317 |
Image Size | 1891x1598 |
Incremental Temperature | 0 |
Incremental Tint | 0 |
Lens Manual Distortion Amount | 0 |
Lens Profile Enable | 0 |
Lens Profile Setup | LensDefaults |
Light Value | 4.2 |
Luminance Smoothing | 0 |
Parametric Darks | 0 |
Parametric Highlight Split | 75 |
Parametric Highlights | 0 |
Parametric Lights | 0 |
Parametric Midtone Split | 50 |
Parametric Shadow Split | 25 |
Parametric Shadows | 0 |
Perspective Aspect | 0 |
Perspective Horizontal | 0 |
Perspective Rotate | 0.0 |
Perspective Scale | 100 |
Perspective Upright | 0 |
Perspective Vertical | 0 |
Post Crop Vignette Amount | 0 |
Process Version | 6.7 |
Red Hue | 0 |
Red Saturation | 0 |
Shadow Tint | 0 |
Shadows 2012 | -100 |
Sharpen Detail | 25 |
Sharpen Edge Masking | 0 |
Sharpen Radius | +1.0 |
Sharpness | 0 |
Split Toning Balance | 0 |
Split Toning Highlight Hue | 0 |
Split Toning Highlight Saturation | 0 |
Split Toning Shadow Hue | 0 |
Split Toning Shadow Saturation | 0 |
Tone Curve | 0, 0, 255, 255 |
Tone Curve Blue | 0, 0, 255, 255 |
Tone Curve Green | 0, 0, 255, 255 |
Tone Curve Name | Linear |
Tone Curve Name 2012 | Linear |
Tone Curve PV2012 | 0, 0, 255, 255 |
Tone Curve PV2012 Blue | 0, 0, 255, 255 |
Tone Curve PV2012 Green | 0, 0, 255, 255 |
Tone Curve PV2012 Red | 0, 0, 255, 255 |
Tone Curve Red | 0, 0, 255, 255 |
Tone Map Strength | 0 |
Version | 9.5 |
Vignette Amount | 0 |
White Balance | Auto |
Whites 2012 | -50 |
GPS Information |
GPS Altitude | 100 m Above Sea Level |
GPS Altitude Ref | Above Sea Level |
GPS Date Stamp | 2016:04:16 |
GPS Date/Time | 2016:04:16 20:23:49Z |
GPS Latitude | 38 deg 21' 1.82" N |
GPS Latitude Ref | North |
GPS Longitude | 85 deg 47' 41.09" W |
GPS Longitude Ref | West |
GPS Position | 38 deg 21' 1.82" N, 85 deg 47' 41.09" W |
GPS Time Stamp | 20:23:49 |