Shooting information for this photo
Camera: | Canon EOS R5 |
Exposure: | 6 sec. |
Aperture: | f/8.0 |
Focal Length: | 127.0 mm (35 mm equivalent: 126.8 mm) |
Flash: | No Flash |
Exposure mode: | Aperture-priority AE |
Max Aperture: | 4.0 |
Resolution: | 94 x 94 dpi |
Original Date: | 2024:08:20 20:09:42.60 |
Created on: | 2024:08:20 20:09:42.60 |
Modified on: | 2024:08:21 20:40:54 |
Software: | Adobe Photoshop Lightroom Classic 13.5 (Windows) |
Already Applied | True |
Approximate Focus Distance | 4294967295 |
Artist | LW |
Auto Lateral CA | 1 |
Blacks 2012 | -6 |
Blue Hue | 0 |
Blue Saturation | 0 |
Camera Profile | Adobe Standard |
Circle Of Confusion | 0.030 mm |
Clarity 2012 | +24 |
Color Grade Blending | 50 |
Color Grade Global Hue | 0 |
Color Grade Global Lum | 0 |
Color Grade Global Sat | 0 |
Color Grade Highlight Lum | 0 |
Color Grade Midtone Hue | 0 |
Color Grade Midtone Lum | 0 |
Color Grade Midtone Sat | 0 |
Color Grade Shadow Lum | 0 |
Color Noise Reduction | 70 |
Color Noise Reduction Detail | 100 |
Color Noise Reduction Smoothness | 25 |
Color Space | sRGB |
Color Temperature | 7688 |
Compatible Version | 234881024 |
Contrast 2012 | +31 |
Creator | LW |
Crop Angle | 0 |
Crop Bottom | 0.785936 |
Crop Constrain To Warp | 0 |
Crop Left | 0.068066 |
Crop Right | 1 |
Crop Top | 0 |
Custom Rendered | Normal |
Date Created | 2024:08:20 20:09:42.60+01:00 |
Defringe Green Amount | 0 |
Defringe Green Hue Hi | 60 |
Defringe Green Hue Lo | 40 |
Defringe Purple Amount | 0 |
Defringe Purple Hue Hi | 70 |
Defringe Purple Hue Lo | 30 |
Dehaze | 0 |
Description | Am Tag nach dem "Supermond" konnte ich den Mondaufgang in einen schmalen Streifen am Horizont erwischen. Dann verschwand er wieder. |
Distortion Correction Already Applied | True |
Exposure 2012 | +1.51 |
Exposure Compensation | -5/3 |
Exposure Mode | Auto |
Field Of View | 16.2 deg |
Firmware | 2.0.0 |
Flash Compensation | 0 |
Format | image/jpeg |
Grain Amount | 0 |
Green Hue | 0 |
Green Saturation | 0 |
HDR Edit Mode | 0 |
Has Crop | True |
Has Settings | True |
Highlights 2012 | -100 |
Hue Adjustment Aqua | 0 |
Hue Adjustment Blue | 0 |
Hue Adjustment Green | 0 |
Hue Adjustment Magenta | 0 |
Hue Adjustment Orange | 0 |
Hue Adjustment Purple | 0 |
Hue Adjustment Red | 0 |
Hue Adjustment Yellow | 0 |
Hyperfocal Distance | 67.00 m |
ISO | 3200 |
Image Description | Am Tag nach dem "Supermond" konnte ich den Mondaufgang in einen schmalen Streifen am Horizont erwischen. Dann verschwand er wieder. |
Image Number | 0 |
Image Size | 7634x4294 |
Lateral Chromatic Aberration Correction Already Applied | True |
Lens | EF70-200mm f/4L IS USM |
Lens ID | Canon EF 70-200mm f/4L IS |
Lens Info | 70-200mm f/? |
Lens Manual Distortion Amount | 0 |
Lens Model | EF70-200mm f/4L IS USM |
Lens Profile Distortion Scale | 100 |
Lens Profile Enable | 1 |
Lens Profile Filename | Canon EOS 5D Mark II (Canon EF 70-200mm f4L IS USM) - RAW.lcp |
Lens Profile Is Embedded | False |
Lens Profile Name | Adobe (Canon EF 70-200mm f/4 L IS USM) |
Lens Profile Setup | LensDefaults |
Lens Profile Vignetting Scale | 100 |
Light Value | -1.6 |
Look Amount | 1 |
Look Group | Profiles |
Look Name | Adobe Color |
Look Parameters Camera Profile | Adobe Standard |
Look Parameters Convert To Grayscale | False |
Look Parameters Look Table | E1095149FDB39D7A057BAB208837E2 E1 |
Look Parameters Process Version | 15.4 |
Look Parameters Tone Curve PV2012 | 0, 0, 22, 16, 40, 35, 127, 127, 224, 230, 240, 246, 255, 255 |
Look Parameters Tone Curve PV2012 Blue | 0, 0, 255, 255 |
Look Parameters Tone Curve PV2012 Green | 0, 0, 255, 255 |
Look Parameters Tone Curve PV2012 Red | 0, 0, 255, 255 |
Look Parameters Version | 16.5 |
Look Supports Amount | false |
Look Supports Monochrome | false |
Look Supports Output Referred | false |
Luminance Adjustment Aqua | 0 |
Luminance Adjustment Blue | -49 |
Luminance Adjustment Green | +62 |
Luminance Adjustment Magenta | +58 |
Luminance Adjustment Orange | +21 |
Luminance Adjustment Purple | +15 |
Luminance Adjustment Red | +25 |
Luminance Adjustment Yellow | +44 |
Luminance Noise Reduction Contrast | 0 |
Luminance Noise Reduction Detail | 100 |
Luminance Smoothing | 92 |
Metering Mode | Multi-segment |
Override Look Vignette | False |
Parametric Darks | -11 |
Parametric Highlight Split | 62 |
Parametric Highlights | -7 |
Parametric Lights | +16 |
Parametric Midtone Split | 24 |
Parametric Shadow Split | 14 |
Parametric Shadows | -31 |
Perspective Aspect | 0 |
Perspective Horizontal | 0 |
Perspective Rotate | 0.0 |
Perspective Scale | 100 |
Perspective Upright | 0 |
Perspective Vertical | 0 |
Perspective X | 0.00 |
Perspective Y | 0.00 |
Pick | 0 |
Point Colors | -1.000000, -1.000000, -1.000000, -1.000000, -1.000000, -1.000000, -1.000000, -1.000000, -1.000000, -1.000000, -1.000000, -1.000000, -1.000000, -1.000000, -1.000000, -1.000000, -1.000000, -1.000000, -1.000000 |
Post Crop Vignette Amount | 0 |
Preserved File Name | _V4A8886.CR3 |
Process Version | 15.4 |
Rating | 1 |
Raw File Name | _V4A8886.dng |
Recommended Exposure Index | 3200 |
Red Hue | 0 |
Red Saturation | 0 |
Saturation | 0 |
Saturation Adjustment Aqua | 0 |
Saturation Adjustment Blue | 0 |
Saturation Adjustment Green | 0 |
Saturation Adjustment Magenta | +6 |
Saturation Adjustment Orange | +12 |
Saturation Adjustment Purple | +11 |
Saturation Adjustment Red | 0 |
Saturation Adjustment Yellow | +21 |
Scale Factor To 35 mm Equivalent | 1.0 |
Scene Capture Type | Standard |
Sensitivity Type | Recommended Exposure Index |
Shadow Tint | 0 |
Shadows 2012 | +100 |
Sharpen Detail | 44 |
Sharpen Edge Masking | 78 |
Sharpen Radius | +1.5 |
Sharpness | 61 |
Split Toning Balance | 0 |
Split Toning Highlight Hue | 0 |
Split Toning Highlight Saturation | 0 |
Split Toning Shadow Hue | 0 |
Split Toning Shadow Saturation | 0 |
Subject | ATS, Alpenregion, Bayern, Canon, EF, EOS R5, Fullframe, Miesbacher Oberland, Weyarn |
Texture | 0 |
Tint | +7 |
Title | Full moon over Alps ++ Vollmond über Kleinpienzenau |
Tone Curve Name 2012 | Linear |
Tone Curve PV2012 | 0, 0, 255, 255 |
Tone Curve PV2012 Blue | 0, 0, 255, 255 |
Tone Curve PV2012 Green | 0, 0, 255, 255 |
Tone Curve PV2012 Red | 0, 0, 255, 255 |
Version | 16.5 |
Vibrance | 0 |
Vignette Amount | 0 |
Vignette Correction Already Applied | True |
Weighted Flat Subject | ATS, Alpenregion, Bayern, Canon, EF, EOS R5, Fullframe, Miesbacher Oberland, Weyarn |
White Balance | Auto |
Whites 2012 | +22 |