Shooting information for this photo
Camera: | Canon EOS 350D DIGITAL |
Exposure: | 0.004 sec. (1/250) |
Aperture: | f/8.0 |
Focal Length: | 127.0 mm (35 mm equivalent: 494.5 mm) |
Flash: | Off, Did not fire |
Exposure mode: | Program AE |
Max Aperture: | 3.5 |
Resolution: | 240 x 240 dpi |
Dimension: | 1440 x 960 pixels |
Original Date: | 2010:03:25 19:35:16 |
Digitized Date: | 2010:03:25 19:35:16Z |
Created on: | 2010:03:25 19:35:16 |
Modified on: | 2010:08:07 03:11:12 |
Copyright: | Kieran Turner |
Already Applied | True |
Artist | unknown |
Blue Hue | 0 |
Blue Saturation | 0 |
Brightness | +50 |
Camera Profile | ACR 3.6 |
Chromatic Aberration B | 0 |
Chromatic Aberration R | 0 |
Circle Of Confusion | 0.008 mm |
Clarity | +55 |
Color Noise Reduction | 25 |
Color Space | Uncalibrated |
Color Temperature | 6250 |
Contrast | High |
Convert To Grayscale | False |
Creator | Kieran Turner |
Custom Rendered | Normal |
Defringe | 0 |
Exposure | +0.19 |
Exposure Compensation | 0 |
Exposure Mode | Auto |
Field Of View | 4.2 deg |
Fill Light | 0 |
Firmware | 1.0.3 |
Flash Compensation | -0.333333333333333 |
Flash Fired | False |
Flash Function | False |
Flash Mode | Off |
Flash Red Eye Mode | False |
Flash Return | No return detection |
Green Hue | 0 |
Green Saturation | 0 |
Has Crop | False |
Has Settings | True |
Highlight Recovery | 0 |
Hue Adjustment Aqua | 0 |
Hue Adjustment Blue | 0 |
Hue Adjustment Green | 0 |
Hue Adjustment Magenta | 0 |
Hue Adjustment Orange | 0 |
Hue Adjustment Purple | 0 |
Hue Adjustment Red | 0 |
Hue Adjustment Yellow | 0 |
Hyperfocal Distance | 261.25 m |
ISO | 400 |
Image Number | 107 |
Image Size | 1470x990 |
Lens | 28.0-135.0 mm |
Lens ID | Unknown (65535) 28-135mm |
Lens Info | 28-135mm f/? |
Light Value | 12.0 |
Location | Budva, Montenegro |
Luminance Adjustment Aqua | 0 |
Luminance Adjustment Blue | 0 |
Luminance Adjustment Green | 0 |
Luminance Adjustment Magenta | 0 |
Luminance Adjustment Orange | 0 |
Luminance Adjustment Purple | 0 |
Luminance Adjustment Red | 0 |
Luminance Adjustment Yellow | 0 |
Luminance Smoothing | 0 |
Marked | True |
Metering Mode | Average |
Owner Name | unknown |
Parametric Darks | -14 |
Parametric Highlight Split | 75 |
Parametric Highlights | +24 |
Parametric Lights | +26 |
Parametric Midtone Split | 50 |
Parametric Shadow Split | 25 |
Parametric Shadows | -50 |
Post Crop Vignette Amount | 0 |
Red Hue | 0 |
Red Saturation | 0 |
Rights | Kieran Turner |
Saturation | High |
Saturation Adjustment Aqua | -14 |
Saturation Adjustment Blue | 0 |
Saturation Adjustment Green | 0 |
Saturation Adjustment Magenta | 0 |
Saturation Adjustment Orange | -31 |
Saturation Adjustment Purple | 0 |
Saturation Adjustment Red | -14 |
Saturation Adjustment Yellow | -55 |
Scale Factor To 35 mm Equivalent | 3.9 |
Scene Capture Type | Standard |
Shadow Tint | 0 |
Shadows | 5 |
Sharpen Detail | 25 |
Sharpen Edge Masking | 0 |
Sharpen Radius | +1.0 |
Sharpness | Normal |
Split Toning Balance | -36 |
Split Toning Highlight Hue | 227 |
Split Toning Highlight Saturation | 31 |
Split Toning Shadow Hue | 73 |
Split Toning Shadow Saturation | 33 |
Tint | +22 |
Tone Curve | 0, 0, 32, 22, 64, 56, 128, 128, 192, 196, 255, 255 |
Tone Curve Name | Medium Contrast |
Version | 6.1 |
Vibrance | -12 |
Vignette Amount | -100 |
Vignette Midpoint | 8 |
White Balance | Auto |