Shooting information for this photo
Camera: | OLYMPUS IMAGING CORP. E-510 |
Exposure: | 0.03333 sec. (1/30) |
Aperture: | f/7.1 |
Focal Length: | 105.0 mm |
Flash: | On, Did not fire |
Exposure mode: | Manual |
Max Aperture: | 2.8 |
Resolution: | 240 x 240 dpi |
Dimension: | 730 x 1100 pixels |
Original Date: | 2010:06:14 11:57:02 |
Digitized Date: | 2010:06:14 11:57:02-04:00 |
Created on: | 2010:06:14 11:57:02 |
Modified on: | 2010:06:25 22:39:59 |
Software: | Adobe Photoshop CS4 Windows |
Already Applied | True |
Blue Hue | 0 |
Blue Saturation | 0 |
Brightness | +50 |
CFA Pattern | [Red,Green][Green,Blue] |
Camera Profile | Adobe Standard |
Chromatic Aberration B | 0 |
Chromatic Aberration R | 0 |
Clarity | +31 |
Color Mode | RGB |
Color Noise Reduction | 25 |
Color Space | sRGB |
Color Temperature | 5800 |
Contrast | Normal |
Convert To Grayscale | False |
Custom Rendered | Normal |
Defringe | 0 |
Description | OLYMPUS DIGITAL CAMERA |
Digital Zoom Ratio | 1 |
Exposure | 0.00 |
Exposure Compensation | 0 |
Exposure Mode | Manual |
Fill Light | 0 |
Flash Compensation | 0 |
Flash Fired | False |
Flash Function | False |
Flash Mode | On |
Flash Red Eye Mode | False |
Flash Return | No return detection |
Format | image/jpeg |
Gain Control | High gain up |
Green Hue | 0 |
Green Saturation | 0 |
Has Crop | False |
Has Settings | True |
Highlight Recovery | 0 |
Hue Adjustment Aqua | 0 |
Hue Adjustment Blue | 0 |
Hue Adjustment Green | 0 |
Hue Adjustment Magenta | 0 |
Hue Adjustment Orange | 0 |
Hue Adjustment Purple | 0 |
Hue Adjustment Red | 0 |
Hue Adjustment Yellow | 0 |
ICC Profile Name | sRGB IEC61966-2.1 |
ISO | 400 |
Image Description | OLYMPUS DIGITAL CAMERA |
Image Size | 730x1100 |
Lens | 105.0 mm f/2.8 |
Lens Info | 105mm f/2.8 |
Light Source | Cloudy |
Light Value | 8.6 |
Luminance Adjustment Aqua | 0 |
Luminance Adjustment Blue | 0 |
Luminance Adjustment Green | 0 |
Luminance Adjustment Magenta | 0 |
Luminance Adjustment Orange | 0 |
Luminance Adjustment Purple | 0 |
Luminance Adjustment Red | 0 |
Luminance Adjustment Yellow | 0 |
Luminance Smoothing | 0 |
Metering Mode | Spot |
Parametric Darks | 0 |
Parametric Highlight Split | 75 |
Parametric Highlights | 0 |
Parametric Lights | 0 |
Parametric Midtone Split | 50 |
Parametric Shadow Split | 25 |
Parametric Shadows | 0 |
Photometric Interpretation | RGB |
Planar Configuration | Chunky |
Post Crop Vignette Amount | 0 |
Rating | 0 |
Raw File Name | _6145235.ORF |
Red Hue | 0 |
Red Saturation | 0 |
Samples Per Pixel | 3 |
Saturation | Normal |
Saturation Adjustment Aqua | 0 |
Saturation Adjustment Blue | 0 |
Saturation Adjustment Green | 0 |
Saturation Adjustment Magenta | 0 |
Saturation Adjustment Orange | 0 |
Saturation Adjustment Purple | 0 |
Saturation Adjustment Red | 0 |
Saturation Adjustment Yellow | 0 |
Scene Capture Type | Standard |
Shadow Tint | 0 |
Shadows | 25 |
Sharpen Detail | 25 |
Sharpen Edge Masking | 0 |
Sharpen Radius | +1.0 |
Sharpness | Soft |
Split Toning Balance | 0 |
Split Toning Highlight Hue | 0 |
Split Toning Highlight Saturation | 0 |
Split Toning Shadow Hue | 0 |
Split Toning Shadow Saturation | 0 |
Tint | 0 |
Tone Curve | 0, 0, 32, 22, 64, 56, 128, 128, 192, 196, 255, 255 |
Tone Curve Name | Medium Contrast |
Version | 5.3 |
Vibrance | +20 |
Vignette Amount | 0 |
White Balance | Manual |