Shooting information for this photo
Camera: | Canon EOS 650D |
Exposure: | 0.025 sec. (1/40) |
Aperture: | f/6.3 |
Focal Length: | 63.0 mm (35 mm equivalent: 99.8 mm) |
Flash: | Off, Did not fire |
Exposure mode: | Aperture-priority AE |
Max Aperture: | 5.2 |
Resolution: | 240 x 240 dpi |
Original Date: | 2014:02:22 18:39:10 |
Created on: | 2014:02:22 18:39:10.02 |
Modified on: | 2021:06:29 06:35:44 |
Software: | Adobe Photoshop Lightroom Classic 10.3 (Windows) |
Copyright: | Alle RECHTE VORBEHALTEN |
Already Applied | True |
Approximate Focus Distance | 4.67 |
Artist | HANS-GUENTER MUELLER |
Auto Lateral CA | 0 |
Blacks 2012 | -70 |
Blue Hue | 0 |
Blue Saturation | 0 |
Camera Profile | Embedded |
Circle Of Confusion | 0.019 mm |
Clarity 2012 | 0 |
Color Grade Blending | 50 |
Color Grade Global Hue | 0 |
Color Grade Global Lum | 0 |
Color Grade Global Sat | 0 |
Color Grade Highlight Lum | 0 |
Color Grade Midtone Hue | 0 |
Color Grade Midtone Lum | 0 |
Color Grade Midtone Sat | 0 |
Color Grade Shadow Lum | 0 |
Color Noise Reduction | 47 |
Color Noise Reduction Detail | 50 |
Color Noise Reduction Smoothness | 50 |
Color Space | sRGB |
Contrast 2012 | 0 |
Convert To Grayscale | False |
Creator | HANS-GUENTER MUELLER |
Crop Angle | 0 |
Crop Bottom | 0.720414 |
Crop Constrain To Warp | 0 |
Crop Left | 0 |
Crop Right | 0.960552 |
Crop Top | 0 |
Custom Rendered | Normal |
Date Created | 2014:02:22 18:39:10 |
Defringe Green Amount | 0 |
Defringe Green Hue Hi | 60 |
Defringe Green Hue Lo | 40 |
Defringe Purple Amount | 0 |
Defringe Purple Hue Hi | 70 |
Defringe Purple Hue Lo | 30 |
Dehaze | 0 |
Description | HGKM |
Distortion Correction Already Applied | True |
Exposure 2012 | -0.13 |
Exposure Compensation | 0 |
Exposure Mode | Auto |
Field Of View | 20.4 deg |
Firmware | 1.0.1 |
Flash Compensation | 0 |
Format | image/jpeg |
Grain Amount | 0 |
Green Hue | 0 |
Green Saturation | 0 |
Has Crop | True |
Has Settings | True |
Highlights 2012 | -55 |
Hue Adjustment Aqua | 0 |
Hue Adjustment Blue | 0 |
Hue Adjustment Green | 0 |
Hue Adjustment Magenta | 0 |
Hue Adjustment Orange | 0 |
Hue Adjustment Purple | 0 |
Hue Adjustment Red | 0 |
Hue Adjustment Yellow | 0 |
Hyperfocal Distance | 33.22 m |
ISO | 1600 |
Image Description | HGKM |
Image Number | 0 |
Image Size | 3279x3279 |
Incremental Temperature | 0 |
Incremental Tint | 0 |
Label | Lila |
Lateral Chromatic Aberration Correction Already Applied | True |
Lens | 18-200mm |
Lens ID | Sigma 18-200mm f/3.5-6.3 DC OS |
Lens Info | 18-200mm f/? |
Lens Manual Distortion Amount | 0 |
Lens Model | 18-200mm |
Lens Profile Enable | 0 |
Light Value | 6.6 |
Luminance Adjustment Aqua | 0 |
Luminance Adjustment Blue | 0 |
Luminance Adjustment Green | 0 |
Luminance Adjustment Magenta | 0 |
Luminance Adjustment Orange | 0 |
Luminance Adjustment Purple | 0 |
Luminance Adjustment Red | 0 |
Luminance Adjustment Yellow | 0 |
Luminance Smoothing | 0 |
Metering Mode | Multi-segment |
Override Look Vignette | False |
Parametric Darks | 0 |
Parametric Highlight Split | 75 |
Parametric Highlights | 0 |
Parametric Lights | 0 |
Parametric Midtone Split | 50 |
Parametric Shadow Split | 25 |
Parametric Shadows | 0 |
Perspective Aspect | 0 |
Perspective Horizontal | 0 |
Perspective Rotate | 0.0 |
Perspective Scale | 100 |
Perspective Upright | 0 |
Perspective Vertical | 0 |
Perspective X | 0.00 |
Perspective Y | 0.00 |
Post Crop Vignette Amount | 0 |
Preserved File Name | IMG_5069.dng |
Process Version | 11.0 |
Rating | 3 |
Recommended Exposure Index | 1600 |
Red Hue | 0 |
Red Saturation | 0 |
Rights | Alle RECHTE VORBEHALTEN |
Saturation | 0 |
Saturation Adjustment Aqua | 0 |
Saturation Adjustment Blue | 0 |
Saturation Adjustment Green | 0 |
Saturation Adjustment Magenta | 0 |
Saturation Adjustment Orange | 0 |
Saturation Adjustment Purple | 0 |
Saturation Adjustment Red | 0 |
Saturation Adjustment Yellow | 0 |
Scale Factor To 35 mm Equivalent | 1.6 |
Scene Capture Type | Standard |
Sensitivity Type | Recommended Exposure Index |
Shadow Tint | 0 |
Shadows 2012 | 0 |
Sharpness | 0 |
Split Toning Balance | 0 |
Split Toning Highlight Hue | 0 |
Split Toning Highlight Saturation | 0 |
Split Toning Shadow Hue | 0 |
Split Toning Shadow Saturation | 0 |
Subject | Asien, Augen geschlossen, Bart, Dunkel, Ein Gesicht, Erwachsener, Farbenfroh, Frontalansicht, Gesicht, Indien, Kontinente und Länder, Männlich, Person |
Texture | 0 |
Tone Curve Name 2012 | Linear |
Tone Curve PV2012 | 0, 0, 255, 255 |
Tone Curve PV2012 Blue | 0, 0, 255, 255 |
Tone Curve PV2012 Green | 0, 0, 255, 255 |
Tone Curve PV2012 Red | 0, 0, 255, 255 |
Version | 13.3 |
Vibrance | 0 |
Vignette Amount | 0 |
Vignette Correction Already Applied | True |
White Balance | Auto |
Whites 2012 | -15 |
GPS Information |
GPS Latitude | 9 deg 55' 9.51" N |
GPS Latitude Ref | North |
GPS Longitude | 78 deg 7' 11.39" E |
GPS Longitude Ref | East |
GPS Position | 9 deg 55' 9.51" N, 78 deg 7' 11.39" E |
GPS Version ID | 2.2.0.0 |