Shooting information for this photo
Camera: | NIKON CORPORATION NIKON D7500 |
Exposure: | 0.0125 sec. (1/80) |
Aperture: | f/6.3 |
Focal Length: | 60.0 mm (35 mm equivalent: 90.0 mm) |
Flash: | Off, Did not fire |
Exposure mode: | Aperture-priority AE |
Max Aperture: | 2.8 |
Resolution: | 300 x 300 dpi |
Dimension: | 3712 x 5568 pixels |
Original Date: | 2018:07:21 10:24:10.59 |
Digitized Date: | 2018:07:21 10:24:10+02:00 |
Created on: | 2018:07:21 10:24:10.59 |
Software: | Adobe Photoshop Elements 14.0 (Windows) |
Copyright: | Gilles PRETET |
Already Applied | True |
Approximate Focus Distance | 2.66 |
Artist | Gilles PRETET |
Authors Position | GIPE25 |
Auto Lateral CA | 0 |
Auto White Version | 134348800 |
Blacks 2012 | 0 |
Blue Hue | 0 |
Blue Saturation | 0 |
CFA Pattern | [Red,Green][Green,Blue] |
Camera Profile | Embedded |
Caption Writer | Gilles PRETET |
Circle Of Confusion | 0.020 mm |
City | BESANCON |
Clarity 2012 | +25 |
Color Mode | RGB |
Color Noise Reduction | 35 |
Color Noise Reduction Detail | 38 |
Color Noise Reduction Smoothness | 50 |
Color Space | sRGB |
Color Temperature | 3500 |
Contrast | Normal |
Contrast 2012 | +34 |
Convert To Grayscale | False |
Country | FRANCE |
Country Code | FRA |
Creator | GIPE25 |
Credit | GIPE25 |
Custom Rendered | Normal |
Date Created | 20180427 |
Defringe Green Amount | 0 |
Defringe Green Hue Hi | 60 |
Defringe Green Hue Lo | 40 |
Defringe Purple Amount | 0 |
Defringe Purple Hue Hi | 70 |
Defringe Purple Hue Lo | 30 |
Dehaze | 0 |
Depth Of Field | 0.49 m (2.44 - 2.93) |
Exposure 2012 | +0.30 |
Exposure Compensation | 0 |
Exposure Mode | Auto |
Field Of View | 22.6 deg |
Focal Length In 35mm Format | 90 mm |
Format | image/jpeg |
Gain Control | Low gain up |
Grain Amount | 0 |
Green Hue | 0 |
Green Saturation | 0 |
Has Crop | False |
Has Settings | True |
Headline | MONACO: Grimaldi Forum: Exposition : L'or des Pharaons 90 |
Highlights 2012 | +14 |
Hue Adjustment Aqua | 0 |
Hue Adjustment Blue | 0 |
Hue Adjustment Green | 0 |
Hue Adjustment Magenta | 0 |
Hue Adjustment Orange | 0 |
Hue Adjustment Purple | 0 |
Hue Adjustment Red | 0 |
Hue Adjustment Yellow | 0 |
Hyperfocal Distance | 28.53 m |
ICC Profile Name | sRGB IEC61966-2.1 |
ISO | 1600 |
Image Number | 3497 |
Image Size | 3712x5568 |
Lens | 60.0 mm f/2.8 |
Lens Info | 60mm f/2.8 |
Lens Manual Distortion Amount | 0 |
Lens Model | 60.0 mm f/2.8 |
Lens Profile Enable | 0 |
Lens Profile Setup | LensDefaults |
Light Source | Unknown |
Light Value | 7.6 |
Location | CITADELLE |
Luminance Adjustment Aqua | 0 |
Luminance Adjustment Blue | 0 |
Luminance Adjustment Green | 0 |
Luminance Adjustment Magenta | 0 |
Luminance Adjustment Orange | 0 |
Luminance Adjustment Purple | 0 |
Luminance Adjustment Red | 0 |
Luminance Adjustment Yellow | 0 |
Luminance Noise Reduction Contrast | 35 |
Luminance Noise Reduction Detail | 35 |
Luminance Smoothing | 34 |
Maker Note Safety | Safe |
Metering Mode | Center-weighted average |
Parametric Darks | 0 |
Parametric Highlight Split | 75 |
Parametric Highlights | 0 |
Parametric Lights | 0 |
Parametric Midtone Split | 50 |
Parametric Shadow Split | 25 |
Parametric Shadows | 0 |
Perspective Aspect | 0 |
Perspective Horizontal | 0 |
Perspective Rotate | 0.0 |
Perspective Scale | 100 |
Perspective Upright | 0 |
Perspective Vertical | 0 |
Post Crop Vignette Amount | 0 |
Process Version | 6.7 |
Raw File Name | GPR_2654_DxO.dng |
Recommended Exposure Index | 1600 |
Red Hue | 0 |
Red Saturation | 0 |
Rights | GIPE25 |
Saturation | Normal |
Saturation Adjustment Aqua | 0 |
Saturation Adjustment Blue | 0 |
Saturation Adjustment Green | 0 |
Saturation Adjustment Magenta | 0 |
Saturation Adjustment Orange | 0 |
Saturation Adjustment Purple | 0 |
Saturation Adjustment Red | 0 |
Saturation Adjustment Yellow | 0 |
Scale Factor To 35 mm Equivalent | 1.5 |
Scene Capture Type | Standard |
Scene Type | Directly photographed |
Sensing Method | One-chip color area |
Sensitivity Type | Recommended Exposure Index |
Shadow Tint | 0 |
Shadows 2012 | 0 |
Sharpen Detail | 33 |
Sharpen Edge Masking | 100 |
Sharpen Radius | +1.3 |
Sharpness | Normal |
Source | GIPE25 |
Split Toning Balance | 0 |
Split Toning Highlight Hue | 0 |
Split Toning Highlight Saturation | 0 |
Split Toning Shadow Hue | 0 |
Split Toning Shadow Saturation | 0 |
State | BOURGOGNE - FRANCHE-COMTE |
Subject | Anse du Portier, geo:lat=43.74399332, geo:lon=7.43180442, geotagged, MCO, Monaco, Saint-Roman, exposition, grimaldi, forum, grimaldi forum, or, pharaon, pharaons, l'or des pharaons, nikon d7500, 60 mm, 60 macro |
Subject Distance | 2.66 m |
Subject Distance Range | Unknown |
Tint | +22 |
Tone Curve | 0, 0, 32, 22, 64, 56, 128, 128, 192, 196, 255, 255 |
Tone Curve Blue | 0, 0, 255, 255 |
Tone Curve Green | 0, 0, 255, 255 |
Tone Curve Name | Medium Contrast |
Tone Curve Name 2012 | Linear |
Tone Curve PV2012 | 0, 0, 255, 255 |
Tone Curve PV2012 Blue | 0, 0, 255, 255 |
Tone Curve PV2012 Green | 0, 0, 255, 255 |
Tone Curve PV2012 Red | 0, 0, 255, 255 |
Tone Curve Red | 0, 0, 255, 255 |
Tone Map Strength | 0 |
User Comment | Image: Gilles PRETET |
Version | 9.5 |
Vibrance | +54 |
Vignette Amount | 0 |
White Balance | Auto |
Whites 2012 | -100 |
GPS Information |
GPS Altitude | 16 m Above Sea Level |
GPS Altitude Ref | Above Sea Level |
GPS Date Stamp | 2018:07:21 |
GPS Date/Time | 2018:07:21 08:24:10Z |
GPS Latitude | 43 deg 44' 38.38" N |
GPS Latitude Ref | North |
GPS Longitude | 7 deg 25' 54.50" E |
GPS Longitude Ref | East |
GPS Map Datum | WGS-84 |
GPS Position | 43 deg 44' 38.38" N, 7 deg 25' 54.50" E |
GPS Time Stamp | 08:24:10 |
GPS Version ID | 2.2.0.0 |