Shooting information for this photo
Camera: | NIKON CORPORATION NIKON D7000 |
Exposure: | 5 sec. |
Aperture: | f/7.1 |
Focal Length: | 85.0 mm (35 mm equivalent: 127.0 mm) |
Flash: | Off, Did not fire |
Exposure mode: | Manual |
Max Aperture: | 5.7 |
Resolution: | 240 x 240 dpi |
Dimension: | 3264 x 4928 pixels |
Original Date: | 2015:07:13 22:35:50.70 |
Digitized Date: | 2015:07:13 22:35:50+02:00 |
Created on: | 2015:07:13 22:35:50.70 |
Software: | Adobe Photoshop Elements 11.0 Windows |
Copyright: | Gilles PRETET |
Already Applied | True |
Approximate Focus Distance | 4294967295 |
Artist | Gilles PRETET |
Authors Position | Gilles PRETET |
Auto Lateral CA | 0 |
Blacks 2012 | 0 |
Blue Hue | 0 |
Blue Saturation | 0 |
CFA Pattern | [Red,Green][Green,Blue] |
Camera Profile | Adobe Standard |
Caption Writer | Gilles PRETET |
Circle Of Confusion | 0.020 mm |
City | Belfort |
Clarity 2012 | +36 |
Color Mode | RGB |
Color Noise Reduction | 39 |
Color Noise Reduction Detail | 50 |
Color Space | sRGB |
Color Temperature | 3150 |
Contrast | Normal |
Contrast 2012 | 0 |
Convert To Grayscale | False |
Country | France |
Country Code | FRA |
Creator | Gilles PRETET |
Credit | Gilles PRETET |
Custom Rendered | Custom |
Date Created | 20150713 |
Defringe Green Amount | 0 |
Defringe Green Hue Hi | 60 |
Defringe Green Hue Lo | 40 |
Defringe Purple Amount | 0 |
Defringe Purple Hue Hi | 70 |
Defringe Purple Hue Lo | 30 |
Digital Zoom Ratio | 1 |
Exposure 2012 | 0.00 |
Exposure Compensation | 0 |
Exposure Mode | Manual |
Field Of View | 16.1 deg |
Focal Length In 35mm Format | 127 mm |
Format | image/jpeg |
Gain Control | None |
Grain Amount | 0 |
Green Hue | 0 |
Green Saturation | 0 |
Has Crop | False |
Has Settings | True |
Headline | BELFORT: 2015.07.13 Feux d'artifice. 05 |
Highlights 2012 | -49 |
Hue Adjustment Aqua | 0 |
Hue Adjustment Blue | 0 |
Hue Adjustment Green | 0 |
Hue Adjustment Magenta | 0 |
Hue Adjustment Orange | 0 |
Hue Adjustment Purple | 0 |
Hue Adjustment Red | 0 |
Hue Adjustment Yellow | 0 |
Hyperfocal Distance | 50.60 m |
ICC Profile Name | sRGB IEC61966-2.1 |
ISO | 200 |
Image Number | 13773 |
Image Size | 3264x4928 |
Lens | 16.0-85.0 mm f/3.5-5.6 |
Lens ID | AF-S DX VR Zoom-Nikkor 16-85mm f/3.5-5.6G ED |
Lens Info | 16-85mm f/3.5-5.6 |
Lens Manual Distortion Amount | 0 |
Lens Model | 16.0-85.0 mm f/3.5-5.6 |
Lens Profile Enable | 0 |
Lens Profile Setup | LensDefaults |
Light Source | Unknown |
Light Value | 2.3 |
Luminance Adjustment Aqua | 0 |
Luminance Adjustment Blue | 0 |
Luminance Adjustment Green | 0 |
Luminance Adjustment Magenta | 0 |
Luminance Adjustment Orange | 0 |
Luminance Adjustment Purple | 0 |
Luminance Adjustment Red | 0 |
Luminance Adjustment Yellow | 0 |
Luminance Noise Reduction Contrast | 37 |
Luminance Noise Reduction Detail | 50 |
Luminance Smoothing | 37 |
Metering Mode | Center-weighted average |
Parametric Darks | 0 |
Parametric Highlight Split | 75 |
Parametric Highlights | 0 |
Parametric Lights | 0 |
Parametric Midtone Split | 50 |
Parametric Shadow Split | 25 |
Parametric Shadows | 0 |
Perspective Horizontal | 0 |
Perspective Rotate | 0.0 |
Perspective Scale | 100 |
Perspective Vertical | 0 |
Post Crop Vignette Amount | 0 |
Process Version | 6.7 |
Raw File Name | _DSC5403.NEF |
Red Hue | 0 |
Red Saturation | 0 |
Rights | Gilles PRETET |
Saturation | Normal |
Saturation Adjustment Aqua | 0 |
Saturation Adjustment Blue | 0 |
Saturation Adjustment Green | 0 |
Saturation Adjustment Magenta | 0 |
Saturation Adjustment Orange | 0 |
Saturation Adjustment Purple | 0 |
Saturation Adjustment Red | 0 |
Saturation Adjustment Yellow | 0 |
Scale Factor To 35 mm Equivalent | 1.5 |
Scene Capture Type | Standard |
Scene Type | Directly photographed |
Sensing Method | One-chip color area |
Sensitivity Type | Recommended Exposure Index |
Shadow Tint | 0 |
Shadows 2012 | 0 |
Sharpen Detail | 37 |
Sharpen Edge Masking | 100 |
Sharpen Radius | +1.4 |
Sharpness | Hard |
Source | Gilles PRETET |
Split Toning Balance | 0 |
Split Toning Highlight Hue | 0 |
Split Toning Highlight Saturation | 0 |
Split Toning Shadow Hue | 0 |
Split Toning Shadow Saturation | 0 |
State | Franche-Comté |
Subject | belfort, territoire, 90, territoire de belfort, franche-comté, france, fr, fra, europe, eu, nikon, d7000, geo:lat=47.63844867, geo:lon=6.86308725, geotagged, geo:lat=47.63437850, geo:lon=6.84441372, 16-85mm, feu, feux, artifice, feux d'artifice, ville, nuit, night |
Subject Distance Range | Unknown |
Time Zone Offset | 2 |
Tint | -3 |
Tone Curve Name 2012 | Linear |
Tone Curve PV2012 | 0, 0, 255, 255 |
Tone Curve PV2012 Blue | 0, 0, 255, 255 |
Tone Curve PV2012 Green | 0, 0, 255, 255 |
Tone Curve PV2012 Red | 0, 0, 255, 255 |
User Comment | IMAGES:www.ipernity.com/gipe25 |
Version | 7.4 |
Vibrance | 0 |
Vignette Amount | 0 |
White Balance | Auto |
Whites 2012 | -56 |
GPS Information |
GPS Altitude | 375 m Above Sea Level |
GPS Altitude Ref | Above Sea Level |
GPS Date Stamp | 2015:07:13 |
GPS Date/Time | 2015:07:13 20:35:50Z |
GPS Latitude | 47 deg 38' 3.76" N |
GPS Latitude Ref | North |
GPS Longitude | 6 deg 50' 39.89" E |
GPS Longitude Ref | East |
GPS Map Datum | WGS-84 |
GPS Position | 47 deg 38' 3.76" N, 6 deg 50' 39.89" E |
GPS Time Stamp | 20:35:50 |
GPS Version ID | 2.2.0.0 |