Shooting information for this photo
Camera: | NIKON CORPORATION NIKON D7000 |
Exposure: | 0.01667 sec. (1/60) |
Aperture: | f/11.0 |
Focal Length: | 200.0 mm (35 mm equivalent: 300.0 mm) |
Flash: | Off, Did not fire |
Exposure mode: | Aperture-priority AE |
Max Aperture: | 4.0 |
Resolution: | 300 x 300 dpi |
Dimension: | 4928 x 3264 pixels |
Original Date: | 2014:06:29 17:49:34.50 |
Digitized Date: | 2014:06:29 17:49:34+02:00 |
Created on: | 2014:06:29 17:49:34.50 |
Software: | ViewNX 2.9 W |
Copyright: | Gilles PRETET |
Already Applied | True |
Approximate Focus Distance | 15 |
Artist | Gilles PRETET |
Authors Position | Gilles PRETET |
Auto Lateral CA | 0 |
Blacks 2012 | +52 |
Blue Hue | 0 |
Blue Saturation | 0 |
CFA Pattern | [Red,Green][Green,Blue] |
Camera Profile | Adobe Standard |
Caption Writer | Alsace: Une Cigogne blanche ( Ciconia ciconia ). 18 |
Circle Of Confusion | 0.020 mm |
Clarity 2012 | +25 |
Color Mode | RGB |
Color Noise Reduction | 40 |
Color Noise Reduction Detail | 50 |
Color Space | Uncalibrated |
Color Temperature | 4650 |
Contrast | Normal |
Contrast 2012 | -7 |
Convert To Grayscale | False |
Country | France |
Country Code | FRA |
Creator | Gilles PRETET |
Custom Rendered | Normal |
Defringe Green Amount | 0 |
Defringe Green Hue Hi | 60 |
Defringe Green Hue Lo | 40 |
Defringe Purple Amount | 0 |
Defringe Purple Hue Hi | 70 |
Defringe Purple Hue Lo | 30 |
Digital Zoom Ratio | 1 |
Exposure 2012 | +1.10 |
Exposure Compensation | 0 |
Exposure Mode | Auto |
Field Of View | 6.9 deg |
Focal Length In 35mm Format | 300 mm |
Format | image/jpeg |
Gain Control | None |
Grain Amount | 0 |
Green Hue | 0 |
Green Saturation | 0 |
Has Crop | False |
Has Settings | True |
Highlights 2012 | -15 |
Hue Adjustment Aqua | 0 |
Hue Adjustment Blue | 0 |
Hue Adjustment Green | 0 |
Hue Adjustment Magenta | 0 |
Hue Adjustment Orange | 0 |
Hue Adjustment Purple | 0 |
Hue Adjustment Red | 0 |
Hue Adjustment Yellow | 0 |
Hyperfocal Distance | 181.54 m |
ICC Profile Name | sRGB IEC61966-2.1 |
IFD0 Offset | 1296 |
ISO | 100 |
Image Data Size | 5295726 |
Image Number | 12282 |
Image Size | 4928x3264 |
Lens | 70.0-200.0 mm f/4.0 |
Lens ID | AF-S Nikkor 70-200mm f/4G ED VR |
Lens Info | 70-200mm f/4 |
Lens Manual Distortion Amount | 0 |
Lens Model | 70.0-200.0 mm f/4.0 |
Lens Profile Enable | 0 |
Lens Profile Setup | LensDefaults |
Light Source | Unknown |
Light Value | 12.8 |
Location | Michelbach |
Luminance Adjustment Aqua | 0 |
Luminance Adjustment Blue | 0 |
Luminance Adjustment Green | 0 |
Luminance Adjustment Magenta | 0 |
Luminance Adjustment Orange | 0 |
Luminance Adjustment Purple | 0 |
Luminance Adjustment Red | 0 |
Luminance Adjustment Yellow | 0 |
Luminance Noise Reduction Contrast | 38 |
Luminance Noise Reduction Detail | 50 |
Luminance Smoothing | 37 |
Maker Note Version | 2.11 |
Metering Mode | Center-weighted average |
NEF Bit Depth | n/a (JPEG) |
Nikon Capture Version | ViewNX 2.9 W |
Parametric Darks | 0 |
Parametric Highlight Split | 75 |
Parametric Highlights | 0 |
Parametric Lights | 0 |
Parametric Midtone Split | 50 |
Parametric Shadow Split | 25 |
Parametric Shadows | 0 |
Perspective Horizontal | 0 |
Perspective Rotate | 0.0 |
Perspective Scale | 100 |
Perspective Vertical | 0 |
Post Crop Vignette Amount | 0 |
Preview IFD Offset | 1196 |
Process Version | 6.7 |
Raw File Name | _DSC3991.NEF |
Red Hue | 0 |
Red Saturation | 0 |
Rights | Gilles PRETET |
Saturation | Normal |
Saturation Adjustment Aqua | 0 |
Saturation Adjustment Blue | 0 |
Saturation Adjustment Green | 0 |
Saturation Adjustment Magenta | 0 |
Saturation Adjustment Orange | 0 |
Saturation Adjustment Purple | 0 |
Saturation Adjustment Red | 0 |
Saturation Adjustment Yellow | 0 |
Scale Factor To 35 mm Equivalent | 1.5 |
Scene Capture Type | Standard |
Scene Type | Directly photographed |
Sensing Method | One-chip color area |
Sensitivity Type | Recommended Exposure Index |
Shadow Tint | 0 |
Shadows 2012 | 0 |
Sharpen Detail | 34 |
Sharpen Edge Masking | 36 |
Sharpen Radius | +1.4 |
Sharpness | Normal |
Split Toning Balance | 0 |
Split Toning Highlight Hue | 0 |
Split Toning Highlight Saturation | 0 |
Split Toning Shadow Hue | 0 |
Split Toning Shadow Saturation | 0 |
State | Alsace |
Subject | Alsace, FRA, France, geo:lat=47.75781983, geo:lon=7.12210178, geotagged, Michelbach, 68, fr, cigogne, Ciconia ciconia, Cigogne blanche, Ciconiidae, aves, nikon, d7000, 70-200 f:4 |
Subject Distance Range | Unknown |
Time Zone Offset | 2 |
Tint | +11 |
Tone Curve Name 2012 | Linear |
Tone Curve PV2012 | 0, 0, 255, 255 |
Tone Curve PV2012 Blue | 0, 0, 255, 255 |
Tone Curve PV2012 Green | 0, 0, 255, 255 |
Tone Curve PV2012 Red | 0, 0, 255, 255 |
User Comment | IMAGES:www.ipernity.com/gipe25 |
Version | 7.4 |
Vibrance | 0 |
Vignette Amount | 0 |
White Balance | Auto |
Whites 2012 | -64 |
GPS Information |
GPS Altitude | 329 m Above Sea Level |
GPS Altitude Ref | Above Sea Level |
GPS Date Stamp | 2014:06:29 |
GPS Date/Time | 2014:06:29 15:49:34Z |
GPS Latitude | 47 deg 45' 28.15" N |
GPS Latitude Ref | North |
GPS Longitude | 7 deg 7' 19.57" E |
GPS Longitude Ref | East |
GPS Map Datum | WGS-84 |
GPS Position | 47 deg 45' 28.15" N, 7 deg 7' 19.57" E |
GPS Time Stamp | 15:49:34 |
GPS Version ID | 2.2.0.0 |