Shooting information for this photo
Camera: | NIKON COOLPIX S7000 |
Exposure: | 0.02 sec. (1/50) |
Aperture: | f/3.4 |
Focal Length: | 4.5 mm (35 mm equivalent: 25.0 mm) |
Flash: | Auto, Did not fire |
Exposure mode: | Program AE |
Max Aperture: | 3.4 |
Resolution: | 240 x 240 dpi |
Original Date: | 2016:12:13 09:38:22.00 |
Created on: | 2016:12:13 09:38:22 |
Modified on: | 2017:03:27 21:19:52 |
Software: | Adobe Photoshop Lightroom 4.4 (Windows) |
Already Applied | True |
Auto Lateral CA | 0 |
Blacks 2012 | +1 |
Blue Hue | 0 |
Blue Saturation | 0 |
Camera Profile | Embedded |
Circle Of Confusion | 0.005 mm |
Clarity 2012 | 0 |
Color Noise Reduction | 0 |
Color Space | sRGB |
Contrast | Normal |
Contrast 2012 | +1 |
Convert To Grayscale | False |
Crop Angle | -0.4 |
Crop Bottom | 0.853723 |
Crop Constrain To Warp | 0 |
Crop Height | 2195 |
Crop Left | 0.031439 |
Crop Right | 0.862407 |
Crop Top | 0.080873 |
Crop Unit | pixels |
Crop Width | 3100 |
Custom Rendered | Normal |
Date Created | 2016:12:13 09:38:22.00 |
Defringe Green Amount | 0 |
Defringe Green Hue Hi | 60 |
Defringe Green Hue Lo | 40 |
Defringe Purple Amount | 0 |
Defringe Purple Hue Hi | 70 |
Defringe Purple Hue Lo | 30 |
Description | Maps and the official publications list a large area adjacent to downtown Birmingham as 'gay village'. Tourist brochures describe the area as a lively gay center, but I was in Birmingham from Sunday through Tuesday and when I visited the area, there were no people out and about. It seems to be a night area, didn't find any restaurants or shops. |
Digital Zoom Ratio | 1 |
Exposure 2012 | +0.05 |
Exposure Compensation | -0.3 |
Exposure Mode | Auto |
Field Of View | 71.5 deg |
Focal Length In 35mm Format | 25 mm |
Format | image/jpeg |
Gain Control | None |
Grain Amount | 0 |
Green Hue | 0 |
Green Saturation | 0 |
Has Crop | True |
Has Settings | True |
Highlights 2012 | -40 |
Hue Adjustment Aqua | 0 |
Hue Adjustment Blue | 0 |
Hue Adjustment Green | 0 |
Hue Adjustment Magenta | 0 |
Hue Adjustment Orange | 0 |
Hue Adjustment Purple | 0 |
Hue Adjustment Red | 0 |
Hue Adjustment Yellow | 0 |
Hyperfocal Distance | 1.10 m |
ISO | 125 |
Image Description | Maps and the official publications list a large area adjacent to downtown Birmingham as 'gay village'. Tourist brochures describe the area as a lively gay center, but I was in Birmingham from Sunday through Tuesday and when I visited the area, there were no people out and about. It seems to be a night area, didn't find any restaurants or shops. |
Image Size | 3100x2195 |
Incremental Temperature | 0 |
Incremental Tint | 0 |
Lens Manual Distortion Amount | 0 |
Lens Profile Enable | 0 |
Lens Profile Setup | LensDefaults |
Light Source | Unknown |
Light Value | 8.9 |
Luminance Adjustment Aqua | 0 |
Luminance Adjustment Blue | 0 |
Luminance Adjustment Green | 0 |
Luminance Adjustment Magenta | 0 |
Luminance Adjustment Orange | 0 |
Luminance Adjustment Purple | 0 |
Luminance Adjustment Red | 0 |
Luminance Adjustment Yellow | 0 |
Luminance Smoothing | 0 |
Metering Mode | Multi-segment |
Parametric Darks | 0 |
Parametric Highlight Split | 75 |
Parametric Highlights | 0 |
Parametric Lights | 0 |
Parametric Midtone Split | 50 |
Parametric Shadow Split | 25 |
Parametric Shadows | 0 |
Perspective Horizontal | 0 |
Perspective Rotate | 0.0 |
Perspective Scale | 100 |
Perspective Vertical | -5 |
Post Crop Vignette Amount | 0 |
Process Version | 6.7 |
Red Hue | 0 |
Red Saturation | 0 |
Saturation | Normal |
Saturation Adjustment Aqua | 0 |
Saturation Adjustment Blue | 0 |
Saturation Adjustment Green | 0 |
Saturation Adjustment Magenta | 0 |
Saturation Adjustment Orange | 0 |
Saturation Adjustment Purple | 0 |
Saturation Adjustment Red | 0 |
Saturation Adjustment Yellow | 0 |
Scale Factor To 35 mm Equivalent | 5.6 |
Scene Capture Type | Standard |
Scene Type | Directly photographed |
Sensitivity Type | Standard Output Sensitivity |
Shadow Tint | 0 |
Shadows 2012 | +40 |
Sharpen Detail | 25 |
Sharpen Edge Masking | 0 |
Sharpen Radius | +1.0 |
Sharpness | Normal |
Split Toning Balance | 0 |
Split Toning Highlight Hue | 0 |
Split Toning Highlight Saturation | 0 |
Split Toning Shadow Hue | 0 |
Split Toning Shadow Saturation | 0 |
Subject | Birmingham, England, Europe2016, gay |
Subject Distance Range | Unknown |
Title | Birmingham (#0223) |
Tone Curve Name 2012 | Linear |
Tone Curve PV2012 | 0, 0, 255, 255 |
Tone Curve PV2012 Blue | 0, 0, 255, 255 |
Tone Curve PV2012 Green | 0, 0, 255, 255 |
Tone Curve PV2012 Red | 0, 0, 255, 255 |
Version | 7.4 |
Vibrance | 0 |
Vignette Amount | 0 |
White Balance | Auto |
Whites 2012 | 0 |
GPS Information |
GPS Latitude | 52 deg 28' 20.67" N |
GPS Latitude Ref | North |
GPS Longitude | 1 deg 53' 41.38" W |
GPS Longitude Ref | West |
GPS Position | 52 deg 28' 20.67" N, 1 deg 53' 41.38" W |
GPS Version ID | 2.2.0.0 |