Shooting information for this photo
Camera: | Canon PowerShot SD850 IS |
Exposure: | 0.004 sec. (1/250) |
Aperture: | f/2.8 |
Focal Length: | 5.8 mm (35 mm equivalent: 35.1 mm) |
Flash: | Auto, Did not fire |
Max Aperture: | 2.8 |
Resolution: | 240 x 240 dpi |
Original Date: | 2011:03:13 12:18:38 |
Created on: | 2011:03:13 12:18:38 |
Modified on: | 2013:02:22 16:02:07 |
Software: | Adobe Photoshop Lightroom 4.3 (Windows) |
Already Applied | True |
Auto Lateral CA | 0 |
Blacks 2012 | +1 |
Blue Hue | 0 |
Blue Saturation | 0 |
Camera Profile | Embedded |
Circle Of Confusion | 0.005 mm |
Clarity 2012 | +15 |
Color Noise Reduction | 0 |
Contrast 2012 | +2 |
Convert To Grayscale | False |
Crop Angle | 0 |
Crop Bottom | 0.91587 |
Crop Constrain To Warp | 0 |
Crop Height | 1780 |
Crop Left | 0.275467 |
Crop Right | 0.888092 |
Crop Top | 0 |
Crop Unit | pixels |
Crop Width | 1588 |
Custom Rendered | Normal |
Date Created | 2011:03:13 12:18:38 |
Defringe Green Amount | 0 |
Defringe Green Hue Hi | 60 |
Defringe Green Hue Lo | 40 |
Defringe Purple Amount | 0 |
Defringe Purple Hue Hi | 70 |
Defringe Purple Hue Lo | 30 |
Description | I was surprised to come across the Utilikilts store in a fairly conventional shopping area. Since kilts are popular with gay men who identifies as 'bears' or with the leather community, it seemed incongruous for the store to be where it was. I had to remind myself that the company is not specifically gay-identified. |
Digital Zoom Ratio | 1 |
Exposure 2012 | -0.59 |
Exposure Compensation | 0 |
Exposure Mode | Auto |
Field Of View | 54.3 deg |
Format | image/jpeg |
Grain Amount | 0 |
Green Hue | 0 |
Green Saturation | 0 |
Has Crop | True |
Has Settings | True |
Highlights 2012 | -2 |
Hue Adjustment Aqua | 0 |
Hue Adjustment Blue | 0 |
Hue Adjustment Green | 0 |
Hue Adjustment Magenta | 0 |
Hue Adjustment Orange | 0 |
Hue Adjustment Purple | 0 |
Hue Adjustment Red | 0 |
Hue Adjustment Yellow | 0 |
Hyperfocal Distance | 2.42 m |
ISO | 400 |
Image Description | I was surprised to come across the Utilikilts store in a fairly conventional shopping area. Since kilts are popular with gay men who identifies as 'bears' or with the leather community, it seemed incongruous for the store to be where it was. I had to remind myself that the company is not specifically gay-identified. |
Image Size | 1780x1588 |
Incremental Temperature | 0 |
Incremental Tint | 0 |
Last Keyword XMP | washington, seattle |
Lens Manual Distortion Amount | 0 |
Lens Profile Enable | 0 |
Lens Profile Setup | LensDefaults |
Light Value | 8.9 |
Luminance Adjustment Aqua | 0 |
Luminance Adjustment Blue | 0 |
Luminance Adjustment Green | 0 |
Luminance Adjustment Magenta | 0 |
Luminance Adjustment Orange | 0 |
Luminance Adjustment Purple | 0 |
Luminance Adjustment Red | 0 |
Luminance Adjustment Yellow | 0 |
Luminance Smoothing | 0 |
Metering Mode | Multi-segment |
Parametric Darks | 0 |
Parametric Highlight Split | 75 |
Parametric Highlights | 0 |
Parametric Lights | 0 |
Parametric Midtone Split | 50 |
Parametric Shadow Split | 25 |
Parametric Shadows | 0 |
Perspective Horizontal | 0 |
Perspective Rotate | 0.0 |
Perspective Scale | 100 |
Perspective Vertical | 0 |
Post Crop Vignette Amount | 0 |
Process Version | 6.7 |
Red Hue | 0 |
Red Saturation | 0 |
Saturation | 0 |
Saturation Adjustment Aqua | 0 |
Saturation Adjustment Blue | 0 |
Saturation Adjustment Green | 0 |
Saturation Adjustment Magenta | 0 |
Saturation Adjustment Orange | 0 |
Saturation Adjustment Purple | 0 |
Saturation Adjustment Red | 0 |
Saturation Adjustment Yellow | 0 |
Scale Factor To 35 mm Equivalent | 6.1 |
Scene Capture Type | Standard |
Sensing Method | One-chip color area |
Shadow Tint | 0 |
Shadows 2012 | +2 |
Sharpen Detail | 25 |
Sharpen Edge Masking | 0 |
Sharpen Radius | +1.0 |
Sharpness | 0 |
Split Toning Balance | 0 |
Split Toning Highlight Hue | 0 |
Split Toning Highlight Saturation | 0 |
Split Toning Shadow Hue | 0 |
Split Toning Shadow Saturation | 0 |
Subject | seattle, signs, washington |
Title | Seattle Utilikilts store (4116) |
Tone Curve Name 2012 | Linear |
Tone Curve PV2012 | 0, 0, 255, 255 |
Tone Curve PV2012 Blue | 0, 0, 255, 255 |
Tone Curve PV2012 Green | 0, 0, 255, 255 |
Tone Curve PV2012 Red | 0, 0, 255, 255 |
Version | 7.3 |
Vibrance | 0 |
Vignette Amount | 0 |
White Balance | Auto |
Whites 2012 | +19 |
GPS Information |
GPS Latitude | 47 deg 36' 8.49" N |
GPS Latitude Ref | North |
GPS Longitude | 122 deg 20' 2.49" W |
GPS Longitude Ref | West |
GPS Position | 47 deg 36' 8.49" N, 122 deg 20' 2.49" W |
GPS Version ID | 2.2.0.0 |