Shooting information for this photo
Camera: | SONY ILCE-7C |
Exposure: | 0.002 sec. (1/500) |
Aperture: | f/5.0 |
Focal Length: | 180.0 mm (35 mm equivalent: 180.0 mm) |
Flash: | Off, Did not fire |
Exposure mode: | Aperture-priority AE |
Max Aperture: | 2.8 |
Resolution: | 72 x 72 dpi |
Original Date: | 2024:11:20 16:44:52.620 |
Created on: | 2024:11:20 16:44:52.620 |
Modified on: | 2024:12:10 09:13:46 |
Software: | Adobe Photoshop Lightroom Classic 13.5.1 (Windows) |
Already Applied | True |
Auto Lateral CA | 1 |
Blacks 2012 | 0 |
Blue Hue | 0 |
Blue Saturation | +9 |
Brightness Value | 2.9078125 |
Camera Profile | Adobe Standard |
Circle Of Confusion | 0.030 mm |
Clarity 2012 | +21 |
Color Grade Blending | 50 |
Color Grade Global Hue | 0 |
Color Grade Global Lum | 0 |
Color Grade Global Sat | 0 |
Color Grade Highlight Lum | 0 |
Color Grade Midtone Hue | 0 |
Color Grade Midtone Lum | 0 |
Color Grade Midtone Sat | 0 |
Color Grade Shadow Lum | 0 |
Color Noise Reduction | 0 |
Color Space | sRGB |
Color Temperature | 5650 |
Compatible Version | 268435456 |
Contrast | Normal |
Contrast 2012 | 0 |
Crop Angle | 0 |
Crop Bottom | 0.734634 |
Crop Constrain To Warp | 0 |
Crop Left | 0.214651 |
Crop Right | 0.949285 |
Crop Top | 0 |
Custom Rendered | Normal |
Date Created | 2024:11:20 16:44:52.620+02:00 |
Defringe Green Amount | 0 |
Defringe Green Hue Hi | 60 |
Defringe Green Hue Lo | 40 |
Defringe Purple Amount | 0 |
Defringe Purple Hue Hi | 70 |
Defringe Purple Hue Lo | 30 |
Dehaze | +14 |
Depth Based Corrections Correction Active | true |
Depth Based Corrections Correction Amount | 1.12 |
Depth Based Corrections Correction Masks Mask Active | true |
Depth Based Corrections Correction Masks Mask Blend Mode | 0 |
Depth Based Corrections Correction Masks Mask Inverted | false |
Depth Based Corrections Correction Masks Mask Sync ID | 6DBE1EDD2967374F947A14A4AEF307 D4 |
Depth Based Corrections Correction Masks Mask Value | 1 |
Depth Based Corrections Correction Masks Masks Center Weight | 0 |
Depth Based Corrections Correction Masks Masks Flow | 1 |
Depth Based Corrections Correction Masks Masks Mask Active | true |
Depth Based Corrections Correction Masks Masks Mask Blend Mode | 0 |
Depth Based Corrections Correction Masks Masks Mask Inverted | false |
Depth Based Corrections Correction Masks Masks Mask Sync ID | 26E8A9FF6DA9374FB6D7E233423729 11 |
Depth Based Corrections Correction Masks Masks Mask Value | 1 |
Depth Based Corrections Correction Masks Masks Radius | 0.026395 |
Depth Based Corrections Correction Masks Masks What | Mask/Paint |
Depth Based Corrections Correction Masks What | Mask/Aggregate |
Depth Based Corrections Correction Sync ID | C4EEFCF7B3E80A4F9D8A212888789E CE |
Depth Based Corrections Local Corrected Depth | 1 |
Depth Based Corrections Local Curve Refine Saturation | 100 |
Depth Based Corrections What | Correction |
Depth Map Info Base Highlight Guide Table | 68767327CD77EF3EE57AB9934209D4 E8 |
Depth Map Info Base Highlight Guide Version | 1 |
Depth Map Info Base Layered Depth Table | FB6AE84EACD3482E19807CC83C0A5F A1 |
Depth Map Info Base Layered Depth Version | 1 |
Depth Map Info Base Raw Depth Table | E514F049A9A7F0F9B9D567B0E3F014 CC |
Depth Map Info Base Raw Depth Version | 12 |
Depth Map Info Depth Source | 2 |
Digital Zoom Ratio | 1 |
Enhance Denoise Already Applied | True |
Enhance Denoise Luma Amount | 50 |
Enhance Denoise Version | 251658240 |
Enhance Details Already Applied | True |
Enhance Details Version | 218300416 |
Exposure 2012 | 0.00 |
Exposure Compensation | +0.3 |
Exposure Mode | Auto |
Field Of View | 11.4 deg |
Focal Length In 35mm Format | 180 mm |
Format | image/jpeg |
Grain Amount | 0 |
Green Hue | 0 |
Green Saturation | +11 |
HDR Edit Mode | 0 |
Has Crop | True |
Has Extended XMP | 7D2C77716306459A505E1F32EF6BD4 36 |
Has Settings | True |
Highlights 2012 | -70 |
Hue Adjustment Aqua | 0 |
Hue Adjustment Blue | 0 |
Hue Adjustment Green | 0 |
Hue Adjustment Magenta | 0 |
Hue Adjustment Orange | 0 |
Hue Adjustment Purple | 0 |
Hue Adjustment Red | 0 |
Hue Adjustment Yellow | 0 |
Hyperfocal Distance | 215.67 m |
ISO | 8000 |
Image Size | 2400x1600 |
Label | Jaune |
Lateral Chromatic Aberration Correction Already Applied | True |
Lens | E 70-180mm F2.8 A065 |
Lens Blur Active | true |
Lens Blur Blur Amount | 50 |
Lens Blur Bokeh Aspect | 0 |
Lens Blur Bokeh Rotation | 0 |
Lens Blur Bokeh Shape | 0 |
Lens Blur Bokeh Shape Detail | 0 |
Lens Blur Cat Eye Amount | 0 |
Lens Blur Cat Eye Scale | 100 |
Lens Blur Focal Range | -44 36 96 176 |
Lens Blur Focal Range Source | 1 |
Lens Blur Highlights Boost | 50 |
Lens Blur Highlights Threshold | 50 |
Lens Blur Sampled Area | -0.509264 -0.323019 1.490736 1.676981 |
Lens Blur Sampled Range | 36 96 |
Lens Blur Spherical Aberration | 0 |
Lens Blur Subject Range | 36 96 |
Lens Blur Version | 1 |
Lens Distort Info | 1027899739/1073741824 43579362/1073741824 3445673/1073741824 -1193818/1073741824 |
Lens Info | 70-180mm f/2.8 |
Lens Manual Distortion Amount | 0 |
Lens Model | E 70-180mm F2.8 A065 |
Lens Profile Enable | 0 |
Light Source | Unknown |
Light Value | 7.3 |
Look Amount | 1 |
Look Group | Profiles |
Look Name | Adobe Color |
Look Parameters Camera Profile | Adobe Standard |
Look Parameters Convert To Grayscale | False |
Look Parameters Look Table | E1095149FDB39D7A057BAB208837E2 E1 |
Look Parameters Process Version | 15.4 |
Look Parameters Tone Curve PV2012 | 0, 0, 22, 16, 40, 35, 127, 127, 224, 230, 240, 246, 255, 255 |
Look Parameters Tone Curve PV2012 Blue | 0, 0, 255, 255 |
Look Parameters Tone Curve PV2012 Green | 0, 0, 255, 255 |
Look Parameters Tone Curve PV2012 Red | 0, 0, 255, 255 |
Look Parameters Version | 16.5 |
Look Supports Amount | false |
Look Supports Monochrome | false |
Look Supports Output Referred | false |
Luminance Adjustment Aqua | 0 |
Luminance Adjustment Blue | 0 |
Luminance Adjustment Green | 0 |
Luminance Adjustment Magenta | 0 |
Luminance Adjustment Orange | 0 |
Luminance Adjustment Purple | 0 |
Luminance Adjustment Red | 0 |
Luminance Adjustment Yellow | 0 |
Luminance Smoothing | 0 |
Metering Mode | Multi-segment |
Override Look Vignette | False |
Parametric Darks | 0 |
Parametric Highlight Split | 75 |
Parametric Highlights | 0 |
Parametric Lights | 0 |
Parametric Midtone Split | 50 |
Parametric Shadow Split | 25 |
Parametric Shadows | 0 |
Perspective Aspect | 0 |
Perspective Horizontal | 0 |
Perspective Rotate | 0.0 |
Perspective Scale | 100 |
Perspective Upright | 0 |
Perspective Vertical | 0 |
Perspective X | 0.00 |
Perspective Y | 0.00 |
Pick | 0 |
Point Colors | -1.000000, -1.000000, -1.000000, -1.000000, -1.000000, -1.000000, -1.000000, -1.000000, -1.000000, -1.000000, -1.000000, -1.000000, -1.000000, -1.000000, -1.000000, -1.000000, -1.000000, -1.000000, -1.000000 |
Post Crop Vignette Amount | 0 |
Preserved File Name | A7C02604.ARW |
Process Version | 15.4 |
Rating | 5 |
Raw File Name | roller-494-Avec accentuation-Bruit.dng |
Recommended Exposure Index | 8000 |
Red Hue | 0 |
Red Saturation | +3 |
Region Applied To Dimensions H | 2939 |
Region Applied To Dimensions Unit | pixel |
Region Applied To Dimensions W | 4408 |
Region Area H | 0.06786, 0.08383 |
Region Area W | 0.04520, 0.05583 |
Region Area X | 0.35785, 0.59314 |
Region Area Y | 0.33532, 0.20758 |
Region Rotation | 0.00000 |
Region Type | Face, Face |
Saturation | Normal |
Saturation Adjustment Aqua | 0 |
Saturation Adjustment Blue | 0 |
Saturation Adjustment Green | 0 |
Saturation Adjustment Magenta | 0 |
Saturation Adjustment Orange | 0 |
Saturation Adjustment Purple | 0 |
Saturation Adjustment Red | 0 |
Saturation Adjustment Yellow | 0 |
Scale Factor To 35 mm Equivalent | 1.0 |
Scene Capture Type | Standard |
Scene Type | Directly photographed |
Sensitivity Type | Recommended Exposure Index |
Shadow Tint | 0 |
Shadows 2012 | +33 |
Sharpen Detail | 25 |
Sharpen Edge Masking | 0 |
Sharpen Radius | +1.2 |
Sharpness | Normal |
Split Toning Balance | 0 |
Split Toning Highlight Hue | 0 |
Split Toning Highlight Saturation | 0 |
Split Toning Shadow Hue | 0 |
Split Toning Shadow Saturation | 0 |
Texture | +10 |
Tint | +5 |
Tone Curve Name 2012 | Linear |
Tone Curve PV2012 | 0, 0, 255, 255 |
Tone Curve PV2012 Blue | 0, 0, 255, 255 |
Tone Curve PV2012 Green | 0, 0, 255, 255 |
Tone Curve PV2012 Red | 0, 0, 255, 255 |
Version | 16.5 |
Vibrance | +19 |
Vignette Amount | 0 |
White Balance | Manual |
Whites 2012 | 0 |