Shooting information for this photo
Camera: | LEICA CAMERA AG LEICA Q2 MONO |
Exposure: | 0.0025 sec. (1/400) |
Aperture: | f/5.6 |
Focal Length: | 28.0 mm (35 mm equivalent: 28.0 mm) |
Flash: | Off, Did not fire |
Exposure mode: | Aperture-priority AE |
Max Aperture: | 1.7 |
Resolution: | 72 x 72 dpi |
Original Date: | 2022:05:15 13:38:06 |
Created on: | 2022:05:15 13:38:06 |
Modified on: | 2022:05:19 22:22:37 |
Software: | Adobe Photoshop Lightroom Classic 11.3.1 (Macintosh) |
Copyright: | Thomas Krull |
Already Applied | True |
Artist | Thomas Krull |
Blacks 2012 | 0 |
Circle Of Confusion | 0.030 mm |
Clarity 2012 | +60 |
Color Grade Blending | 50 |
Color Grade Global Hue | 0 |
Color Grade Global Lum | 0 |
Color Grade Global Sat | 0 |
Color Grade Highlight Lum | 0 |
Color Grade Midtone Hue | 0 |
Color Grade Midtone Lum | 0 |
Color Grade Midtone Sat | 0 |
Color Grade Shadow Lum | 0 |
Color Space | sRGB |
Contrast | Normal |
Contrast 2012 | 0 |
Creator | Thomas Krull |
Crop Angle | -3.2589 |
Crop Bottom | 0.92138 |
Crop Constrain To Warp | 0 |
Crop Left | 0.021805 |
Crop Right | 0.978195 |
Crop Top | 0.07862 |
Custom Rendered | Normal |
Date Created | 2022:05:15 15:14:02+02:00 |
Dehaze | 0 |
Description | the park at "Woods Art Institute" |
Digital Source Type | nil |
Digital Zoom Ratio | 1 |
Distortion Correction Already Applied | True |
Exposure 2012 | 0.00 |
Exposure Compensation | 0 |
Field Of View | 65.5 deg |
Focal Length In 35mm Format | 28 mm |
Format | image/jpeg |
Grain Amount | 0 |
Has Crop | True |
Has Settings | True |
Highlights 2012 | 0 |
Hyperfocal Distance | 4.66 m |
ISO | 200 |
Image Description | the park at "Woods Art Institute" |
Image Size | 1024x683 |
Lens | SUMMILUX 1:1.7/28 ASPH. |
Lens Info | 28mm f/1.53125-2.97265625 |
Lens Manual Distortion Amount | 0 |
Lens Model | SUMMILUX 1:1.7/28 ASPH. |
Lens Profile Enable | 0 |
Light Source | Unknown |
Light Value | 12.6 |
Luminance Noise Reduction Contrast | 0 |
Luminance Noise Reduction Detail | 50 |
Luminance Smoothing | 5 |
Marked | False |
Metering Mode | Multi-segment |
Override Look Vignette | False |
PLUS Version | 1.2.0 |
Parametric Darks | 0 |
Parametric Highlight Split | 75 |
Parametric Highlights | 0 |
Parametric Lights | 0 |
Parametric Midtone Split | 50 |
Parametric Shadow Split | 25 |
Parametric Shadows | 0 |
Perspective Aspect | 0 |
Perspective Horizontal | 0 |
Perspective Rotate | 0.0 |
Perspective Scale | 100 |
Perspective Upright | 0 |
Perspective Vertical | 0 |
Perspective X | 0.00 |
Perspective Y | 0.00 |
Post Crop Vignette Amount | 0 |
Preserved File Name | L1000021.DNG |
Process Version | 11.0 |
Property Release Status | Unknown (nil) |
Rating | 1 |
Rights | Thomas Krull |
Scale Factor To 35 mm Equivalent | 1.0 |
Scene Capture Type | Standard |
Sensitivity Type | Standard Output Sensitivity |
Shadows 2012 | 0 |
Sharpen Detail | 25 |
Sharpen Edge Masking | 0 |
Sharpen Radius | +1.0 |
Sharpness | Normal |
Split Toning Balance | 0 |
Split Toning Highlight Hue | 0 |
Split Toning Highlight Saturation | 0 |
Split Toning Shadow Hue | 0 |
Split Toning Shadow Saturation | 0 |
Standard Output Sensitivity | 200 |
Subject | Deutschland, Germany, Hamburg, Kunstausstellung, Rik Reinking, wai, woods art institute |
Texture | 0 |
Tone Curve Name 2012 | Linear |
Tone Curve PV2012 | 0, 0, 255, 255 |
Tone Curve PV2012 Blue | 0, 0, 255, 255 |
Tone Curve PV2012 Green | 0, 0, 255, 255 |
Tone Curve PV2012 Red | 0, 0, 255, 255 |
Version | 14.3 |
Vignette Amount | 0 |
Weighted Flat Subject | Deutschland, Germany, Hamburg, Kunstausstellung, woods art institute, wai, Rik Reinking |
Whites 2012 | 0 |
GPS Information |
GPS Altitude | 39.881 m |
GPS Latitude | 53 deg 30' 17.84" N |
GPS Latitude Ref | North |
GPS Longitude | 10 deg 15' 54.18" E |
GPS Longitude Ref | East |
GPS Position | 53 deg 30' 17.84" N, 10 deg 15' 54.18" E |
GPS Version ID | 2.2.0.0 |