Shooting information for this photo
Camera: | Canon EOS-1D Mark IV |
Exposure: | 0.0025 sec. (1/400) |
Aperture: | f/8.0 |
Focal Length: | 280.0 mm (35 mm equivalent: 1080.9 mm) |
Flash: | Off, Did not fire |
Exposure mode: | Shutter speed priority AE |
Max Aperture: | 2.8 |
Resolution: | 72 x 72 dpi |
Dimension: | 951 x 1418 pixels |
Original Date: | 2017:11:03 13:45:56.20 |
Digitized Date: | 2017:11:03 13:45:56-06:00 |
Created on: | 2017:11:03 13:45:56.20 |
Software: | Adobe Photoshop Lightroom 5.7.1 (Windows) |
Copyright: | Charles D. Therit (c) 2011-2017 |
AEB Auto Cancel | On |
AEB Sequence | 0,-,+ |
AEB Shot Count | 7; 0 |
AE Microadjustment | Disable; 0; 8; 0 |
AF Area Mode | Single-point AF |
AF Assist Beam | Emits |
AF Image Height | 3264 |
AF Image Width | 4896 |
AF Micro Adj Mode | Disable |
AF Micro Adj Value | 0 |
AF Microadjustment | Disable; 0; 0; 0; 0 |
AF On AE Lock Button Switch | Disable |
AF Point Area Expansion | Surrounding AF points |
AF Point Auto Selection | Control-direct:disable/Main:di sable |
AF Point Brightness | Normal |
AF Point Display During Focus | On |
AF Points In Focus | 18 |
AF Points Selected | 18 |
AI Servo Image Priority | 1: AF, 2: Tracking |
AI Servo Tracking Method | Continuous AF track priority |
AI Servo Tracking Sensitivity | Fast |
Add Aspect Ratio Info | Off |
Add Original Decision Data | Off |
Already Applied | True |
Aperture Range | Disable; Closed 91; Open 1 |
Apply Shooting Metering Mode | Enable; 1; 2; 1; 112; 32; 0; 1 |
Approximate Focus Distance | 5.26 |
Artist | Charles D. Therit (c) 2011-2017 |
Aspect Ratio | 3:2 |
Auto Lateral CA | 0 |
Auto Lighting Optimizer | Off |
Auto White Version | 134348800 |
Av Setting Without Lens | Disable |
Base URL | https://www.flickr.com/photos/ ctofcsco |
Blacks 2012 | -17 |
Blue Balance | 1.695313 |
Blue Hue | 0 |
Blue Saturation | 0 |
Button Function Control Off | Normal (enable) |
Camera ISO | Auto |
Camera Orientation | Rotate 90 CW |
Camera Profile | Adobe Standard |
Camera Temperature | 23 C |
Camera Type | EOS High-end |
Canon Exposure Mode | Shutter speed priority AE |
Canon Firmware Version | Firmware Version 1.1.5 |
Canon Flash Mode | Off |
Canon Image Size | Unknown (-1) |
Canon Model ID | EOS-1D Mark IV |
Chromatic Aberration Corr | Off |
Circle Of Confusion | 0.008 mm |
Clarity 2012 | +10 |
Color Data Version | 7 (500D/550D/7D/1DmkIV) |
Color Noise Reduction | 25 |
Color Noise Reduction Detail | 50 |
Color Noise Reduction Smoothness | 50 |
Color Space | sRGB |
Color Temp As Shot | 4877 |
Color Temp Auto | 4877 |
Color Temp Cloudy | 6000 |
Color Temp Daylight | 5200 |
Color Temp Flash | 6188 |
Color Temp Fluorescent | 3704 |
Color Temp Kelvin | 5214 |
Color Temp Measured | 4877 |
Color Temp Shade | 7000 |
Color Temp Tungsten | 3200 |
Color Tone | Normal |
Color Tone Faithful | 0 |
Color Tone Landscape | 0 |
Color Tone Neutral | 0 |
Color Tone Portrait | 0 |
Color Tone Standard | 0 |
Color Tone User Def 1 | 0 |
Color Tone User Def 2 | 0 |
Color Tone User Def 3 | 0 |
Continuous Drive | Continuous, High |
Continuous Shooting Speed | Disable; Hi 10; Lo 3 |
Continuous Shot Limit | Disable; 99 shots |
Contrast | Normal |
Contrast 2012 | +5 |
Contrast Faithful | 0 |
Contrast Landscape | 0 |
Contrast Monochrome | 0 |
Contrast Neutral | 0 |
Contrast Portrait | 0 |
Contrast Standard | 0 |
Contrast User Def 1 | 0 |
Contrast User Def 2 | 0 |
Contrast User Def 3 | 0 |
Convert To Grayscale | False |
Country | United States |
Country Code | USA |
Creator | Charles D. Therit (c) 2011-2017 |
Crop Bottom Margin | 0 |
Crop Height | 0 |
Crop Left Margin | 0 |
Crop Right Margin | 0 |
Crop Top Margin | 0 |
Crop Width | 0 |
Cropped Image Height | 3264 |
Cropped Image Left | 0 |
Cropped Image Top | 0 |
Cropped Image Width | 4896 |
Custom Rendered | Normal |
Defringe Green Amount | 0 |
Defringe Green Hue Hi | 60 |
Defringe Green Hue Lo | 40 |
Defringe Purple Amount | 0 |
Defringe Purple Hue Hi | 70 |
Defringe Purple Hue Lo | 30 |
Description | Kingdom:.Animalia.Phylum:.Chor data.Class:.Aves.Order:.Gruifo rmes.Family:.Gruidae.Genus:.An tigone.Species:.A. antigone..Antigone antigone..https://en.wikipedia .org/wiki/Sarus_crane..Denver Zoo, Denver, CO |
Dial Direction Tv Av | Normal |
Digital Zoom | None |
Drive Mode | Continuous Shooting |
E-TTL II | Evaluative |
Easy Mode | Manual |
Exposure 2012 | +0.24 |
Exposure Level Increments | 1/3-stop set, 1/3-stop comp. |
Exposure Mode | Auto |
Exposure Mode In Manual | Specified metering mode |
FE Microadjustment | Disable; 0; 8; 0 |
Field Of View | 1.9 deg |
File Number | 100-2886 |
Filter Effect Monochrome | None |
Filter Effect User Def 1 | n/a |
Filter Effect User Def 2 | None |
Filter Effect User Def 3 | None |
Firmware | 1.1.5 |
Firmware Version | 1.1.5 |
Flash Activity | 0 |
Flash Bits | (none) |
Flash Compensation | 0 |
Flash Fired | False |
Flash Firing | Fires |
Flash Function | False |
Flash Metering Mode | Off |
Flash Mode | Off |
Flash Red Eye Mode | False |
Flash Return | No return detection |
Flash Sync Speed Av | Auto |
Focal Units | 1/mm |
Focus Distance Lower | 5.11 m |
Focus Distance Upper | 5.58 m |
Focus Mode | AI Servo AF |
Focus Range | Not Known |
Focusing Screen | Ec-CIV |
Format | image/jpeg |
Grain Amount | 0 |
Green Hue | 0 |
Green Saturation | 0 |
Has Crop | False |
Has Settings | True |
High ISO Noise Reduction | Off |
Highlight Tone Priority | Disable |
Highlights 2012 | -64 |
Hue Adjustment Aqua | 0 |
Hue Adjustment Blue | 0 |
Hue Adjustment Green | 0 |
Hue Adjustment Magenta | 0 |
Hue Adjustment Orange | 0 |
Hue Adjustment Purple | 0 |
Hue Adjustment Red | 0 |
Hue Adjustment Yellow | 0 |
Hyperfocal Distance | 1259.16 m |
ISO | 100 |
ISO Speed Increments | 1/3 Stop |
ISO Speed Range | Enable; Max 102400; Min 0 |
Image Description | Kingdom:.Animalia.Phylum:.Chor data.Class:.Aves.Order:.Gruifo rmes.Family:.Gruidae.Genus:.An tigone.Species:.A. antigone..Antigone antigone..https://en.wikipedia .org/wiki/Sarus_crane..Denver Zoo, Denver, CO |
Image Number | 0 |
Image Size | 951x1418 |
Info Button When Shooting | Displays shooting functions |
LCD Illumination During Bulb | Off |
Lens | 280.0 mm (35 mm equivalent: 1080.9 mm) |
Lens AF Stop Button | Spot AF |
Lens Drive No AF | Focus search on |
Lens ID | Canon EF 200mm f/2L IS + 1.4x |
Lens Info | 280mm f/? |
Lens Manual Distortion Amount | 0 |
Lens Model | EF200mm f/2L IS USM +1.4x |
Lens Profile Enable | 0 |
Lens Profile Setup | LensDefaults |
Lens Type | Canon EF 200mm f/2L IS |
Light Value | 14.6 |
Location | Vine Street Houses |
Lock Microphone Button | Protect (hold:record memo) |
Long Exposure Noise Reduction | Off |
Luminance Adjustment Aqua | 0 |
Luminance Adjustment Blue | 0 |
Luminance Adjustment Green | 0 |
Luminance Adjustment Magenta | 0 |
Luminance Adjustment Orange | 0 |
Luminance Adjustment Purple | 0 |
Luminance Adjustment Red | 0 |
Luminance Adjustment Yellow | 0 |
Luminance Noise Reduction Contrast | 0 |
Luminance Noise Reduction Detail | 50 |
Luminance Smoothing | 10 |
Macro Mode | Normal |
Manual Flash Output | n/a |
Manual Tv/Av For M | Tv=Main/Av=Control |
Max Aperture | 2.8 |
Max Focal Length | 280 mm |
Measured EV 3 | 14.125 |
Measured RGGB | 601 1024 1024 469 |
Metering Mode | Partial |
Min Aperture | 45 |
Min Focal Length | 280 mm |
Mirror Lockup | Disable |
Multi Controller While Metering | AF point selection |
Num AF Points | 45 |
Optical Zoom Code | n/a |
Orientation Linked AF Point | Select different AF points |
Original Decision Data Offset | 0 |
Original Image Height | 3264 |
Original Image Width | 4896 |
Owner Name | Charles D. Therit |
Parametric Darks | 0 |
Parametric Highlight Split | 75 |
Parametric Highlights | 0 |
Parametric Lights | 0 |
Parametric Midtone Split | 50 |
Parametric Shadow Split | 25 |
Parametric Shadows | 0 |
Peripheral Lighting | On |
Peripheral Lighting Setting | On |
Peripheral Lighting Value | 70 |
Perspective Aspect | 0 |
Perspective Horizontal | 0 |
Perspective Rotate | 0.0 |
Perspective Scale | 100 |
Perspective Upright | 0 |
Perspective Vertical | 0 |
Photometric Interpretation | RGB |
Planar Configuration | Chunky |
Post Crop Vignette Amount | -26 |
Post Crop Vignette Feather | 50 |
Post Crop Vignette Highlight Contrast | 0 |
Post Crop Vignette Midpoint | 50 |
Post Crop Vignette Roundness | 0 |
Post Crop Vignette Style | 1 |
Process Version | 6.7 |
Quality | RAW |
Quick Control Dial In Meter | Exposure comp/Aperture |
Rating | 5 |
Rating Percent | 99 |
Raw Measured RGGB | 78225 135789 135520 60662 |
Record Mode | CR2 |
Red Balance | 2.089844 |
Red Hue | 0 |
Red Saturation | 0 |
Related Image Height | 1400 |
Related Image Width | 933 |
Rights | Charles D. Therit (c) 2011-2017 |
SRAW Quality | n/a |
Safety Shift | Disable |
Samples Per Pixel | 3 |
Saturation | Normal |
Saturation Adjustment Aqua | 0 |
Saturation Adjustment Blue | 0 |
Saturation Adjustment Green | 0 |
Saturation Adjustment Magenta | 0 |
Saturation Adjustment Orange | 0 |
Saturation Adjustment Purple | 0 |
Saturation Adjustment Red | 0 |
Saturation Adjustment Yellow | 0 |
Saturation Faithful | 0 |
Saturation Landscape | 0 |
Saturation Neutral | 0 |
Saturation Portrait | 0 |
Saturation Standard | 0 |
Saturation User Def 1 | 0 |
Saturation User Def 2 | 0 |
Saturation User Def 3 | 0 |
Scale Factor To 35 mm Equivalent | 3.9 |
Scene Capture Type | Standard |
Selectable AF Point | 45 points |
Self Timer | Off |
Sequence Number | 0 |
Set Button When Shooting | Normal (disabled) |
Shadow Tint | 0 |
Shadows 2012 | -17 |
Sharpen Detail | 42 |
Sharpen Edge Masking | 33 |
Sharpen Radius | +1.4 |
Sharpness | Hard |
Sharpness Faithful | 0 |
Sharpness Landscape | 4 |
Sharpness Monochrome | 3 |
Sharpness Neutral | 0 |
Sharpness Portrait | 2 |
Sharpness Standard | 3 |
Sharpness User Def 1 | 3 |
Sharpness User Def 2 | 3 |
Sharpness User Def 3 | 3 |
Shooting Mode | Shutter speed priority AE |
Short Release Time Lag | Disable |
Shutter Button AF On Button | Metering + AF start |
Shutter Curtain Sync | 1st-curtain sync |
Shutter Speed Range | Disable; Hi 1/8192; Lo 32 |
Split Toning Balance | 0 |
Split Toning Highlight Hue | 0 |
Split Toning Highlight Saturation | 0 |
Split Toning Shadow Hue | 0 |
Split Toning Shadow Saturation | 0 |
Spot Meter Link To AF Point | Enable (use active AF point) |
Start Movie Shooting | Default (from LV) |
State | Colorado |
Subject | 1.4X, 1.4X II, 1/400, 1D, 1D Mark 4, 1D Mark IV, 1DIV, 280 mm, Canon, Canon EF 200mm f/2L IS USM or Sigma Lens, Colorado, Did not fire, digital, EF, EF200mm f/2L IS USM +1.4x, EOS, EOS 1D, EOS-1D Mark IV, esplora, 2017, animal, Bokeh, Denver, Denver Zoo, explore, explored, Nature, North America, picture, State Capitol, Wildlife, www.denverzoo.org, Zoo, Extender, f/8.0, Flash Off, ISO100, Mark 4, Mark IV, Partial, photo, pic, pretty, renown, Shutter speed priority AE, Super Telephoto, Teleconverter, Telephoto, United States, USA |
Switch To Registered AF Point | Disable |
Timer Length | Disable; 6 s: 6; 16 s: 16; After release: 2 |
Tint | +16 |
Title | Sarus Crane |
Tone Curve | Standard |
Tone Curve Blue | 0, 0, 255, 255 |
Tone Curve Green | 0, 0, 255, 255 |
Tone Curve Name | Linear |
Tone Curve Name 2012 | Linear |
Tone Curve PV2012 | 0, 0, 255, 255 |
Tone Curve PV2012 Blue | 0, 0, 255, 255 |
Tone Curve PV2012 Green | 0, 0, 255, 255 |
Tone Curve PV2012 Red | 0, 0, 255, 255 |
Tone Curve Red | 0, 0, 255, 255 |
Toning Effect Monochrome | None |
Toning Effect User Def 1 | n/a |
Toning Effect User Def 2 | None |
Toning Effect User Def 3 | None |
USM Lens Electronic MF | Enable after one-shot AF |
Usable Metering Modes | Disable; Flags 0xf0 |
Usable Shooting Modes | Disable; Flags 0xfc |
User Def 1 Picture Style | Faithful |
User Def 2 Picture Style | Standard |
User Def 3 Picture Style | Standard |
VRD Offset | 14564 |
Valid AF Points | 45 |
Version | 8.7.1 |
Vibrance | +7 |
View Info During Exposure | Disable |
Vignette Amount | 0 |
WB Media Image Size Setting | Rear LCD panel |
WB RGGB Levels | 2140 1024 1024 1736 |
WB RGGB Levels As Shot | 2140 1024 1024 1736 |
WB RGGB Levels Auto | 2140 1024 1024 1736 |
WB RGGB Levels Cloudy | 2330 1024 1024 1507 |
WB RGGB Levels Daylight | 2175 1024 1024 1631 |
WB RGGB Levels Flash | 2378 1024 1024 1492 |
WB RGGB Levels Fluorescent | 1941 1060 1060 2391 |
WB RGGB Levels Kelvin | 2175 1024 1024 1631 |
WB RGGB Levels Measured | 2142 1026 1021 1734 |
WB RGGB Levels Shade | 2503 1024 1024 1394 |
WB RGGB Levels Tungsten | 1671 1099 1099 2597 |
Whites 2012 | -26 |
Zoom Source Width | 0 |
Zoom Target Width | 0 |
GPS Information |
GPS Altitude | 1616 m Above Sea Level |
GPS Altitude Ref | Above Sea Level |
GPS Date Stamp | 2017:11:03 |
GPS Date/Time | 2017:11:03 19:45:56Z |
GPS Latitude | 39 deg 45' 0.89" N |
GPS Latitude Ref | North |
GPS Longitude | 104 deg 56' 58.88" W |
GPS Longitude Ref | West |
GPS Map Datum | WGS-84 |
GPS Position | 39 deg 45' 0.89" N, 104 deg 56' 58.88" W |
GPS Time Stamp | 19:45:56 |
GPS Version ID | 2.2.0.0 |