Shooting information for this photo
Camera: | SONY ILCE-7M3 |
Exposure: | 0.025 sec. (1/40) |
Aperture: | f/8.0 |
Focal Length: | 44.0 mm (35 mm equivalent: 44.0 mm) |
Flash: | Off, Did not fire |
Exposure mode: | Aperture-priority AE |
Max Aperture: | 2.8 |
Resolution: | 300 x 300 dpi |
Dimension: | 1620 x 1080 pixels |
Original Date: | 2020:02:14 10:52:16 |
Created on: | 2020:02:14 10:52:16 |
Modified on: | 2020:07:16 09:38:46 |
Software: | Adobe Photoshop 21.2 (Windows) |
Already Applied | True |
Auto Lateral CA | 1 |
Blacks 2012 | -37 |
Blue Hue | 0 |
Blue Saturation | 0 |
Brightness Value | 6.39609375 |
Camera Profile | Adobe Standard |
Circle Of Confusion | 0.030 mm |
Clarity 2012 | +5 |
Color Mode | RGB |
Color Noise Reduction | 25 |
Color Noise Reduction Detail | 50 |
Color Noise Reduction Smoothness | 50 |
Color Space | Uncalibrated |
Color Temperature | 6000 |
Contrast | Normal |
Contrast 2012 | +6 |
Convert To Grayscale | False |
Custom Rendered | Normal |
Date Created | 2020:02:14 10:52:16+01:00 |
Defringe Green Amount | 0 |
Defringe Green Hue Hi | 60 |
Defringe Green Hue Lo | 40 |
Defringe Purple Amount | 0 |
Defringe Purple Hue Hi | 70 |
Defringe Purple Hue Lo | 30 |
Dehaze | +31 |
Digital Zoom Ratio | 1 |
Distortion Correction Already Applied | True |
Exposure 2012 | +0.10 |
Exposure Compensation | -0.3 |
Exposure Mode | Auto |
Field Of View | 44.5 deg |
Focal Length In 35mm Format | 44 mm |
Format | image/jpeg |
Grain Amount | 0 |
Green Hue | 0 |
Green Saturation | 0 |
Has Crop | False |
Has Settings | True |
Highlights 2012 | -75 |
Hue Adjustment Aqua | 0 |
Hue Adjustment Blue | 0 |
Hue Adjustment Green | 0 |
Hue Adjustment Magenta | 0 |
Hue Adjustment Orange | 0 |
Hue Adjustment Purple | 0 |
Hue Adjustment Red | 0 |
Hue Adjustment Yellow | 0 |
Hyperfocal Distance | 8.05 m |
ICC Profile Name | Adobe RGB (1998) |
ISO | 100 |
Image Size | 1620x1080 |
Lateral Chromatic Aberration Correction Already Applied | True |
Lens | FE 24-70mm F2.8 GM |
Lens Distort Info | 1041854356/1073741824 14775500/1073741824 13670065/1073741824 3436448/1073741824 |
Lens Info | 24-70mm f/2.8 |
Lens Manual Distortion Amount | 0 |
Lens Model | FE 24-70mm F2.8 GM |
Lens Profile Chromatic Aberration Scale | 100 |
Lens Profile Distortion Scale | 100 |
Lens Profile Enable | 1 |
Lens Profile Filename | SONY (Sony FE 24-70mm f2.8 GM) - RAW.lcp |
Lens Profile Name | Adobe (Sony FE 24-70mm f/2.8 GM) |
Lens Profile Setup | LensDefaults |
Lens Profile Vignetting Scale | 100 |
Lens Specification | 24, 70, 2.8, 2.8 |
Light Source | Unknown |
Light Value | 11.3 |
Look Amount | 1.000000 |
Look Copyright | © 2018 Adobe Systems, Inc. |
Look Group | Profiles |
Look Name | Adobe Color |
Look Parameters Camera Profile | Adobe Standard |
Look Parameters Convert To Grayscale | False |
Look Parameters Look Table | E1095149FDB39D7A057BAB208837E2 E1 |
Look Parameters Process Version | 11.0 |
Look Parameters Tone Curve PV2012 | 0, 0, 22, 16, 40, 35, 127, 127, 224, 230, 240, 246, 255, 255 |
Look Parameters Tone Curve PV2012 Blue | 0, 0, 255, 255 |
Look Parameters Tone Curve PV2012 Green | 0, 0, 255, 255 |
Look Parameters Tone Curve PV2012 Red | 0, 0, 255, 255 |
Look Parameters Version | 12.2 |
Look Supports Amount | false |
Look Supports Monochrome | false |
Look Supports Output Referred | false |
Luminance Adjustment Aqua | 0 |
Luminance Adjustment Blue | 0 |
Luminance Adjustment Green | 0 |
Luminance Adjustment Magenta | 0 |
Luminance Adjustment Orange | 0 |
Luminance Adjustment Purple | 0 |
Luminance Adjustment Red | 0 |
Luminance Adjustment Yellow | 0 |
Luminance Smoothing | 0 |
Metering Mode | Multi-segment |
Override Look Vignette | False |
Parametric Darks | 0 |
Parametric Highlight Split | 75 |
Parametric Highlights | 0 |
Parametric Lights | 0 |
Parametric Midtone Split | 50 |
Parametric Shadow Split | 25 |
Parametric Shadows | 0 |
Perspective Aspect | 0 |
Perspective Horizontal | 0 |
Perspective Rotate | 0.0 |
Perspective Scale | 100 |
Perspective Upright | 5 |
Perspective Vertical | 0 |
Perspective X | 0.00 |
Perspective Y | 0.00 |
Photometric Interpretation | RGB |
Post Crop Vignette Amount | 0 |
Process Version | 11.0 |
Recommended Exposure Index | 100 |
Red Hue | 0 |
Red Saturation | 0 |
Samples Per Pixel | 3 |
Saturation | Normal |
Saturation Adjustment Aqua | 0 |
Saturation Adjustment Blue | 0 |
Saturation Adjustment Green | 0 |
Saturation Adjustment Magenta | 0 |
Saturation Adjustment Orange | 0 |
Saturation Adjustment Purple | 0 |
Saturation Adjustment Red | 0 |
Saturation Adjustment Yellow | 0 |
Scale Factor To 35 mm Equivalent | 1.0 |
Scene Capture Type | Standard |
Scene Type | Directly photographed |
Sensitivity Type | 2 |
Shadow Tint | 0 |
Shadows 2012 | +60 |
Sharpen Detail | 25 |
Sharpen Edge Masking | 0 |
Sharpen Radius | +1.0 |
Sharpness | Normal |
Split Toning Balance | 0 |
Split Toning Highlight Hue | 0 |
Split Toning Highlight Saturation | 0 |
Split Toning Shadow Hue | 0 |
Split Toning Shadow Saturation | 0 |
Texture | 0 |
Tint | +6 |
Tone Curve | 0, 0, 32, 22, 64, 56, 128, 128, 192, 196, 255, 255 |
Tone Curve Blue | 0, 0, 255, 255 |
Tone Curve Green | 0, 0, 255, 255 |
Tone Curve Name | Medium Contrast |
Tone Curve Name 2012 | Linear |
Tone Curve PV2012 | 0, 0, 255, 255 |
Tone Curve PV2012 Blue | 0, 0, 255, 255 |
Tone Curve PV2012 Green | 0, 0, 255, 255 |
Tone Curve PV2012 Red | 0, 0, 255, 255 |
Tone Curve Red | 0, 0, 255, 255 |
Tone Map Strength | 0 |
Version | 12.2 |
Vibrance | +15 |
Vignette Amount | 0 |
Vignette Correction Already Applied | True |
White Balance | Auto |
Whites 2012 | +8 |
GPS Information |
GPS Date Stamp | 2020:02:14 |
GPS Date/Time | 2020:02:14 09:52:16Z |
GPS Latitude | 21 deg 9' 36.37" N |
GPS Latitude Ref | North |
GPS Longitude | 76 deg 28' 29.04" W |
GPS Longitude Ref | West |
GPS Map Datum | WGS-84 |
GPS Position | 21 deg 9' 36.37" N, 76 deg 28' 29.04" W |
GPS Time Stamp | 09:52:16 |
GPS Version ID | 2.2.0.0 |