Shooting information for this photo
Camera: | NIKON CORPORATION NIKON D300 |
Exposure: | 0.00156 sec. (1/640) |
Aperture: | f/11.0 |
Focal Length: | 340.0 mm (35 mm equivalent: 510.0 mm) |
Flash: | No Flash |
Exposure mode: | Aperture-priority AE |
Max Aperture: | 4.8 |
Resolution: | 240 x 240 dpi |
Original Date: | 2011:08:28 09:49:08.17 |
Created on: | 2011:08:28 09:49:08.17 |
Modified on: | 2015:04:05 19:48:30 |
Software: | Adobe Photoshop Lightroom 5.7 (Windows) |
Copyright: | (C)2011 Jakob Bärfuss CH-8625 Gossau ZH, all rights reserved |
Already Applied | True |
Approximate Focus Distance | 4294967295 |
Artist | Jakob Bärfuss |
Authors Position | Dipl. Naturwissenschafter (Botaniker) |
Auto Lateral CA | 0 |
Auto White Version | 134348800 |
Blacks 2012 | -60 |
Blue Hue | 0 |
Blue Saturation | 0 |
CFA Pattern | [Red,Green][Green,Blue] |
Camera Profile | Adobe Standard |
Circle Of Confusion | 0.020 mm |
Clarity 2012 | +30 |
Color Noise Reduction | 30 |
Color Noise Reduction Detail | 50 |
Color Noise Reduction Smoothness | 50 |
Color Temperature | 5600 |
Contrast | Normal |
Contrast 2012 | 0 |
Convert To Grayscale | False |
Creator | Jakob Bärfuss |
Crop Angle | 0 |
Crop Bottom | 1 |
Crop Constrain To Warp | 0 |
Crop Left | 0 |
Crop Right | 1 |
Crop Top | 0.15309 |
Custom Rendered | Normal |
Date Created | 2011:08:28 09:49:08.17 |
Defringe Green Amount | 0 |
Defringe Green Hue Hi | 60 |
Defringe Green Hue Lo | 40 |
Defringe Purple Amount | 0 |
Defringe Purple Hue Hi | 70 |
Defringe Purple Hue Lo | 30 |
Depth Of Field | inf (524.65 m - inf) |
Digital Zoom Ratio | 1 |
Exposure 2012 | +2.05 |
Exposure Compensation | -1/3 |
Exposure Mode | Auto |
Field Of View | 4.0 deg |
Focal Length In 35mm Format | 510 mm |
Format | image/jpeg |
Gain Control | None |
Grain Amount | 0 |
Green Hue | 0 |
Green Saturation | 0 |
Has Crop | True |
Has Settings | True |
Highlights 2012 | -35 |
Hue Adjustment Aqua | +2 |
Hue Adjustment Blue | 0 |
Hue Adjustment Green | 0 |
Hue Adjustment Magenta | 0 |
Hue Adjustment Orange | 0 |
Hue Adjustment Purple | 0 |
Hue Adjustment Red | +4 |
Hue Adjustment Yellow | 0 |
Hyperfocal Distance | 524.65 m |
ISO | 200 |
Image Number | 22216 |
Image Size | 4288x2412 |
Lens | 70.0-200.0 mm f/2.8 |
Lens ID | AF-S VR Zoom-Nikkor 70-200mm f/2.8G IF-ED |
Lens Info | 70-200mm f/2.8 |
Lens Manual Distortion Amount | 0 |
Lens Model | 70.0-200.0 mm f/2.8 |
Lens Profile Enable | 0 |
Lens Profile Setup | LensDefaults |
Light Source | Unknown |
Light Value | 15.2 |
Luminance Adjustment Aqua | +85 |
Luminance Adjustment Blue | +97 |
Luminance Adjustment Green | 0 |
Luminance Adjustment Magenta | 0 |
Luminance Adjustment Orange | -45 |
Luminance Adjustment Purple | 0 |
Luminance Adjustment Red | +45 |
Luminance Adjustment Yellow | +20 |
Luminance Noise Reduction Contrast | 0 |
Luminance Noise Reduction Detail | 50 |
Luminance Smoothing | 25 |
Marked | True |
Metering Mode | Multi-segment |
Parametric Darks | +35 |
Parametric Highlight Split | 90 |
Parametric Highlights | +35 |
Parametric Lights | -75 |
Parametric Midtone Split | 46 |
Parametric Shadow Split | 24 |
Parametric Shadows | 0 |
Perspective Aspect | 0 |
Perspective Horizontal | 0 |
Perspective Rotate | 0.0 |
Perspective Scale | 100 |
Perspective Upright | 0 |
Perspective Vertical | 0 |
Post Crop Vignette Amount | 0 |
Process Version | 6.7 |
Rating | 4 |
Red Hue | 0 |
Red Saturation | 0 |
Rights | (C)2011 Jakob Bärfuss CH-8625 Gossau ZH, all rights reserved |
Saturation | Normal |
Saturation Adjustment Aqua | 0 |
Saturation Adjustment Blue | +15 |
Saturation Adjustment Green | 0 |
Saturation Adjustment Magenta | 0 |
Saturation Adjustment Orange | +30 |
Saturation Adjustment Purple | 0 |
Saturation Adjustment Red | +50 |
Saturation Adjustment Yellow | 0 |
Scale Factor To 35 mm Equivalent | 1.5 |
Scene Capture Type | Standard |
Scene Type | Directly photographed |
Sensing Method | One-chip color area |
Shadow Tint | 0 |
Shadows 2012 | 0 |
Sharpen Detail | 40 |
Sharpen Edge Masking | 15 |
Sharpen Radius | +1.0 |
Sharpness | Normal |
Split Toning Balance | 0 |
Split Toning Highlight Hue | 0 |
Split Toning Highlight Saturation | 0 |
Split Toning Shadow Hue | 0 |
Split Toning Shadow Saturation | 0 |
Subject | 01 Jakob |
Subject Distance | 4294967295 m |
Subject Distance Range | Unknown |
Tint | +7 |
Tone Curve | 0, 0, 255, 255 |
Tone Curve Blue | 0, 0, 255, 255 |
Tone Curve Green | 0, 0, 255, 255 |
Tone Curve Name | Linear |
Tone Curve Name 2012 | Linear |
Tone Curve PV2012 | 0, 0, 255, 255 |
Tone Curve PV2012 Blue | 0, 0, 255, 255 |
Tone Curve PV2012 Green | 0, 0, 255, 255 |
Tone Curve PV2012 Red | 0, 0, 255, 255 |
Tone Curve Red | 0, 0, 255, 255 |
Usage Terms | Nur zur Ansicht, keine Vervielfältigung ohne vorherige Genehmigung |
Version | 8.7 |
Vibrance | +10 |
Vignette Amount | 0 |
White Balance | Auto |
Whites 2012 | +18 |