Shooting information for this photo
Camera: | NIKON CORPORATION NIKON D300 |
Exposure: | 0.00313 sec. (1/320) |
Aperture: | f/7.1 |
Focal Length: | 70.0 mm (35 mm equivalent: 105.0 mm) |
Flash: | No Flash |
Exposure mode: | Shutter speed priority AE |
Max Aperture: | 4.4 |
Resolution: | 240 x 240 dpi |
Dimension: | 1585 x 1585 pixels |
Original Date: | 2009:10:14 12:03:26.59 |
Digitized Date: | 2009:10:14 12:03:26.59+02:00 |
Created on: | 2009:10:14 12:03:26.59 |
Modified on: | 2010:08:25 20:52:50 |
Software: | Nikon Transfer 1.0 W |
Copyright: | (C)2009 Jakob Barfuss CH-8625 Gossau ZH, all rights reserved |
Already Applied | True |
Authors Position | Dipl. Naturwissenschafter (Botaniker) |
Blue Hue | 0 |
Blue Saturation | 0 |
Brightness | +50 |
CFA Pattern | [Red,Green][Green,Blue] |
Camera Profile | Adobe Standard |
Chromatic Aberration B | 0 |
Chromatic Aberration R | 0 |
Circle Of Confusion | 0.020 mm |
Clarity | +20 |
Color Noise Reduction | 25 |
Color Temperature | 4250 |
Contrast | Normal |
Convert To Grayscale | False |
Creator | Jakob Bärfuss |
Crop Angle | 0 |
Crop Bottom | 0.844099 |
Crop Height | 1585 |
Crop Left | 0.305794 |
Crop Right | 0.675378 |
Crop Top | 0.287647 |
Crop Unit | pixels |
Crop Width | 1585 |
Custom Rendered | Normal |
Defringe | 0 |
Depth Of Field | 1.65 m (4.61 - 6.26) |
Digital Zoom Ratio | 1 |
Exposure | -0.40 |
Exposure Compensation | -1/3 |
Exposure Mode | Auto |
Field Of View | 19.5 deg |
Fill Light | 10 |
Flash Fired | False |
Flash Function | False |
Flash Mode | Unknown |
Flash Red Eye Mode | False |
Flash Return | No return detection |
Focal Length In 35mm Format | 105 mm |
Gain Control | None |
Green Hue | 0 |
Green Saturation | 0 |
Has Crop | True |
Has Settings | True |
Highlight Recovery | 57 |
Hue Adjustment Aqua | 0 |
Hue Adjustment Blue | 0 |
Hue Adjustment Green | 0 |
Hue Adjustment Magenta | 0 |
Hue Adjustment Orange | 0 |
Hue Adjustment Purple | 0 |
Hue Adjustment Red | 0 |
Hue Adjustment Yellow | 0 |
Hyperfocal Distance | 34.45 m |
ISO | 200 |
Image Number | 7808 |
Image Size | 1585x1585 |
Lens | 18.0-70.0 mm f/3.5-4.5 |
Lens Info | 18-70mm f/3.5-4.5 |
Light Source | Unknown |
Light Value | 13.0 |
Luminance Adjustment Aqua | 0 |
Luminance Adjustment Blue | +18 |
Luminance Adjustment Green | 0 |
Luminance Adjustment Magenta | 0 |
Luminance Adjustment Orange | 0 |
Luminance Adjustment Purple | 0 |
Luminance Adjustment Red | 0 |
Luminance Adjustment Yellow | 0 |
Luminance Smoothing | 0 |
Marked | True |
Metering Mode | Multi-segment |
Parametric Darks | -12 |
Parametric Highlight Split | 75 |
Parametric Highlights | +24 |
Parametric Lights | -16 |
Parametric Midtone Split | 50 |
Parametric Shadow Split | 25 |
Parametric Shadows | -4 |
Post Crop Vignette Amount | 0 |
Red Hue | 0 |
Red Saturation | 0 |
Rights | (C)2009 Jakob Bärfuss CH-8625 Gossau ZH, all rights reserved |
Saturation | Normal |
Saturation Adjustment Aqua | 0 |
Saturation Adjustment Blue | 0 |
Saturation Adjustment Green | 0 |
Saturation Adjustment Magenta | 0 |
Saturation Adjustment Orange | 0 |
Saturation Adjustment Purple | 0 |
Saturation Adjustment Red | 0 |
Saturation Adjustment Yellow | 0 |
Scale Factor To 35 mm Equivalent | 1.5 |
Scene Capture Type | Standard |
Scene Type | Directly photographed |
Sensing Method | One-chip color area |
Shadow Tint | 0 |
Shadows | 3 |
Sharpen Detail | 30 |
Sharpen Edge Masking | 18 |
Sharpen Radius | +1.0 |
Sharpness | Normal |
Split Toning Balance | 0 |
Split Toning Highlight Hue | 0 |
Split Toning Highlight Saturation | 0 |
Split Toning Shadow Hue | 0 |
Split Toning Shadow Saturation | 0 |
Subject | 01 Jakob |
Subject Distance | 5.31 m |
Subject Distance Range | Unknown |
Tint | +8 |
Title | -> Kal-10-1x1 |
Tone Curve | 0, 0, 32, 22, 64, 56, 128, 128, 192, 196, 255, 255 |
Tone Curve Name | Medium Contrast |
Usage Terms | Nur zur Ansicht, keine Vervielfältigung ohne vorherige Genehmigung |
Version | 5.7 |
Vibrance | +8 |
Vignette Amount | 0 |
White Balance | Auto |