Shooting information for this photo
Camera: | Canon EOS 7D |
Exposure: | 0.025 sec. (1/40) |
Aperture: | f/10.0 |
Focal Length: | 47.0 mm (35 mm equivalent: 73.8 mm) |
Flash: | Off, Did not fire |
Exposure mode: | Aperture-priority AE |
Max Aperture: | 5.4 |
Resolution: | 140 x 140 dpi |
Original Date: | 2012:07:10 15:26:04.00 |
Created on: | 2012:07:10 15:26:04.00 |
Modified on: | 2013:03:05 23:13:27 |
Software: | PhotoScape |
Already Applied | True |
Approximate Focus Distance | 4294967295 |
Artist | BARefoot images |
Blue Hue | 0 |
Blue Saturation | 0 |
Brightness | +32 |
Camera Profile | Adobe Standard |
Chromatic Aberration B | 0 |
Chromatic Aberration R | 0 |
Circle Of Confusion | 0.019 mm |
Clarity | 0 |
Color Noise Reduction | 25 |
Color Noise Reduction Detail | 50 |
Color Temperature | 6112 |
Contrast | +44 |
Convert To Grayscale | False |
Creator | BARefoot images |
Custom Rendered | Normal |
Defringe | 0 |
Depth Of Field | inf (11.55 m - inf) |
Exposure | 0.00 |
Exposure Compensation | -1/3 |
Exposure Mode | Auto |
Field Of View | 27.4 deg |
Fill Light | 0 |
Firmware | 1.1.0 |
Flash Compensation | 0 |
Grain Amount | 0 |
Green Hue | 0 |
Green Saturation | 0 |
Has Crop | False |
Has Settings | True |
Highlight Recovery | 4 |
Hue Adjustment Aqua | 0 |
Hue Adjustment Blue | 0 |
Hue Adjustment Green | 0 |
Hue Adjustment Magenta | 0 |
Hue Adjustment Orange | 0 |
Hue Adjustment Purple | 0 |
Hue Adjustment Red | 0 |
Hue Adjustment Yellow | 0 |
Hyperfocal Distance | 11.55 m |
ISO | 100 |
Image Number | 0 |
Image Size | 866x598 |
Lens | EF-S17-85mm f/4-5.6 IS USM |
Lens ID | Canon EF-S 17-85mm f4-5.6 IS USM |
Lens Info | 17-85mm f/? |
Lens Manual Distortion Amount | 0 |
Lens Model | EF-S17-85mm f/4-5.6 IS USM |
Lens Profile Enable | 0 |
Lens Profile Setup | LensDefaults |
Light Value | 12.0 |
Luminance Adjustment Aqua | 0 |
Luminance Adjustment Blue | 0 |
Luminance Adjustment Green | 0 |
Luminance Adjustment Magenta | 0 |
Luminance Adjustment Orange | 0 |
Luminance Adjustment Purple | 0 |
Luminance Adjustment Red | 0 |
Luminance Adjustment Yellow | 0 |
Luminance Smoothing | 0 |
Metering Mode | Multi-segment |
Parametric Darks | 0 |
Parametric Highlight Split | 75 |
Parametric Highlights | 0 |
Parametric Lights | 0 |
Parametric Midtone Split | 50 |
Parametric Shadow Split | 25 |
Parametric Shadows | 0 |
Perspective Horizontal | 0 |
Perspective Rotate | 0.0 |
Perspective Scale | 100 |
Perspective Vertical | 0 |
Post Crop Vignette Amount | 0 |
Process Version | 5.7 |
Red Hue | 0 |
Red Saturation | 0 |
Saturation | +14 |
Saturation Adjustment Aqua | 0 |
Saturation Adjustment Blue | 0 |
Saturation Adjustment Green | 0 |
Saturation Adjustment Magenta | 0 |
Saturation Adjustment Orange | 0 |
Saturation Adjustment Purple | 0 |
Saturation Adjustment Red | 0 |
Saturation Adjustment Yellow | 0 |
Scale Factor To 35 mm Equivalent | 1.6 |
Scene Capture Type | Standard |
Shadow Tint | 0 |
Shadows | 36 |
Sharpen Detail | 25 |
Sharpen Edge Masking | 0 |
Sharpen Radius | +1.0 |
Sharpness | 25 |
Split Toning Balance | 0 |
Split Toning Highlight Hue | 0 |
Split Toning Highlight Saturation | 0 |
Split Toning Shadow Hue | 0 |
Split Toning Shadow Saturation | 0 |
Subject | Cobb, Dorset, England, Lyme Regis, UK, fishing nets |
Subject Distance | 4294967295 m |
Tint | +29 |
Tone Curve | 0, 0, 32, 22, 64, 56, 128, 128, 192, 196, 255, 255 |
Tone Curve Name | Medium Contrast |
Version | 6.4.1 |
Vibrance | 0 |
Vignette Amount | 0 |
White Balance | Auto |