Shooting information for this photo
Camera: | Canon PowerShot G12 |
Exposure: | 0.07692 sec. (1/13) |
Aperture: | f/4.5 |
Focal Length: | 21.5 mm (35 mm equivalent: 100.2 mm) |
Flash: | Off, Did not fire |
Max Aperture: | 4.0 |
Resolution: | 240 x 240 dpi |
Dimension: | 3648 x 2736 pixels |
Original Date: | 2011:07:20 17:50:33 |
Digitized Date: | 2011:07:20 17:50:33+02:00 |
Created on: | 2011:07:20 17:50:33 |
Modified on: | 2011:10:31 17:27:11 |
Software: | Adobe Photoshop Elements 8.0 Windows |
Already Applied | True |
Approximate Focus Distance | 2.21 |
Blue Hue | 0 |
Blue Saturation | 0 |
Brightness | +24 |
Camera Profile | Adobe Standard |
Chromatic Aberration B | 0 |
Chromatic Aberration R | 0 |
Circle Of Confusion | 0.006 mm |
Clarity | 0 |
Color Mode | RGB |
Color Noise Reduction | 25 |
Color Noise Reduction Detail | 50 |
Color Space | Uncalibrated |
Color Temperature | 7900 |
Contrast | +51 |
Convert To Grayscale | False |
Custom Rendered | Normal |
Date Created | 2011:07:20 |
Defringe | 0 |
Depth Of Field | 0.62 m (1.94 - 2.56) |
Digital Zoom Ratio | 1 |
Exposure | 0.00 |
Exposure Compensation | 0 |
Exposure Mode | Auto |
Field Of View | 20.4 deg |
Fill Light | 0 |
Firmware | 1.00 |
Flash Compensation | 0 |
Flash Fired | False |
Flash Function | False |
Flash Mode | Off |
Flash Red Eye Mode | False |
Flash Return | No return detection |
Format | image/jpeg |
Grain Amount | 0 |
Green Hue | 0 |
Green Saturation | 0 |
Has Crop | False |
Has Settings | True |
Hierarchical Subject | Roccatederighi, Toskana |
Highlight Recovery | 9 |
Hue Adjustment Aqua | 0 |
Hue Adjustment Blue | 0 |
Hue Adjustment Green | 0 |
Hue Adjustment Magenta | 0 |
Hue Adjustment Orange | 0 |
Hue Adjustment Purple | 0 |
Hue Adjustment Red | 0 |
Hue Adjustment Yellow | 0 |
Hyperfocal Distance | 15.90 m |
ICC Profile Name | ProPhoto RGB |
ISO | 80 |
Image Size | 3648x2736 |
Lens | 6.1-30.5 mm |
Lens Info | 6.1-30.5mm f/? |
Lens Manual Distortion Amount | 0 |
Lens Model | 6.1-30.5 mm |
Lens Profile Enable | 0 |
Lens Profile Setup | LensDefaults |
Light Value | 8.4 |
Luminance Adjustment Aqua | 0 |
Luminance Adjustment Blue | 0 |
Luminance Adjustment Green | 0 |
Luminance Adjustment Magenta | 0 |
Luminance Adjustment Orange | 0 |
Luminance Adjustment Purple | 0 |
Luminance Adjustment Red | 0 |
Luminance Adjustment Yellow | 0 |
Luminance Smoothing | 0 |
Metering Mode | Multi-segment |
Paint Correction Active | true |
Paint Correction Amount | 1.000000 |
Paint Correction Brightness | 0.000000 |
Paint Correction Clarity | 0.655172 |
Paint Correction Contrast | 0.000000 |
Paint Correction Exposure | 0.172414 |
Paint Correction Hue | 240.000000 |
Paint Correction Mask Center Weight | 0.000000 |
Paint Correction Mask Flow | 0.687000 |
Paint Correction Mask Radius | 0.010571 |
Paint Correction Mask Value | 1.000000 |
Paint Correction Mask What | Mask/Paint |
Paint Correction Saturation | 0.000000 |
Paint Correction Sharpness | 0.000000 |
Paint Correction What | Correction |
Parametric Darks | 0 |
Parametric Highlight Split | 75 |
Parametric Highlights | 0 |
Parametric Lights | 0 |
Parametric Midtone Split | 50 |
Parametric Shadow Split | 25 |
Parametric Shadows | 0 |
Perspective Horizontal | 0 |
Perspective Rotate | 0.0 |
Perspective Scale | 100 |
Perspective Vertical | 0 |
Photometric Interpretation | RGB |
Planar Configuration | Chunky |
Post Crop Vignette Amount | 0 |
Process Version | 5.7 |
Red Hue | 0 |
Red Saturation | 0 |
Samples Per Pixel | 3 |
Saturation | 0 |
Saturation Adjustment Aqua | 0 |
Saturation Adjustment Blue | 0 |
Saturation Adjustment Green | 0 |
Saturation Adjustment Magenta | 0 |
Saturation Adjustment Orange | 0 |
Saturation Adjustment Purple | 0 |
Saturation Adjustment Red | 0 |
Saturation Adjustment Yellow | 0 |
Scale Factor To 35 mm Equivalent | 4.7 |
Scene Capture Type | Standard |
Sensing Method | One-chip color area |
Sensitivity Type | Standard Output Sensitivity and Recommended Exposure Index |
Shadow Tint | 0 |
Shadows | 0 |
Sharpen Detail | 25 |
Sharpen Edge Masking | 0 |
Sharpen Radius | +1.0 |
Sharpness | 25 |
Split Toning Balance | 0 |
Split Toning Highlight Hue | 0 |
Split Toning Highlight Saturation | 0 |
Split Toning Shadow Hue | 0 |
Split Toning Shadow Saturation | 0 |
Subject | Roccatederighi, Toskana |
Subject Distance | 2.21 m |
Tint | +14 |
Tone Curve | 0, 0, 32, 22, 64, 56, 128, 128, 192, 196, 255, 255 |
Tone Curve Name | Medium Contrast |
Version | 6.4.1 |
Vibrance | 0 |
Vignette Amount | 0 |
White Balance | Auto |