Shooting information for this photo
Camera: | NIKON CORPORATION NIKON D700 |
Exposure: | 0.008 sec. (1/125) |
Aperture: | f/5.6 |
Focal Length: | 24.0 mm (35 mm equivalent: 24.0 mm) |
Flash: | No Flash |
Exposure mode: | Program AE |
Max Aperture: | 2.8 |
Resolution: | 1000 x 1000 dpi |
Original Date: | 2017:07:02 09:53:18.56 |
Created on: | 2017:07:02 09:53:18.56 |
Modified on: | 2019:07:13 09:32:20 |
Software: | Adobe Photoshop Lightroom 6.10 (Macintosh) |
Already Applied | True |
Approximate Focus Distance | 0.03 |
Auto Lateral CA | 0 |
Auto White Version | 134348800 |
Blacks 2012 | +35 |
Blue Hue | 0 |
Blue Saturation | 0 |
CFA Pattern | [Red,Green][Green,Blue] |
Camera Profile | Adobe Standard |
Circle Of Confusion | 0.030 mm |
Clarity 2012 | +41 |
Color Noise Reduction | 25 |
Color Noise Reduction Detail | 50 |
Color Noise Reduction Smoothness | 50 |
Color Space | sRGB |
Color Temperature | 5201 |
Contrast | Normal |
Contrast 2012 | +67 |
Convert To Grayscale | False |
Crop Angle | 1.24805 |
Crop Bottom | 0.963243 |
Crop Constrain To Warp | 0 |
Crop Left | 0.254778 |
Crop Right | 0.985628 |
Crop Top | 0 |
Custom Rendered | Normal |
Date Created | 2017:07:02 09:53:18.56 |
Defringe Green Amount | 0 |
Defringe Green Hue Hi | 60 |
Defringe Green Hue Lo | 40 |
Defringe Purple Amount | 0 |
Defringe Purple Hue Hi | 70 |
Defringe Purple Hue Lo | 30 |
Dehaze | 0 |
Digital Zoom Ratio | 1 |
Exposure 2012 | +0.65 |
Exposure Compensation | 0 |
Exposure Mode | Auto |
Field Of View | 73.7 deg |
Focal Length In 35mm Format | 24 mm |
Format | image/jpeg |
Gain Control | Low gain up |
Gradient Based Corr Active | true |
Gradient Based Corr Amount | 1.000000 |
Gradient Based Corr Brightness | 0.000000 |
Gradient Based Corr Clarity 2012 | -0.675877 |
Gradient Based Corr Contrast 2012 | -1.000000 |
Gradient Based Corr Defringe | 0.698933 |
Gradient Based Corr Exposure 2012 | 0.339653 |
Gradient Based Corr Highlights 2012 | 0.469036 |
Gradient Based Corr Hue | 186.003998 |
Gradient Based Corr Local Blacks 2012 | 0.000000 |
Gradient Based Corr Local Dehaze | 0.000000 |
Gradient Based Corr Local Whites 2012 | 0.000000 |
Gradient Based Corr Luminance Noise | 0.000000 |
Gradient Based Corr Mask Full X | 0.090058 |
Gradient Based Corr Mask Full Y | 0.057696 |
Gradient Based Corr Mask Value | 1.000000 |
Gradient Based Corr Mask What | Mask/Gradient |
Gradient Based Corr Mask Zero X | 0.156762 |
Gradient Based Corr Mask Zero Y | 0.092379 |
Gradient Based Corr Moire | 0.000000 |
Gradient Based Corr Saturation | 0.235039 |
Gradient Based Corr Shadows 2012 | 0.104516 |
Gradient Based Corr Sharpness | 0.272008 |
Gradient Based Corr Temperature | 0.185880 |
Gradient Based Corr Tint | -0.132527 |
Gradient Based Corr What | Correction |
Grain Amount | 0 |
Green Hue | 0 |
Green Saturation | 0 |
Has Crop | True |
Has Settings | True |
Hierarchical Subject | Cranmore, East Somerset Railway, Nikon D700, bench, luggage, platform, station, train, trolley, trunk, wheel |
Highlights 2012 | -7 |
Hue Adjustment Aqua | 0 |
Hue Adjustment Blue | 0 |
Hue Adjustment Green | 0 |
Hue Adjustment Magenta | 0 |
Hue Adjustment Orange | -4 |
Hue Adjustment Purple | 0 |
Hue Adjustment Red | -30 |
Hue Adjustment Yellow | -5 |
Hyperfocal Distance | 3.42 m |
ISO | 400 |
Image Number | 12052 |
Image Size | 3000x2518 |
Lens | 24.0 mm f/2.8 |
Lens ID | AF Nikkor 24mm f/2.8 |
Lens Info | 24mm f/2.8 |
Lens Manual Distortion Amount | 0 |
Lens Model | 24.0 mm f/2.8 |
Lens Profile Enable | 0 |
Lens Profile Setup | LensDefaults |
Light Source | Unknown |
Light Value | 9.9 |
Luminance Adjustment Aqua | +73 |
Luminance Adjustment Blue | 0 |
Luminance Adjustment Green | -63 |
Luminance Adjustment Magenta | 0 |
Luminance Adjustment Orange | +57 |
Luminance Adjustment Purple | -18 |
Luminance Adjustment Red | 0 |
Luminance Adjustment Yellow | +17 |
Luminance Smoothing | 0 |
Metering Mode | Multi-segment |
Parametric Darks | -34 |
Parametric Highlight Split | 75 |
Parametric Highlights | -77 |
Parametric Lights | +16 |
Parametric Midtone Split | 50 |
Parametric Shadow Split | 25 |
Parametric Shadows | +70 |
Perspective Aspect | 0 |
Perspective Horizontal | 0 |
Perspective Rotate | 0.0 |
Perspective Scale | 100 |
Perspective Upright | 0 |
Perspective Vertical | 0 |
Perspective X | 0.00 |
Perspective Y | 0.00 |
Post Crop Vignette Amount | -27 |
Post Crop Vignette Feather | 74 |
Post Crop Vignette Highlight Contrast | 0 |
Post Crop Vignette Midpoint | 65 |
Post Crop Vignette Roundness | 0 |
Post Crop Vignette Style | 1 |
Process Version | 6.7 |
Red Hue | 0 |
Red Saturation | 0 |
Saturation | Normal |
Saturation Adjustment Aqua | -97 |
Saturation Adjustment Blue | -13 |
Saturation Adjustment Green | +12 |
Saturation Adjustment Magenta | 0 |
Saturation Adjustment Orange | +83 |
Saturation Adjustment Purple | 0 |
Saturation Adjustment Red | -34 |
Saturation Adjustment Yellow | +29 |
Scale Factor To 35 mm Equivalent | 1.0 |
Scene Capture Type | Standard |
Scene Type | Directly photographed |
Sensing Method | One-chip color area |
Shadow Tint | 0 |
Shadows 2012 | +63 |
Sharpen Detail | 51 |
Sharpen Edge Masking | 43 |
Sharpen Radius | +2.2 |
Sharpness | Normal |
Split Toning Balance | 0 |
Split Toning Highlight Hue | 54 |
Split Toning Highlight Saturation | 12 |
Split Toning Shadow Hue | 0 |
Split Toning Shadow Saturation | 0 |
Subject | Cranmore, East Somerset Railway, Nikon D700, bench, luggage, platform, station, train, trolley, trunk, wheel |
Subject Distance Range | Unknown |
Tint | 0 |
Tone Curve | 0, 0, 255, 255 |
Tone Curve Blue | 0, 0, 255, 255 |
Tone Curve Green | 0, 0, 255, 255 |
Tone Curve Name | Linear |
Tone Curve Name 2012 | Linear |
Tone Curve PV2012 | 0, 0, 255, 255 |
Tone Curve PV2012 Blue | 0, 0, 255, 255 |
Tone Curve PV2012 Green | 0, 0, 255, 255 |
Tone Curve PV2012 Red | 0, 0, 255, 255 |
Tone Curve Red | 0, 0, 255, 255 |
Tone Map Strength | 0 |
Version | 9.10 |
Vibrance | +43 |
Vignette Amount | +60 |
Vignette Correction Already Applied | True |
Vignette Midpoint | 20 |
White Balance | Auto |
Whites 2012 | +96 |