Shooting information for this photo
Camera: | Canon EOS 30D |
Exposure: | 0.02 sec. (1/50) |
Aperture: | f/14.0 |
Focal Length: | 100.0 mm (35 mm equivalent: 160.1 mm) |
Flash: | Off, Did not fire |
Exposure mode: | Aperture-priority AE |
Max Aperture: | 2.8 |
Resolution: | 240 x 240 dpi |
Dimension: | 2336 x 2336 pixels |
Original Date: | 2012:09:24 11:58:52 |
Digitized Date: | 2012:09:24 11:58:52+10:00 |
Created on: | 2012:09:24 11:58:52 |
Modified on: | 2012:10:23 22:05:39 |
Already Applied | True |
Artist | Danya Rose |
Blue Hue | 0 |
Blue Saturation | 0 |
Brightness | +50 |
Camera Profile | Adobe Standard |
Chromatic Aberration B | 0 |
Chromatic Aberration R | 0 |
Circle Of Confusion | 0.019 mm |
Clarity | -19 |
Color Noise Reduction | 0 |
Color Temperature | 8481 |
Contrast | 0 |
Convert To Grayscale | False |
Creator | Danya Rose |
Crop Angle | 0 |
Crop Bottom | 1 |
Crop Height | 2336 |
Crop Left | 0.131884 |
Crop Right | 0.79855 |
Crop Top | 0 |
Crop Unit | pixels |
Crop Width | 2336 |
Custom Rendered | Normal |
Defringe | 0 |
Description | This was meant to be an entry for Canon's EOS Photo5 competition, but this year I've struggled to get anything done for it... |
Exposure | +1.62 |
Exposure Compensation | -1/3 |
Exposure Mode | Auto |
Field Of View | 12.8 deg |
Fill Light | 0 |
Firmware | 1.0.6 |
Flash Compensation | 0 |
Flash Fired | False |
Flash Function | False |
Flash Mode | Off |
Flash Red Eye Mode | False |
Flash Return | No return detection |
Green Hue | 0 |
Green Saturation | 0 |
Has Crop | True |
Has Settings | True |
Highlight Recovery | 36 |
Hue Adjustment Aqua | 0 |
Hue Adjustment Blue | 0 |
Hue Adjustment Green | 0 |
Hue Adjustment Magenta | 0 |
Hue Adjustment Orange | 0 |
Hue Adjustment Purple | 0 |
Hue Adjustment Red | 0 |
Hue Adjustment Yellow | 0 |
Hyperfocal Distance | 38.07 m |
ISO | 800 |
Image Description | This was meant to be an entry for Canon's EOS Photo5 competition, but this year I've struggled to get anything done for it... |
Image Number | 224 |
Image Size | 2336x2336 |
Lens | EF100mm f/2.8 Macro USM |
Lens Info | 100mm f/? |
Light Value | 10.3 |
Luminance Adjustment Aqua | 0 |
Luminance Adjustment Blue | 0 |
Luminance Adjustment Green | 0 |
Luminance Adjustment Magenta | 0 |
Luminance Adjustment Orange | 0 |
Luminance Adjustment Purple | 0 |
Luminance Adjustment Red | 0 |
Luminance Adjustment Yellow | 0 |
Luminance Smoothing | 0 |
Metering Mode | Average |
Owner Name | Danya Rose |
Parametric Darks | -14 |
Parametric Highlight Split | 75 |
Parametric Highlights | -36 |
Parametric Lights | +24 |
Parametric Midtone Split | 50 |
Parametric Shadow Split | 25 |
Parametric Shadows | 0 |
Post Crop Vignette Amount | +17 |
Post Crop Vignette Feather | 83 |
Post Crop Vignette Midpoint | 50 |
Post Crop Vignette Roundness | -71 |
Red Hue | 0 |
Red Saturation | 0 |
Saturation | -29 |
Saturation Adjustment Aqua | 0 |
Saturation Adjustment Blue | 0 |
Saturation Adjustment Green | 0 |
Saturation Adjustment Magenta | 0 |
Saturation Adjustment Orange | 0 |
Saturation Adjustment Purple | 0 |
Saturation Adjustment Red | 0 |
Saturation Adjustment Yellow | 0 |
Scale Factor To 35 mm Equivalent | 1.6 |
Scene Capture Type | Standard |
Shadow Tint | 0 |
Shadows | 8 |
Sharpen Detail | 0 |
Sharpen Edge Masking | 0 |
Sharpen Radius | +0.5 |
Sharpness | 0 |
Split Toning Balance | +100 |
Split Toning Highlight Hue | 43 |
Split Toning Highlight Saturation | 0 |
Split Toning Shadow Hue | 0 |
Split Toning Shadow Saturation | 0 |
Subject | figurines, flower, little people |
Tint | +32 |
Title | Little people picnic |
Tone Curve | 0, 0, 32, 22, 64, 56, 128, 128, 192, 196, 255, 255 |
Tone Curve Name | Medium Contrast |
Version | 5.2 |
Vibrance | -79 |
Vignette Amount | 0 |
White Balance | Auto |