Shooting information for this photo
Camera: | FUJIFILM X-T3 |
Exposure: | 30 sec. |
Aperture: | f/13.0 |
Focal Length: | 24.3 mm (35 mm equivalent: 36.0 mm) |
Flash: | No Flash |
Exposure mode: | Manual |
Max Aperture: | 2.8 |
Resolution: | 240 x 240 dpi |
Original Date: | 2021:01:24 08:05:01 |
Digitized Date: | 2021:01:24 08:05:01+01:00 |
Created on: | 2021:01:24 08:05:01 |
Software: | Adobe Photoshop Lightroom Classic 10.1 (Windows) |
Copyright: | Alle rechten voorbehouden - All rights reserved |
Already Applied | True |
Artist | Diederik Santema |
Auto Lateral CA | 1 |
Blacks 2012 | -15 |
Blue Hue | 0 |
Blue Saturation | 0 |
Brightness Value | -3.95 |
Camera Profile | Adobe Standard v2 |
Circle Of Confusion | 0.020 mm |
Circular Gradient Based Corrections Correction Active | true |
Circular Gradient Based Corrections Correction Amount | 1.000000 |
Circular Gradient Based Corrections Correction Masks Angle | 0.000000 |
Circular Gradient Based Corrections Correction Masks Bottom | 0.611778 |
Circular Gradient Based Corrections Correction Masks Feather | +96 |
Circular Gradient Based Corrections Correction Masks Flipped | true |
Circular Gradient Based Corrections Correction Masks Left | 0.566026 |
Circular Gradient Based Corrections Correction Masks Mask Value | 1.000000 |
Circular Gradient Based Corrections Correction Masks Midpoint | +50 |
Circular Gradient Based Corrections Correction Masks Right | 0.571795 |
Circular Gradient Based Corrections Correction Masks Roundness | 0 |
Circular Gradient Based Corrections Correction Masks Top | 0.600240 |
Circular Gradient Based Corrections Correction Masks Version | +2 |
Circular Gradient Based Corrections Correction Masks What | Mask/CircularGradient |
Circular Gradient Based Corrections Correction Range Mask Color Amount | 0.500000 |
Circular Gradient Based Corrections Correction Range Mask Depth Feather | 0.500000 |
Circular Gradient Based Corrections Correction Range Mask Depth Max | 1.000000 |
Circular Gradient Based Corrections Correction Range Mask Depth Min | 0.000000 |
Circular Gradient Based Corrections Correction Range Mask Lum Feather | 0.500000 |
Circular Gradient Based Corrections Correction Range Mask Lum Max | 1.000000 |
Circular Gradient Based Corrections Correction Range Mask Lum Min | 0.000000 |
Circular Gradient Based Corrections Correction Range Mask Type | 0 |
Circular Gradient Based Corrections Correction Range Mask Version | +2 |
Circular Gradient Based Corrections Local Blacks 2012 | 0.000000 |
Circular Gradient Based Corrections Local Brightness | 0.000000 |
Circular Gradient Based Corrections Local Clarity 2012 | -0.011630 |
Circular Gradient Based Corrections Local Contrast 2012 | 0.000000 |
Circular Gradient Based Corrections Local Defringe | 0.000000 |
Circular Gradient Based Corrections Local Dehaze | 0.000000 |
Circular Gradient Based Corrections Local Exposure 2012 | -0.023000 |
Circular Gradient Based Corrections Local Highlights 2012 | 0.000000 |
Circular Gradient Based Corrections Local Hue | 0.000000 |
Circular Gradient Based Corrections Local Luminance Noise | 0.000000 |
Circular Gradient Based Corrections Local Moire | 0.000000 |
Circular Gradient Based Corrections Local Saturation | -0.011630 |
Circular Gradient Based Corrections Local Shadows 2012 | 0.000000 |
Circular Gradient Based Corrections Local Sharpness | 0.000000 |
Circular Gradient Based Corrections Local Temperature | 0.000000 |
Circular Gradient Based Corrections Local Texture | 0.000000 |
Circular Gradient Based Corrections Local Tint | 0.000000 |
Circular Gradient Based Corrections Local Toning Hue | 0.000000 |
Circular Gradient Based Corrections Local Toning Saturation | 0.000000 |
Circular Gradient Based Corrections Local Whites 2012 | -0.551720 |
Circular Gradient Based Corrections What | Correction |
Clarity 2012 | +32 |
Color Grade Blending | 50 |
Color Grade Global Hue | 0 |
Color Grade Global Lum | 0 |
Color Grade Global Sat | 0 |
Color Grade Highlight Lum | 0 |
Color Grade Midtone Hue | 0 |
Color Grade Midtone Lum | 0 |
Color Grade Midtone Sat | 0 |
Color Grade Shadow Lum | 0 |
Color Noise Reduction | 25 |
Color Noise Reduction Detail | 50 |
Color Noise Reduction Smoothness | 50 |
Color Space | sRGB |
Color Temperature | 7900 |
Contrast 2012 | +4 |
Country | Nederland |
Country Code | NLD |
Creator | Diederik Santema |
Crop Angle | 0 |
Crop Bottom | 1 |
Crop Constrain To Warp | 0 |
Crop Left | 0 |
Crop Right | 1 |
Crop Top | 0 |
Custom Rendered | Normal |
Defringe Green Amount | 0 |
Defringe Green Hue Hi | 60 |
Defringe Green Hue Lo | 40 |
Defringe Purple Amount | 0 |
Defringe Purple Hue Hi | 70 |
Defringe Purple Hue Lo | 30 |
Dehaze | 0 |
Description | <i>Dank voor het bekijken, commentaren, favorieten en kritiek..Geen verder gebruik zonder mijn uitdrukkelijke toestemming. · .Thanks for watching, comments, favourites and critique..No further use without my explicit consent.</i> |
Distortion Correction Already Applied | True |
Exposure 2012 | +1.07 |
Exposure Compensation | 0 |
Exposure Mode | Manual |
Field Of View | 53.1 deg |
Focal Length In 35mm Format | 36 mm |
Format | image/jpeg |
Fuji Rating Already Applied | True |
Grain Amount | 0 |
Green Hue | 0 |
Green Saturation | 0 |
Has Crop | False |
Has Settings | True |
Highlights 2012 | -79 |
Hue Adjustment Aqua | 0 |
Hue Adjustment Blue | 0 |
Hue Adjustment Green | 0 |
Hue Adjustment Magenta | 0 |
Hue Adjustment Orange | 0 |
Hue Adjustment Purple | 0 |
Hue Adjustment Red | 0 |
Hue Adjustment Yellow | 0 |
Hyperfocal Distance | 2.24 m |
ISO | 160 |
Image Description | <i>Dank voor het bekijken, commentaren, favorieten en kritiek..Geen verder gebruik zonder mijn uitdrukkelijke toestemming. · .Thanks for watching, comments, favourites and critique..No further use without my explicit consent.</i> |
Image Size | 6093x3427 |
Instructions | Geen verder gebruik zonder mijn uitdrukkelijke toestemming. · .No further use without my explicit consent. |
Lateral Chromatic Aberration Correction Already Applied | True |
Lens | XF18-55mmF2.8-4 R LM OIS |
Lens Info | 18-55mm f/2.8-4 |
Lens Make | FUJIFILM |
Lens Manual Distortion Amount | 0 |
Lens Model | XF18-55mmF2.8-4 R LM OIS |
Lens Profile Enable | 0 |
Light Source | Unknown |
Light Value | 1.8 |
Location | Binnenstad |
Look Amount | 1.000000 |
Look Group | Profiles |
Look Name | Adobe Color |
Look Parameters Camera Profile | Adobe Standard |
Look Parameters Convert To Grayscale | False |
Look Parameters Look Table | E1095149FDB39D7A057BAB208837E2 E1 |
Look Parameters Process Version | 11.0 |
Look Parameters Tone Curve PV2012 | 0, 0, 22, 16, 40, 35, 127, 127, 224, 230, 240, 246, 255, 255 |
Look Parameters Tone Curve PV2012 Blue | 0, 0, 255, 255 |
Look Parameters Tone Curve PV2012 Green | 0, 0, 255, 255 |
Look Parameters Tone Curve PV2012 Red | 0, 0, 255, 255 |
Look Parameters Version | 13.1 |
Look Supports Amount | false |
Look Supports Monochrome | false |
Look Supports Output Referred | false |
Luminance Adjustment Aqua | 0 |
Luminance Adjustment Blue | +25 |
Luminance Adjustment Green | 0 |
Luminance Adjustment Magenta | 0 |
Luminance Adjustment Orange | 0 |
Luminance Adjustment Purple | 0 |
Luminance Adjustment Red | 0 |
Luminance Adjustment Yellow | 0 |
Luminance Smoothing | 0 |
Metering Mode | Average |
Override Look Vignette | False |
Parametric Darks | 0 |
Parametric Highlight Split | 75 |
Parametric Highlights | 0 |
Parametric Lights | 0 |
Parametric Midtone Split | 50 |
Parametric Shadow Split | 25 |
Parametric Shadows | 0 |
Perspective Aspect | 0 |
Perspective Horizontal | 0 |
Perspective Rotate | 0.0 |
Perspective Scale | 100 |
Perspective Upright | 0 |
Perspective Vertical | 0 |
Perspective X | 0.00 |
Perspective Y | 0.00 |
Post Crop Vignette Amount | 0 |
Preserved File Name | DSCF8436.RAF |
Process Version | 11.0 |
Raw File Name | DSCF8436.RAF |
Red Hue | 0 |
Red Saturation | 0 |
Rights | Alle rechten voorbehouden - All rights reserved |
Saturation | -7 |
Saturation Adjustment Aqua | 0 |
Saturation Adjustment Blue | -3 |
Saturation Adjustment Green | 0 |
Saturation Adjustment Magenta | 0 |
Saturation Adjustment Orange | 0 |
Saturation Adjustment Purple | 0 |
Saturation Adjustment Red | 0 |
Saturation Adjustment Yellow | 0 |
Scale Factor To 35 mm Equivalent | 1.5 |
Scene Capture Type | Standard |
Scene Type | Directly photographed |
Sensing Method | One-chip color area |
Sensitivity Type | Standard Output Sensitivity |
Shadow Tint | 0 |
Shadows 2012 | +17 |
Sharpen Detail | 25 |
Sharpen Edge Masking | 0 |
Sharpen Radius | +1.0 |
Sharpness | Normal |
Split Toning Balance | 0 |
Split Toning Highlight Hue | 0 |
Split Toning Highlight Saturation | 0 |
Split Toning Shadow Hue | 0 |
Split Toning Shadow Saturation | 0 |
State | Noord-Holland |
Subject | 2021, amsterdam, geo:lat=52.38007781, geo:lon=4.92103222, geotagged, holland, ij, januari, january, java-eiland, lange sluitertijd, long exposure, nederland, netherlands, the sunday challenge, tsc, water, winter |
Subject Distance Range | Unknown |
Texture | 0 |
Tint | +20 |
Tone Curve Name 2012 | Linear |
Tone Curve PV2012 | 0, 0, 255, 255 |
Tone Curve PV2012 Blue | 0, 0, 255, 255 |
Tone Curve PV2012 Green | 0, 0, 255, 255 |
Tone Curve PV2012 Red | 0, 0, 255, 255 |
Version | 13.1 |
Vibrance | +13 |
Vignette Amount | 0 |
Vignette Correction Already Applied | True |
White Balance | Auto |
Whites 2012 | -87 |
GPS Information |
GPS Date Stamp | 2021:01:24 |
GPS Date/Time | 2021:01:24 07:05:01Z |
GPS Latitude | 52 deg 22' 48.28" N |
GPS Latitude Ref | North |
GPS Longitude | 4 deg 55' 15.72" E |
GPS Longitude Ref | East |
GPS Map Datum | WGS-84 |
GPS Position | 52 deg 22' 48.28" N, 4 deg 55' 15.72" E |
GPS Time Stamp | 07:05:01 |
GPS Version ID | 2.2.0.0 |