Shooting information for this photo
Camera: | OM Digital Solutions OM-5 |
Exposure: | 0.01 sec. (1/100) |
Aperture: | f/7.1 |
Focal Length: | 15.0 mm (35 mm equivalent: 30.0 mm) |
Flash: | On, Did not fire |
Exposure mode: | Aperture-priority AE |
Max Aperture: | 1.7 |
Resolution: | 300 x 300 dpi |
Original Date: | 2024:10:10 20:39:48 |
Created on: | 2024:10:10 20:39:48 |
Modified on: | 2024:10:17 14:35:46 |
Software: | Adobe Photoshop Lightroom Classic 14.0 (Windows) |
Copyright: | Manfred Hofmann |
Already Applied | True |
Artist | LUMAHO |
Auto Lateral CA | 1 |
Blacks 2012 | 0 |
Blue Hue | 0 |
Blue Saturation | 0 |
CFA Pattern | [Red,Green][Green,Blue] |
Camera Profile | Adobe Standard |
Camera Profiles Aperture Value | 5.655638 |
Camera Profiles Author | Adobe |
Camera Profiles Auto Scale | False |
Camera Profiles Camera Pretty Name | OM Digital Solutions OM-5 |
Camera Profiles Camera Raw Profile | True |
Camera Profiles Focal Length | 15 |
Camera Profiles Focus Distance | 10000 |
Camera Profiles Lens | LEICA DG SUMMILUX 15/F1.7 |
Camera Profiles Lens Pretty Name | LEICA DG SUMMILUX 15/F1.7 |
Camera Profiles Make | OM Digital Solutions |
Camera Profiles Model | OM-5 |
Camera Profiles Perspective Model Image X Center | 0.496947 |
Camera Profiles Perspective Model Image Y Center | 0.5 |
Camera Profiles Perspective Model Radial Distort Param 1 | -0.197779 |
Camera Profiles Perspective Model Radial Distort Param 2 | 0.079862 |
Camera Profiles Perspective Model Radial Distort Param 3 | 0.009261 |
Camera Profiles Perspective Model Scale Factor | 1 |
Camera Profiles Perspective Model Version | 2 |
Camera Profiles Profile Name | Camera Settings |
Camera Profiles Sensor Format Factor | 1.993092 |
Camera Profiles Unique Camera Model | OM Digital Solutions OM-5 |
Circle Of Confusion | 0.015 mm |
City | Mannheim |
Clarity 2012 | +22 |
Color Grade Blending | 50 |
Color Grade Global Hue | 43 |
Color Grade Global Lum | 0 |
Color Grade Global Sat | 13 |
Color Grade Highlight Lum | 0 |
Color Grade Midtone Hue | 0 |
Color Grade Midtone Lum | 0 |
Color Grade Midtone Sat | 0 |
Color Grade Shadow Lum | 0 |
Color Noise Reduction | 25 |
Color Noise Reduction Detail | 50 |
Color Noise Reduction Smoothness | 50 |
Color Space | Uncalibrated |
Color Temperature | 7050 |
Contrast | Normal |
Contrast 2012 | +10 |
Country | BRD |
Creator | LUMAHO |
Crop Angle | 0 |
Crop Bottom | 0.990909 |
Crop Constrain To Warp | 0 |
Crop Left | 0.009091 |
Crop Right | 0.990909 |
Crop Top | 0.009091 |
Custom Rendered | Normal |
Date Created | 2024:10:10 20:39:48+09:00 |
Defringe Green Amount | 0 |
Defringe Green Hue Hi | 60 |
Defringe Green Hue Lo | 40 |
Defringe Purple Amount | 0 |
Defringe Purple Hue Hi | 70 |
Defringe Purple Hue Lo | 30 |
Dehaze | +20 |
Digital Zoom Ratio | 1 |
Distortion Correction Already Applied | True |
Exposure 2012 | +0.50 |
Exposure Compensation | 0 |
Exposure Mode | Auto |
Field Of View | 61.9 deg |
Flash Compensation | 0 |
Focal Length In 35mm Format | 30 mm |
Format | image/jpeg |
Gain Control | Low gain up |
Grain Amount | 0 |
Green Hue | 0 |
Green Saturation | 0 |
HDR Edit Mode | 0 |
Has Crop | True |
Has Settings | True |
Highlights 2012 | +5 |
Hue Adjustment Aqua | 0 |
Hue Adjustment Blue | 0 |
Hue Adjustment Green | 0 |
Hue Adjustment Magenta | 0 |
Hue Adjustment Orange | 0 |
Hue Adjustment Purple | 0 |
Hue Adjustment Red | 0 |
Hue Adjustment Yellow | 0 |
Hyperfocal Distance | 2.11 m |
ISO | 250 |
Image Size | 5090x3818 |
Label | Grün |
Lateral Chromatic Aberration Correction Already Applied | True |
Lens | LEICA DG SUMMILUX 15/F1.7 |
Lens Info | 15mm f/1.7 |
Lens Manual Distortion Amount | 0 |
Lens Model | LEICA DG SUMMILUX 15/F1.7 |
Lens Profile Distortion Scale | 100 |
Lens Profile Enable | 1 |
Lens Profile Is Embedded | True |
Lens Profile Name | Camera Settings |
Lens Profile Setup | LensDefaults |
Lens Profile Vignetting Scale | 100 |
Light Source | Unknown |
Light Value | 11.0 |
Look Amount | 1 |
Look Group | Profiles |
Look Name | Adobe Color |
Look Parameters Camera Profile | Adobe Standard |
Look Parameters Convert To Grayscale | False |
Look Parameters Look Table | E1095149FDB39D7A057BAB208837E2 E1 |
Look Parameters Process Version | 15.4 |
Look Parameters Tone Curve PV2012 | 0, 0, 22, 16, 40, 35, 127, 127, 224, 230, 240, 246, 255, 255 |
Look Parameters Tone Curve PV2012 Blue | 0, 0, 255, 255 |
Look Parameters Tone Curve PV2012 Green | 0, 0, 255, 255 |
Look Parameters Tone Curve PV2012 Red | 0, 0, 255, 255 |
Look Parameters Version | 17.0 |
Look Supports Amount | false |
Look Supports Monochrome | false |
Look Supports Output Referred | false |
Luminance Adjustment Aqua | 0 |
Luminance Adjustment Blue | 0 |
Luminance Adjustment Green | 0 |
Luminance Adjustment Magenta | 0 |
Luminance Adjustment Orange | 0 |
Luminance Adjustment Purple | 0 |
Luminance Adjustment Red | 0 |
Luminance Adjustment Yellow | 0 |
Luminance Smoothing | 0 |
Metering Mode | Multi-segment |
Override Look Vignette | False |
Parametric Darks | -12 |
Parametric Highlight Split | 75 |
Parametric Highlights | +24 |
Parametric Lights | +12 |
Parametric Midtone Split | 50 |
Parametric Shadow Split | 25 |
Parametric Shadows | -24 |
Perspective Aspect | 0 |
Perspective Horizontal | 0 |
Perspective Rotate | 0.0 |
Perspective Scale | 100 |
Perspective Upright | 5 |
Perspective Vertical | 0 |
Perspective X | 0.00 |
Perspective Y | 0.00 |
Pick | 0 |
Point Colors | -1.000000, -1.000000, -1.000000, -1.000000, -1.000000, -1.000000, -1.000000, -1.000000, -1.000000, -1.000000, -1.000000, -1.000000, -1.000000, -1.000000, -1.000000, -1.000000, -1.000000, -1.000000, -1.000000 |
Post Crop Vignette Amount | -10 |
Post Crop Vignette Feather | 50 |
Post Crop Vignette Highlight Contrast | 0 |
Post Crop Vignette Midpoint | 50 |
Post Crop Vignette Roundness | 0 |
Post Crop Vignette Style | 1 |
Preserved File Name | _OM50039.ORF |
Process Version | 15.4 |
Raw File Name | _OM50039.ORF |
Red Hue | 0 |
Red Saturation | 0 |
Rights | Manfred Hofmann |
Saturation | Normal |
Saturation Adjustment Aqua | +20 |
Saturation Adjustment Blue | +30 |
Saturation Adjustment Green | +30 |
Saturation Adjustment Magenta | 0 |
Saturation Adjustment Orange | +20 |
Saturation Adjustment Purple | 0 |
Saturation Adjustment Red | +20 |
Saturation Adjustment Yellow | +20 |
Scale Factor To 35 mm Equivalent | 2.0 |
Scene Capture Type | Standard |
Sensitivity Type | Standard Output Sensitivity |
Shadow Tint | 0 |
Shadows 2012 | +10 |
Sharpen Detail | 25 |
Sharpen Edge Masking | 0 |
Sharpen Radius | +0.8 |
Sharpness | Normal |
Split Toning Balance | 0 |
Split Toning Highlight Hue | 0 |
Split Toning Highlight Saturation | 0 |
Split Toning Shadow Hue | 0 |
Split Toning Shadow Saturation | 0 |
State | Kurpfalz |
Subject | 05 Dorf und Stadt, BRD, Ipernity, Kurpfalz, ORTE, PROJEKTE, flickr, Öffentlich |
Texture | +6 |
Tint | +5 |
Title | Hafen Mannheim |
Tone Curve Name 2012 | Linear |
Tone Curve PV2012 | 0, 0, 255, 255 |
Tone Curve PV2012 Blue | 0, 0, 255, 255 |
Tone Curve PV2012 Green | 0, 0, 255, 255 |
Tone Curve PV2012 Red | 0, 0, 255, 255 |
Version | 17.0 |
Vibrance | -10 |
Vignette Amount | 0 |
Weighted Flat Subject | flickr, Öffentlich, Ipernity, Kurpfalz, BRD, ORTE, 05 Dorf und Stadt, PROJEKTE |
White Balance | Auto |
Whites 2012 | 0 |