Shooting information for this photo
Camera: | OM Digital Solutions OM-5 |
Exposure: | 0.00313 sec. (1/320) |
Aperture: | f/7.1 |
Focal Length: | 45.0 mm (35 mm equivalent: 90.0 mm) |
Flash: | On, Did not fire |
Exposure mode: | Aperture-priority AE |
Max Aperture: | 4.0 |
Resolution: | 300 x 300 dpi |
Original Date: | 2024:07:22 20:52:19 |
Created on: | 2024:07:22 20:52:19 |
Modified on: | 2024:07:27 11:26:26 |
Software: | Adobe Photoshop Lightroom Classic 13.4 (Windows) |
Copyright: | Manfred Hofmann |
Already Applied | True |
Artist | LUMAHO |
Auto Lateral CA | 1 |
Blacks 2012 | 0 |
Blue Hue | 0 |
Blue Saturation | 0 |
CFA Pattern | [Red,Green][Green,Blue] |
Camera Profile | Adobe Standard |
Circle Of Confusion | 0.015 mm |
City | Leimersheim |
Clarity 2012 | +18 |
Color Grade Blending | 50 |
Color Grade Global Hue | 43 |
Color Grade Global Lum | 0 |
Color Grade Global Sat | 14 |
Color Grade Highlight Lum | 0 |
Color Grade Midtone Hue | 0 |
Color Grade Midtone Lum | 0 |
Color Grade Midtone Sat | 0 |
Color Grade Shadow Lum | 0 |
Color Noise Reduction | 25 |
Color Noise Reduction Detail | 50 |
Color Noise Reduction Smoothness | 50 |
Color Space | Uncalibrated |
Color Temperature | 5750 |
Compatible Version | 268632064 |
Contrast | Normal |
Contrast 2012 | +6 |
Country | BRD |
Creator | LUMAHO |
Crop Angle | 0 |
Crop Bottom | 1 |
Crop Constrain To Warp | 0 |
Crop Left | 0 |
Crop Right | 1 |
Crop Top | 0 |
Custom Rendered | Normal |
Date Created | 2024:07:22 20:52:19+09:00 |
Dehaze | +18 |
Description | Altrhein bei Leimersheim |
Digital Zoom Ratio | 1 |
Exposure 2012 | +0.15 |
Exposure Compensation | -0.7 |
Exposure Mode | Manual |
Field Of View | 22.6 deg |
Flash Compensation | 0 |
Focal Length In 35mm Format | 90 mm |
Format | image/jpeg |
Gain Control | Low gain up |
Grain Amount | 0 |
Gray Mixer Aqua | -18 |
Gray Mixer Blue | +8 |
Gray Mixer Green | -26 |
Gray Mixer Magenta | +4 |
Gray Mixer Orange | -17 |
Gray Mixer Purple | +15 |
Gray Mixer Red | -9 |
Gray Mixer Yellow | -21 |
Green Hue | 0 |
Green Saturation | 0 |
HDR Edit Mode | 0 |
Has Crop | False |
Has Settings | True |
Highlights 2012 | 0 |
Hyperfocal Distance | 18.98 m |
ISO | 320 |
Image Description | Altrhein bei Leimersheim |
Image Size | 5184x3888 |
Label | Grün |
Lateral Chromatic Aberration Correction Already Applied | True |
Lens | LUMIX G VARIO 45-150/F4.0-5.6 |
Lens Info | 45-150mm f/4-5.6 |
Lens Manual Distortion Amount | 0 |
Lens Model | LUMIX G VARIO 45-150/F4.0-5.6 |
Lens Profile Enable | 1 |
Lens Profile Setup | LensDefaults |
Light Source | Unknown |
Light Value | 12.3 |
Look Amount | 1 |
Look Group | Profiles |
Look Name | Adobe Monochrome |
Look Parameters Camera Profile | Adobe Standard |
Look Parameters Clarity 2012 | +8 |
Look Parameters Convert To Grayscale | True |
Look Parameters Look Table | 73ED6C18DDE909DD7EA2D771F5AC28 2D |
Look Parameters Process Version | 15.4 |
Look Parameters Tone Curve PV2012 | 0, 0, 64, 56, 128, 128, 192, 197, 255, 255 |
Look Parameters Tone Curve PV2012 Blue | 0, 0, 255, 255 |
Look Parameters Tone Curve PV2012 Green | 0, 0, 255, 255 |
Look Parameters Tone Curve PV2012 Red | 0, 0, 255, 255 |
Look Parameters Version | 16.4 |
Look Supports Amount | false |
Look Supports Monochrome | false |
Look Supports Output Referred | false |
Luminance Smoothing | 0 |
Metering Mode | Multi-segment |
Override Look Vignette | False |
Parametric Darks | -12 |
Parametric Highlight Split | 75 |
Parametric Highlights | +24 |
Parametric Lights | +12 |
Parametric Midtone Split | 50 |
Parametric Shadow Split | 25 |
Parametric Shadows | -24 |
Perspective Aspect | 0 |
Perspective Horizontal | 0 |
Perspective Rotate | 0.0 |
Perspective Scale | 100 |
Perspective Upright | 1 |
Perspective Vertical | 0 |
Perspective X | 0.00 |
Perspective Y | 0.00 |
Pick | 0 |
Point Colors | -1.000000, -1.000000, -1.000000, -1.000000, -1.000000, -1.000000, -1.000000, -1.000000, -1.000000, -1.000000, -1.000000, -1.000000, -1.000000, -1.000000, -1.000000, -1.000000, -1.000000, -1.000000, -1.000000 |
Post Crop Vignette Amount | -5 |
Post Crop Vignette Feather | 50 |
Post Crop Vignette Highlight Contrast | 0 |
Post Crop Vignette Midpoint | 50 |
Post Crop Vignette Roundness | 0 |
Post Crop Vignette Style | 1 |
Preserved File Name | _OM50017.ORF |
Process Version | 15.4 |
Range Mask Map Info Range Mask Map Info Lab Max | 0.999924 0.518151 0.575936 |
Range Mask Map Info Range Mask Map Info Lab Min | 0.000275 0.480781 0.445670 |
Range Mask Map Info Range Mask Map Info RGB Max | 0.408896 0.452537 0.585916 |
Range Mask Map Info Range Mask Map Info RGB Min | 0.001434 0.001724 0.001251 |
Raw File Name | _OM50017.ORF |
Red Hue | 0 |
Red Saturation | 0 |
Remove Areas Fill method | firefly |
Remove Areas Masks Center Weight | 1 |
Remove Areas Masks Flow | 1 |
Remove Areas Masks Gesture Center Weight | 0 |
Remove Areas Masks Gesture Flow | 1 |
Remove Areas Masks Gesture Mask Active | true |
Remove Areas Masks Gesture Mask Blend Mode | 0 |
Remove Areas Masks Gesture Mask Inverted | false |
Remove Areas Masks Gesture Mask Sync ID | CBBE39E346FEEE4BB0AEBB2837F4D0 D3 |
Remove Areas Masks Gesture Mask Value | 1 |
Remove Areas Masks Gesture Radius | 0 |
Remove Areas Masks Gesture What | Mask/Paint |
Remove Areas Masks Mask Active | true |
Remove Areas Masks Mask Blend Mode | 0 |
Remove Areas Masks Mask Inverted | false |
Remove Areas Masks Mask Sub Type | 0 |
Remove Areas Masks Mask Sync ID | AC6C4826CCFA83468BC8FB5DF3C802 B8 |
Remove Areas Masks Mask Value | 1 |
Remove Areas Masks Mask Version | 1 |
Remove Areas Masks Model Version | 234881976 |
Remove Areas Masks Origin | 1746,1753 |
Remove Areas Masks Radius | 0.046021 |
Remove Areas Masks Reference Point | 0.720703 0.955729 |
Remove Areas Masks What | Mask/Paint |
Remove Areas Masks Whole Image Area | 0/1,0/1,1920/1,2560/1 |
Remove Areas Opacity | 1 |
Remove Areas Pm black level | 4178 |
Remove Areas Pm clio model version | 1.0.5-beta.1-1.2_1.2-8c2cea4-0 .1.27.1r16.2 |
Remove Areas Pm gamma type | 1 |
Remove Areas Pm mask remap info | 0.000000000,1.000000000,0.0000 00000,1.000000000 |
Remove Areas Pm patch | C31B22F467B32D1669BFF0C6108CCC D2 |
Remove Areas Pm patch mask | FFD163A1BDC209F7B66B31722AB655 5F |
Remove Areas Pm patch variations Pm patch variation | 7D3F67CFB539579FFA262619DB5E56 BC |
Remove Areas Pm remap info 0 | 0.065857939,0.168307006,0.0000 00000,1.000000000 |
Remove Areas Pm remap info 1 | 0.068787672,0.278156698,0.0000 00000,1.000000000 |
Remove Areas Pm remap info 2 | 0.065735869,0.186175331,0.0000 00000,1.000000000 |
Remove Areas Pm remap info variation 0 0 | 0.066727705,0.265659571,0.0000 00000,1.000000000 |
Remove Areas Pm remap info variation 0 1 | 0.069840543,0.438071251,0.0000 00000,1.000000000 |
Remove Areas Pm remap info variation 0 2 | 0.066071562,0.258930355,0.0000 00000,1.000000000 |
Remove Areas Pm remap info variation 1 0 | 0.066544592,0.350408167,0.0000 00000,1.000000000 |
Remove Areas Pm remap info variation 1 1 | 0.069840543,0.564690650,0.0000 00000,1.000000000 |
Remove Areas Pm remap info variation 1 2 | 0.066071562,0.303624004,0.0000 00000,1.000000000 |
Remove Areas Pm search bottom | 3912 |
Remove Areas Pm search left | 757 |
Remove Areas Pm search right | 2529 |
Remove Areas Pm search top | 2623 |
Remove Areas Pm source type | full |
Remove Areas Pm target bottom | 3912 |
Remove Areas Pm target left | 1056 |
Remove Areas Pm target right | 2042 |
Remove Areas Pm target top | 3221 |
Remove Areas Pm version | 327680 |
Remove Areas Pm whole image bottom | 3900 |
Remove Areas Pm whole image left | 12 |
Remove Areas Pm whole image right | 5196 |
Remove Areas Pm whole image top | 12 |
Remove Areas Seed | 1 |
Remove Areas Source State | sourceAutoComputed |
Remove Areas Spot Type | heal_patchmatch |
Rights | Manfred Hofmann |
Saturation | Normal |
Scale Factor To 35 mm Equivalent | 2.0 |
Scene Capture Type | Standard |
Sensitivity Type | Standard Output Sensitivity |
Shadow Tint | 0 |
Shadows 2012 | +20 |
Sharpen Detail | 25 |
Sharpen Edge Masking | 0 |
Sharpen Radius | +0.8 |
Sharpness | Normal |
Split Toning Balance | 0 |
Split Toning Highlight Hue | 0 |
Split Toning Highlight Saturation | 0 |
Split Toning Shadow Hue | 0 |
Split Toning Shadow Saturation | 0 |
State | Pfalz |
Subject | 01 Landschaft, Alle Landschaftsaufnahmen ab 01 / 2024, BRD, Bild, Ipernity, Kurpfalz, ORTE, PROJEKTE, Schwarzweiß, flickr, Öffentlich |
Texture | +6 |
Tint | +22 |
Title | Hochwasser am Rhein |
Tone Curve Name 2012 | Linear |
Tone Curve PV2012 | 0, 0, 255, 255 |
Tone Curve PV2012 Blue | 0, 0, 255, 255 |
Tone Curve PV2012 Green | 0, 0, 255, 255 |
Tone Curve PV2012 Red | 0, 0, 255, 255 |
Version | 16.4 |
Vignette Amount | 0 |
Weighted Flat Subject | flickr, Öffentlich, Ipernity, Kurpfalz, BRD, ORTE, 01 Landschaft, Alle Landschaftsaufnahmen ab 01 / 2024, PROJEKTE, Schwarzweiß, Bild |
White Balance | Auto |
Whites 2012 | 0 |