Shooting information for this photo
Camera: | Google Pixel 5 |
Exposure: | 4.0E-5 sec. (1/23000) |
Aperture: | f/1.7 |
Focal Length: | 4.4 mm (35 mm equivalent: 27.0 mm) |
Flash: | Off, Did not fire |
Exposure mode: | Program AE |
Max Aperture: | 1.7 |
Resolution: | 240 x 240 dpi |
Original Date: | 2022:03:26 14:27:33.644 |
Created on: | 2022:03:26 14:27:33.644 |
Modified on: | 2022:04:03 08:47:55 |
Software: | Adobe Lightroom 5.2 (Windows) |
Already Applied | True |
Approximate Focus Distance | 4.726 |
Auto Lateral CA | 0 |
Blacks 2012 | -30 |
Blue Hue | 0 |
Blue Saturation | 0 |
Brightness Value | 11.49 |
Camera Profile | Embedded |
Circle Of Confusion | 0.005 mm |
Clarity 2012 | 0 |
Color Grade Blending | 50 |
Color Grade Global Hue | 0 |
Color Grade Global Lum | 0 |
Color Grade Global Sat | 0 |
Color Grade Highlight Lum | 0 |
Color Grade Midtone Hue | 0 |
Color Grade Midtone Lum | 0 |
Color Grade Midtone Sat | 0 |
Color Grade Shadow Lum | 0 |
Color Noise Reduction | 0 |
Color Space | sRGB |
Contrast | Normal |
Contrast 2012 | +70 |
Convert To Grayscale | True |
Crop Angle | 0 |
Crop Bottom | 1 |
Crop Constrain To Warp | 0 |
Crop Left | 0 |
Crop Right | 1 |
Crop Top | 0 |
Custom Rendered | Custom |
Date Created | 2022:03:26 14:27:33.644+00:00 |
Dehaze | +42 |
Depth Of Field | inf (1.55 m - inf) |
Digital Zoom Ratio | 0 |
Exposure 2012 | +0.04 |
Exposure Compensation | 0 |
Exposure Mode | Auto |
Field Of View | 67.4 deg |
Focal Length In 35mm Format | 27 mm |
Format | image/jpeg |
Grain Amount | 0 |
Gray Mixer Aqua | 0 |
Gray Mixer Blue | 0 |
Gray Mixer Green | 0 |
Gray Mixer Magenta | 0 |
Gray Mixer Orange | 0 |
Gray Mixer Purple | 0 |
Gray Mixer Red | 0 |
Gray Mixer Yellow | 0 |
Green Hue | 0 |
Green Saturation | 0 |
Has Crop | False |
Has Extended XMP | 3263F0647C1B2D482DBE085D15FCF4 CC |
Has Settings | True |
Highlights 2012 | -79 |
Hyperfocal Distance | 2.32 m |
ISO | 76 |
Image Size | 2048x1536 |
Incremental Temperature | 0 |
Incremental Tint | 0 |
Lens | Pixel 5 back camera 4.38mm f/1.73 |
Lens Make | |
Lens Manual Distortion Amount | 0 |
Lens Model | Pixel 5 back camera 4.38mm f/1.73 |
Lens Profile Enable | 0 |
Light Value | 16.4 |
Luminance Smoothing | 0 |
Metering Mode | Center-weighted average |
Override Look Vignette | False |
Parametric Darks | 0 |
Parametric Highlight Split | 75 |
Parametric Highlights | 0 |
Parametric Lights | 0 |
Parametric Midtone Split | 50 |
Parametric Shadow Split | 25 |
Parametric Shadows | 0 |
Perspective Aspect | 0 |
Perspective Horizontal | 0 |
Perspective Rotate | 0.0 |
Perspective Scale | 100 |
Perspective Upright | 0 |
Perspective Vertical | 0 |
Perspective X | 0.00 |
Perspective Y | 0.00 |
Post Crop Vignette Amount | 0 |
Process Version | 11.0 |
Red Hue | 0 |
Red Saturation | 0 |
Saturation | Normal |
Scale Factor To 35 mm Equivalent | 6.2 |
Scene Capture Type | Standard |
Scene Type | Directly photographed |
Sensing Method | One-chip color area |
Shadow Tint | 0 |
Shadows 2012 | +65 |
Sharpness | Normal |
Shot log data | SERSUALvZDVtXnAeLOrjQ9ja5kVRtF NHifR1bPmoyKopRVhBbc2Rc0plkHOg 9alwKvTi5+zk94HWGXocBD0t9yTjp0 rQifb3G19zS6+UT3fT2wyqJpbbMSBX 3RFTf8TEhUk8masqYNXZb7oop9TG8Z y74lvzANRxhjDFiUQSGQT8rCUVO/K2 yG+8f4SMhuSCnNUpzuVirSOpjoc36n Jw0i0DG3BNyiJ5RJ3dYI7ctQoddo14 F+9Cecd86REdhrLp+hxAOKlGs06Uvv NqevlWWzG1GJUldDGbWNZcOagUAaJ/ fOd2Tr9S/wkKYlBIKQlNJRS70vMqH6 AkSNIUBaodYKW0EBMe2skSdXPpQtW5 momhXhfamAtmx3YAV6eEhdJPGhoZTN bqOuo12jYweEmeuyrfR27K4Yy7CnJK hGpnU9+UHbZ9wxCELIJRUHSwOpkSiv kouofgBB8m3I3iHw2gjdd7vejM3s3a pXKJQf9l+4fgWvPq |
Split Toning Balance | 0 |
Split Toning Highlight Hue | 0 |
Split Toning Highlight Saturation | 0 |
Split Toning Shadow Hue | 0 |
Split Toning Shadow Saturation | 0 |
Subject Distance | 4.726 m |
Subject Distance Range | Distant |
Texture | 0 |
Tone Curve Name 2012 | Linear |
Tone Curve PV2012 | 0, 0, 255, 255 |
Tone Curve PV2012 Blue | 0, 0, 255, 255 |
Tone Curve PV2012 Green | 0, 0, 255, 255 |
Tone Curve PV2012 Red | 0, 0, 255, 255 |
Version | 14.2 |
Vibrance | +11 |
Vignette Amount | 0 |
White Balance | Auto |
Whites 2012 | +7 |
GPS Information |
GPS Altitude | 81.4 m |
GPS Date Stamp | 2022:03:26 |
GPS Date/Time | 2022:03:26 14:21:38Z |
GPS Latitude | 53 deg 11' 27.80" N |
GPS Latitude Ref | North |
GPS Longitude | 2 deg 53' 16.83" W |
GPS Longitude Ref | West |
GPS Position | 53 deg 11' 27.80" N, 2 deg 53' 16.83" W |
GPS Time Stamp | 14:21:38 |
GPS Version ID | 2.2.0.0 |