Shooting information for this photo
Camera: | Canon EOS 7D |
Exposure: | 0.004 sec. (1/250) |
Aperture: | f/1.4 |
Focal Length: | 35.0 mm (35 mm equivalent: 55.0 mm) |
Flash: | Off, Did not fire |
Exposure mode: | Shutter speed priority AE |
Max Aperture: | 1.4 |
Resolution: | 72 x 72 dpi |
Dimension: | 1024 x 1024 pixels |
Original Date: | 2013:03:21 10:52:52.15 |
Digitized Date: | 2013:03:21 10:52:52+01:00 |
Created on: | 2013:03:21 10:52:52.15 |
Modified on: | 2013:03:21 13:17:23 |
Software: | Adobe Photoshop CS Macintosh |
Already Applied | True |
Approximate Focus Distance | 4294967295 |
Artist | Didier LAMY |
Blue Hue | 0 |
Blue Saturation | 0 |
Brightness | +66 |
Camera Profile | Adobe Standard |
Chromatic Aberration B | 0 |
Chromatic Aberration R | 0 |
Circle Of Confusion | 0.019 mm |
Clarity | 0 |
Color Noise Reduction | 25 |
Color Noise Reduction Detail | 50 |
Color Space | sRGB |
Color Temperature | 3800 |
Contrast | +50 |
Convert To Grayscale | True |
Creator | Didier LAMY |
Crop Angle | -0.375518 |
Crop Bottom | 0.985055 |
Crop Constrain To Warp | 0 |
Crop Height | 3211 |
Crop Left | 0.268156 |
Crop Right | 0.891531 |
Crop Top | 0.06217 |
Crop Unit | pixels |
Crop Width | 3211 |
Custom Rendered | Normal |
Date Created | 2013:03:21 |
Defringe | 0 |
Depth Of Field | inf (45.73 m - inf) |
Exposure | +0.70 |
Exposure Compensation | 0 |
Exposure Mode | Auto |
Field Of View | 36.3 deg |
Fill Light | 10 |
Firmware | 2.0.3 |
Flash Compensation | 0 |
Flash Fired | False |
Flash Function | False |
Flash Mode | Off |
Flash Red Eye Mode | False |
Flash Return | No return detection |
Format | image/jpeg |
Grain Amount | 38 |
Grain Frequency | 20 |
Grain Size | 2 |
Gray Mixer Aqua | -19 |
Gray Mixer Blue | +7 |
Gray Mixer Green | -25 |
Gray Mixer Magenta | +4 |
Gray Mixer Orange | -16 |
Gray Mixer Purple | +14 |
Gray Mixer Red | -8 |
Gray Mixer Yellow | -20 |
Green Hue | 0 |
Green Saturation | 0 |
Has Crop | True |
Has Settings | True |
Hierarchical Subject | Métro |
Highlight Recovery | 21 |
Hyperfocal Distance | 45.73 m |
ISO | 640 |
Image Number | 0 |
Image Size | 1024x1024 |
Lens | EF35mm f/1.4L USM |
Lens ID | Canon EF 35mm f/1.4L |
Lens Info | 35mm f/? |
Lens Manual Distortion Amount | 0 |
Lens Model | EF35mm f/1.4L USM |
Lens Profile Chromatic Aberration Scale | 100 |
Lens Profile Distortion Scale | 100 |
Lens Profile Enable | 1 |
Lens Profile Filename | Canon EOS 5D Mark II (Canon EF 35mm f1.4L USM) - RAW.lcp |
Lens Profile Name | Adobe (Canon EF 35mm f/1.4 L USM) |
Lens Profile Setup | LensDefaults |
Lens Profile Vignetting Scale | 100 |
Light Value | 6.3 |
Luminance Smoothing | 0 |
Metering Mode | Center-weighted average |
Parametric Darks | 0 |
Parametric Highlight Split | 75 |
Parametric Highlights | 0 |
Parametric Lights | 0 |
Parametric Midtone Split | 50 |
Parametric Shadow Split | 25 |
Parametric Shadows | 0 |
Perspective Horizontal | 0 |
Perspective Rotate | 0.0 |
Perspective Scale | 100 |
Perspective Vertical | 0 |
Post Crop Vignette Amount | -76 |
Post Crop Vignette Feather | 45 |
Post Crop Vignette Highlight Contrast | 100 |
Post Crop Vignette Midpoint | 39 |
Post Crop Vignette Roundness | 0 |
Post Crop Vignette Style | 1 |
Process Version | 5.7 |
Rating | 1 |
Recommended Exposure Index | 640 |
Red Hue | 0 |
Red Saturation | 0 |
Scale Factor To 35 mm Equivalent | 1.6 |
Scene Capture Type | Standard |
Sensitivity Type | Recommended Exposure Index |
Shadow Tint | 0 |
Shadows | 3 |
Sharpen Detail | 60 |
Sharpen Edge Masking | 0 |
Sharpen Radius | +1.7 |
Sharpness | 25 |
Split Toning Balance | 0 |
Split Toning Highlight Hue | 0 |
Split Toning Highlight Saturation | 0 |
Split Toning Shadow Hue | 0 |
Split Toning Shadow Saturation | 0 |
Subject | Métro |
Subject Distance | 4294967295 m |
Tint | +12 |
Tone Curve | 0, 0, 255, 255 |
Tone Curve Name | Linear |
Version | 6.6 |
Vignette Amount | 0 |
White Balance | Auto |