Shooting information for this photo
Camera: | Canon EOS 7D |
Exposure: | 0.00625 sec. (1/160) |
Aperture: | f/5.6 |
Focal Length: | 85.0 mm (35 mm equivalent: 634.8 mm) |
Flash: | Off, Did not fire |
Exposure mode: | Manual |
Max Aperture: | 5.7 |
Resolution: | 72 x 72 dpi |
Dimension: | 1024 x 820 pixels |
Original Date: | 2013:03:03 12:18:52.00 |
Digitized Date: | 2013:03:03 12:18:52+01:00 |
Created on: | 2013:03:03 12:18:52.00 |
Modified on: | 2013:03:05 15:11:52 |
Software: | Adobe Photoshop CS Macintosh |
Already Applied | True |
Approximate Focus Distance | 0.89 |
Artist | Didier LAMY |
Blue Hue | 0 |
Blue Saturation | 0 |
Brightness | +66 |
Camera Profile | Adobe Standard |
Chromatic Aberration B | 0 |
Chromatic Aberration R | 0 |
Circle Of Confusion | 0.004 mm |
Clarity | 0 |
Color Noise Reduction | 25 |
Color Noise Reduction Detail | 50 |
Color Space | sRGB |
Color Temperature | 4850 |
Contrast | +37 |
Convert To Grayscale | False |
Creator | Didier LAMY |
Crop Angle | -1.06234 |
Crop Bottom | 0.977743 |
Crop Constrain To Warp | 0 |
Crop Height | 3319 |
Crop Left | 0.027268 |
Crop Right | 0.839313 |
Crop Top | 0.03979 |
Crop Unit | pixels |
Crop Width | 4149 |
Custom Rendered | Normal |
Date Created | 2013:03:03 |
Defringe | 0 |
Depth Of Field | 0.00 m (0.89 - 0.89) |
Exposure | 0.00 |
Exposure Compensation | 0 |
Exposure Mode | Manual |
Field Of View | 3.2 deg |
Fill Light | 0 |
Firmware | 2.0.3 |
Flash Compensation | 0 |
Flash Fired | False |
Flash Function | False |
Flash Mode | Off |
Flash Red Eye Mode | False |
Flash Return | No return detection |
Format | image/jpeg |
Grain Amount | 0 |
Green Hue | 0 |
Green Saturation | 0 |
Has Crop | True |
Has Settings | True |
Highlight Recovery | 100 |
Hue Adjustment Aqua | 0 |
Hue Adjustment Blue | 0 |
Hue Adjustment Green | 0 |
Hue Adjustment Magenta | 0 |
Hue Adjustment Orange | 0 |
Hue Adjustment Purple | 0 |
Hue Adjustment Red | 0 |
Hue Adjustment Yellow | 0 |
Hyperfocal Distance | 320.67 m |
ISO | 125 |
Image Number | 0 |
Image Size | 1024x820 |
Lens | EF-S15-85mm f/3.5-5.6 IS USM |
Lens ID | Canon EF-S 15-85mm f/3.5-5.6 IS USM |
Lens Info | 15-85mm f/? |
Lens Manual Distortion Amount | 0 |
Lens Model | EF-S15-85mm f/3.5-5.6 IS USM |
Lens Profile Chromatic Aberration Scale | 100 |
Lens Profile Distortion Scale | 100 |
Lens Profile Enable | 1 |
Lens Profile Filename | Canon EOS REBEL T1i (Canon EF 15-85mm f3.5-5.6 IS USM) - RAW.lcp |
Lens Profile Name | Adobe (Canon EF 15-85mm f3.5-5.6 IS USM) |
Lens Profile Setup | LensDefaults |
Lens Profile Vignetting Scale | 100 |
Light Value | 12.0 |
Luminance Adjustment Aqua | 0 |
Luminance Adjustment Blue | 0 |
Luminance Adjustment Green | 0 |
Luminance Adjustment Magenta | 0 |
Luminance Adjustment Orange | 0 |
Luminance Adjustment Purple | 0 |
Luminance Adjustment Red | 0 |
Luminance Adjustment Yellow | 0 |
Luminance Smoothing | 0 |
Metering Mode | Multi-segment |
Parametric Darks | 0 |
Parametric Highlight Split | 75 |
Parametric Highlights | 0 |
Parametric Lights | 0 |
Parametric Midtone Split | 50 |
Parametric Shadow Split | 25 |
Parametric Shadows | 0 |
Perspective Horizontal | 0 |
Perspective Rotate | 0.0 |
Perspective Scale | 100 |
Perspective Vertical | 0 |
Post Crop Vignette Amount | -51 |
Post Crop Vignette Feather | 100 |
Post Crop Vignette Highlight Contrast | 100 |
Post Crop Vignette Midpoint | 50 |
Post Crop Vignette Roundness | 0 |
Post Crop Vignette Style | 1 |
Process Version | 5.7 |
Recommended Exposure Index | 125 |
Red Hue | 0 |
Red Saturation | 0 |
Saturation | 0 |
Saturation Adjustment Aqua | 0 |
Saturation Adjustment Blue | 0 |
Saturation Adjustment Green | 0 |
Saturation Adjustment Magenta | 0 |
Saturation Adjustment Orange | 0 |
Saturation Adjustment Purple | 0 |
Saturation Adjustment Red | 0 |
Saturation Adjustment Yellow | 0 |
Scale Factor To 35 mm Equivalent | 7.5 |
Scene Capture Type | Standard |
Sensitivity Type | Recommended Exposure Index |
Shadow Tint | 0 |
Shadows | 9 |
Sharpen Detail | 27 |
Sharpen Edge Masking | 0 |
Sharpen Radius | +1.6 |
Sharpness | 103 |
Split Toning Balance | 0 |
Split Toning Highlight Hue | 0 |
Split Toning Highlight Saturation | 0 |
Split Toning Shadow Hue | 0 |
Split Toning Shadow Saturation | 0 |
Subject Distance | 0.89 m |
Tint | +11 |
Tone Curve | 0, 0, 32, 22, 64, 56, 128, 128, 192, 196, 255, 255 |
Tone Curve Name | Medium Contrast |
Version | 6.6 |
Vibrance | 0 |
Vignette Amount | 0 |
White Balance | As Shot |