Shooting information for this photo
Camera: | PENTAX K200D |
Exposure: | 0.01667 sec. (1/60) |
Aperture: | f/7.1 |
Focal Length: | 48.0 mm (35 mm equivalent: 72.0 mm) |
Flash: | Off, Did not fire |
Exposure mode: | Landscape |
Original Date: | 2018:04:17 16:07:26 |
Created on: | 2018:04:17 16:07:26 |
Modified on: | 2018:04:18 16:11:36.566 |
Software: | Adobe Photoshop Lightroom 4.4 (Windows) |
AE Aperture | 7.0 |
AEB Xv | 0 |
AE Exposure Time | 1/66 |
AE ISO | 100 |
AE Lock | On |
AE Max Aperture | 4.8 |
AE Max Aperture 2 | 4.8 |
AE Metering Mode | Center-weighted average |
AE Metering Segments | 10.8 10.8 10.6 10.5 10.0 10.5 10.9 10.9 9.6 10.8 11.1 11.0 10.6 11.0 10.2 10.8 |
AE Min Aperture | 32 |
AE Min Exposure Time | 1/3862 |
AE Program Mode | Landscape |
AE Xv | 0 |
AF Adjustment | 0 |
AF Defocus | 1 |
AF Integration Time | 0 ms |
AF Point Mode | Select |
AF Point Selected | Center |
AF Point Selected 2 | Center |
AF Points In Focus | Center (vertical) |
AF Predictor | 2 |
Active Area | 0 0 2624 3936 |
Already Applied | False |
Analog Balance | 1 1 1 |
Anti Alias Strength | 1 |
Aperture Ring Use | Permitted |
As Shot Neutral | 0.608076 1 0.752941 |
Auto Aperture | On |
Auto Bracketing | 0 EV, No Extended Bracket |
Auto Lateral CA | 0 |
Baseline Exposure | -0.5 |
Baseline Noise | 1 |
Baseline Sharpness | 1 |
Bayer Green Split | 0 |
Best Quality Scale | 1 |
Bits Per Sample | 16 |
Black Level | 0 0 0 0 |
Black Level Repeat Dim | 2 2 |
Black Point | 0 0 0 0 |
Blacks 2012 | -48 |
Blue Hue | 0 |
Blue Saturation | 0 |
Body Battery A/D Load | 120 |
Body Battery A/D No Load | 139 |
Body Battery State | Full |
Bracket Shot Number | n/a |
CFA Layout | Rectangular |
CFA Pattern | [Red,Green][Green,Blue] |
CFA Pattern 2 | 0 1 1 2 |
CFA Plane Color | Red,Green,Blue |
CFA Repeat Pattern Dim | 2 2 |
CPU Firmware Version | 1.00.00.03 |
Calibration Illuminant 1 | Standard Light A |
Calibration Illuminant 2 | D65 |
Camera Profile | Adobe Standard |
Camera Temperature | 27 C |
Circle Of Confusion | 0.020 mm |
Clarity 2012 | -7 |
Color Matrix 1 | 1.2904 -0.6794 0.0281 -0.4017 0.9925 0.4785 0.0131 -0.0237 0.9488 |
Color Matrix 2 | 1.1057 -0.3604 -0.1155 -0.5152 1.3046 0.2329 -0.0282 0.0375 0.8104 |
Color Noise Reduction | 25 |
Color Noise Reduction Detail | 50 |
Color Space | Adobe RGB |
Color Temp Cloudy | 6000 +5 +2 |
Color Temp Daylight | 5205 -5 +2 |
Color Temp Flash | 5420 0 0 |
Color Temp Fluorescent D | 5816 -6 +7 |
Color Temp Fluorescent N | 4790 +3 +4 |
Color Temp Fluorescent W | 4142 +5 +5 |
Color Temp Shade | 8000 -6 +1 |
Color Temp Tungsten | 2857 +2 +3 |
Color Temperature | 4800 |
Contrast | High |
Contrast 2012 | -25 |
Convert To Grayscale | False |
Custom Rendered | Normal |
DNG Backward Version | 1.1.0.0 |
DNG Lens Info | 18-200mm f/3.5-6.3 |
DNG Version | 1.4.0.0 |
DSP Firmware Version | 1.00.00.03 |
Date Created | 2018:04:17 16:07:26 |
Default Crop Origin | 8 8 |
Default Crop Size | 3872 2592 |
Default Scale | 1 1 |
Defringe Green Amount | 0 |
Defringe Green Hue Hi | 60 |
Defringe Green Hue Lo | 40 |
Defringe Purple Amount | 0 |
Defringe Purple Hue Hi | 70 |
Defringe Purple Hue Lo | 30 |
Drive Mode | Single-frame; No Timer; Shutter Button; Single Exposure |
Drive Mode 2 | Single-frame |
Dynamic Range Expansion | Off |
E-Dial In Program | P Shift |
EV Steps | 1/3 EV Steps |
Effective LV | 11.8 |
Exposure 2012 | -1.31 |
Exposure Bracket Step Size | 1.7 |
Exposure Compensation | 0 |
Exposure Mode | Auto |
External Flash Bounce | n/a |
External Flash Exposure Comp | n/a |
External Flash Guide Number | n/a |
External Flash Mode | Off |
Field Of View | 28.1 deg |
Fine Sharpness | Off |
Flash Exposure Comp | -1.3 |
Flash Exposure Comp. Setting | -1.3 |
Flash Metering Segments | 0 0 0 0 0 0 0 0 0 0 0 0 0 0 0 0 |
Flash Mode | Off, Did not fire; Internal |
Flash Options | Wireless (Master) |
Flash Status | Off |
Focal Length In 35mm Format | 72 mm |
Focus Mode | AF-S |
Focus Mode 2 | AF-S |
Format | image/dng |
Grain Amount | 0 |
Green Hue | 0 |
Green Saturation | 0 |
Has Settings | True |
High ISO Noise Reduction | Strong |
Highlights 2012 | -74 |
Hue | Normal |
Hue Adjustment Aqua | 0 |
Hue Adjustment Blue | 0 |
Hue Adjustment Green | 0 |
Hue Adjustment Magenta | 0 |
Hue Adjustment Orange | 0 |
Hue Adjustment Purple | 0 |
Hue Adjustment Red | 0 |
Hue Adjustment Yellow | 0 |
Hyperfocal Distance | 16.20 m |
ISO | 100 |
ISO Floor | 100 |
Image Area Offset | 8 8 |
Image Height | 2624 |
Image Size | 3936x2624 |
Image Tone | Landscape |
Image Width | 3936 |
Internal Flash Mode | Did not fire, Wireless (Master) |
Internal Flash Strength | 0 |
Kelvin WB 01 | 2500 0 0.8597412109375 2.710693359375 |
Kelvin WB 02 | 2630 0 0.916748046875 2.5152587890625 |
Kelvin WB 03 | 2780 0 0.9771728515625 2.334716796875 |
Kelvin WB 04 | 2940 0 1.04150390625 2.16796875 |
Kelvin WB 05 | 3130 0 1.1099853515625 2.012451171875 |
Kelvin WB 06 | 3330 0 1.1826171875 1.8690185546875 |
Kelvin WB 07 | 3570 0 1.2596435546875 1.7357177734375 |
Kelvin WB 08 | 3850 0 1.3409423828125 1.6116943359375 |
Kelvin WB 09 | 4170 0 1.426513671875 1.4971923828125 |
Kelvin WB 10 | 4550 0 1.515380859375 1.3912353515625 |
Kelvin WB 11 | 5000 0 1.60791015625 1.29296875 |
Kelvin WB 12 | 5560 0 1.70263671875 1.2020263671875 |
Kelvin WB 13 | 6250 0 1.7982177734375 1.11865234375 |
Kelvin WB 14 | 7140 0 1.893310546875 1.0423583984375 |
Kelvin WB 15 | 8330 0 1.9857177734375 0.972900390625 |
Kelvin WB 16 | 10000 0 2.0732421875 0.9100341796875 |
Kelvin WB Daylight | 5205 0 1.6448974609375 1.2562255859375 |
Lens | TAMRON XR DiII 18-200mm F3.5-6.3 |
Lens F Stops | 5.5 |
Lens ID | Tamron XR DiII 18-200mm F3.5-6.3 (A14) |
Lens Info | 18-200mm f/3.5-6.3 |
Lens Manual Distortion Amount | 0 |
Lens Model | TAMRON XR DiII 18-200mm F3.5-6.3 |
Lens Profile Enable | 0 |
Lens Profile Setup | LensDefaults |
Lens Type | Tamron XR DiII 18-200mm F3.5-6.3 (A14) |
Light Value | 11.6 |
Linear Response Limit | 1 |
Luminance Adjustment Aqua | 0 |
Luminance Adjustment Blue | 0 |
Luminance Adjustment Green | 0 |
Luminance Adjustment Magenta | 0 |
Luminance Adjustment Orange | 0 |
Luminance Adjustment Purple | 0 |
Luminance Adjustment Red | 0 |
Luminance Adjustment Yellow | 0 |
Luminance Smoothing | 0 |
Max Aperture | 4.8 |
Metering Mode | Center-weighted average |
Metering Mode 2 | Center-weighted average |
Min Aperture | 32 |
Monochrome Filter Effect | None |
Monochrome Toning | None |
Multiple Exposure Set | Off |
Noise Reduction | Off |
Nominal Max Aperture | 4.8 |
Nominal Min Aperture | 32 |
Parametric Darks | 0 |
Parametric Highlight Split | 75 |
Parametric Highlights | 0 |
Parametric Lights | 0 |
Parametric Midtone Split | 50 |
Parametric Shadow Split | 25 |
Parametric Shadows | 0 |
Pentax Model ID | K200D |
Pentax Model Type | 0 |
Pentax Version | 4.1.2.0 |
Perspective Horizontal | 0 |
Perspective Rotate | 0.0 |
Perspective Scale | 100 |
Perspective Vertical | 0 |
Photometric Interpretation | Color Filter Array |
Picture Mode | Auto PICT (Landscape); 1/3 EV steps |
Picture Mode 2 | Auto PICT |
Planar Configuration | Chunky |
Post Crop Vignette Amount | 0 |
Power Source | Body Battery |
Preview Application Name | Adobe Photoshop Lightroom |
Preview Application Version | 4.4 |
Preview Color Space | 2 |
Preview Date Time | 2018:04:18 10:15:11-04:00 |
Process Version | 6.7 |
Production Code | 2.2 |
Profile Embed Policy | Allow Copying |
Profile Name | Embedded |
Program Line | Depth |
Quality | RAW |
Rating | 1 |
Raw Data Unique ID | 000000000000000061DAC259B6E330 D6 |
Raw Development Process | 1 (K10D,K200D,K2000,K-m) |
Raw File Name | _IGP5507-1.dng |
Raw Image Size | 3872x2592 |
Red Hue | 0 |
Red Saturation | 0 |
Reference Black White | 0 255 128 255 128 255 |
Rows Per Strip | 171 |
SR Focal Length | 48 mm |
SR Half Press Time | 2.45 s |
SR Result | Not stabilized |
Samples Per Pixel | 1 |
Saturation | Normal |
Saturation Adjustment Aqua | 0 |
Saturation Adjustment Blue | 0 |
Saturation Adjustment Green | 0 |
Saturation Adjustment Magenta | 0 |
Saturation Adjustment Orange | 0 |
Saturation Adjustment Purple | 0 |
Saturation Adjustment Red | 0 |
Saturation Adjustment Yellow | 0 |
Scale Factor To 35 mm Equivalent | 1.5 |
Scene Capture Type | Landscape |
Sensing Method | One-chip color area |
Sensitivity Steps | As EV Steps |
Sensor Size | 23.788 x 15.924 mm |
Shadow Scale | 1 |
Shadow Tint | 0 |
Shadows 2012 | +45 |
Shake Reduction | Off (4) |
Sharpen Detail | 25 |
Sharpen Edge Masking | 0 |
Sharpen Radius | +1.0 |
Sharpness | Med Hard |
Shutter Count | 32432 |
Slave Flash Metering Segments | 0 0 0 0 0 0 0 0 0 0 0 0 0 0 0 0 |
Split Toning Balance | 0 |
Split Toning Highlight Hue | 0 |
Split Toning Highlight Saturation | 0 |
Split Toning Shadow Hue | 0 |
Split Toning Shadow Saturation | 0 |
Strip Byte Counts | 131328 |
Strip Offsets | 113212 |
Subfile Type | Reduced-resolution image |
Subject Distance Range | Distant |
TTL DA A Down | 0 |
TTL DA A Up | 0 |
TTL DA B Down | 0 |
TTL DA B Up | 0 |
Tile Byte Counts | 14259 |
Tile Length | 176 |
Tile Offsets | 766126 |
Tile Width | 256 |
Tint | -10 |
Tone Curve Name 2012 | Linear |
Tone Curve PV2012 | 0, 0, 255, 255 |
Tone Curve PV2012 Blue | 0, 0, 255, 255 |
Tone Curve PV2012 Green | 0, 0, 255, 255 |
Tone Curve PV2012 Red | 0, 0, 255, 255 |
Unique Camera Model | PENTAX K200D |
Version | 7.4 |
Vibrance | 0 |
Vignette Amount | 0 |
WB RGGB Levels Cloudy | 14560 8192 8123 9375 |
WB RGGB Levels Daylight | 13824 8192 8123 10558 |
WB RGGB Levels Flash | 13824 8192 8123 10558 |
WB RGGB Levels Fluorescent D | 17376 8192 8123 9830 |
WB RGGB Levels Fluorescent N | 14528 8192 8123 11195 |
WB RGGB Levels Fluorescent W | 13088 8192 8123 13562 |
WB RGGB Levels Shade | 16128 8192 8123 8100 |
WB RGGB Levels Tungsten | 8192 8192 8123 23301 |
White Balance | Auto |
White Balance Auto Adjustment | On |
White Balance Mode | Auto (Daylight) |
White Balance Set | Auto |
White Level | 4095 |
White Point | 13472 8192 8192 10880 |
Whites 2012 | +36 |