Shooting information for this photo
Camera: | Canon EOS 1000D |
Exposure: | 0.03333 sec. (1/30) |
Aperture: | f/5.0 |
Focal Length: | 36.0 mm (35 mm equivalent: 58.3 mm) |
Flash: | Off, Did not fire |
Exposure mode: | Program AE |
Max Aperture: | 4.6 |
Resolution: | 240 x 240 dpi |
Dimension: | 3888 x 2592 pixels |
Original Date: | 2009:10:29 14:07:52.02 |
Digitized Date: | 2009:10:29 14:07:52.02+01:00 |
Created on: | 2009:10:29 14:07:52.02 |
Modified on: | 2009:11:11 16:31:58 |
Already Applied | True |
Artist | Christophe |
Blue Hue | 0 |
Blue Saturation | 0 |
Brightness | -25 |
Camera Profile | Adobe Standard |
Chromatic Aberration B | 0 |
Chromatic Aberration R | 0 |
Circle Of Confusion | 0.019 mm |
Clarity | -100 |
Color Noise Reduction | 100 |
Color Temperature | 6248 |
Contrast | +42 |
Convert To Grayscale | False |
Creator | Christophe |
Custom Rendered | Normal |
Defringe | 0 |
Exposure | +2.30 |
Exposure Compensation | 0 |
Exposure Mode | Auto |
Field Of View | 34.3 deg |
Fill Light | 1 |
Firmware | 1.0.3 |
Flash Compensation | 0 |
Flash Fired | False |
Flash Function | False |
Flash Mode | Off |
Flash Red Eye Mode | False |
Flash Return | No return detection |
Green Hue | 0 |
Green Saturation | 0 |
Has Crop | False |
Has Settings | True |
Highlight Recovery | 13 |
Hue Adjustment Aqua | -100 |
Hue Adjustment Blue | -100 |
Hue Adjustment Green | -100 |
Hue Adjustment Magenta | -100 |
Hue Adjustment Orange | +100 |
Hue Adjustment Purple | -100 |
Hue Adjustment Red | -8 |
Hue Adjustment Yellow | +100 |
Hyperfocal Distance | 13.96 m |
ISO | 320 |
Image Number | 0 |
Image Size | 3888x2592 |
Lens | EF-S18-55mm f/3.5-5.6 IS |
Lens Info | 18-55mm f/? |
Light Value | 7.9 |
Luminance Adjustment Aqua | -100 |
Luminance Adjustment Blue | -100 |
Luminance Adjustment Green | -100 |
Luminance Adjustment Magenta | -100 |
Luminance Adjustment Orange | +100 |
Luminance Adjustment Purple | -100 |
Luminance Adjustment Red | +1 |
Luminance Adjustment Yellow | +100 |
Luminance Smoothing | 100 |
Metering Mode | Partial |
Owner Name | Christophe |
Parametric Darks | 0 |
Parametric Highlight Split | 75 |
Parametric Highlights | 0 |
Parametric Lights | 0 |
Parametric Midtone Split | 50 |
Parametric Shadow Split | 25 |
Parametric Shadows | 0 |
Post Crop Vignette Amount | -100 |
Post Crop Vignette Feather | 37 |
Post Crop Vignette Midpoint | 0 |
Post Crop Vignette Roundness | -29 |
Red Hue | 0 |
Red Saturation | 0 |
Saturation | -10 |
Saturation Adjustment Aqua | -100 |
Saturation Adjustment Blue | -100 |
Saturation Adjustment Green | -100 |
Saturation Adjustment Magenta | -100 |
Saturation Adjustment Orange | -100 |
Saturation Adjustment Purple | -100 |
Saturation Adjustment Red | +100 |
Saturation Adjustment Yellow | -100 |
Scale Factor To 35 mm Equivalent | 1.6 |
Scene Capture Type | Standard |
Shadow Tint | 0 |
Shadows | 54 |
Sharpen Detail | 25 |
Sharpen Edge Masking | 0 |
Sharpen Radius | +1.0 |
Sharpness | 0 |
Split Toning Balance | 0 |
Split Toning Highlight Hue | 0 |
Split Toning Highlight Saturation | 0 |
Split Toning Shadow Hue | 0 |
Split Toning Shadow Saturation | 0 |
Tint | +57 |
Tone Curve | 0, 0, 32, 22, 64, 56, 128, 128, 192, 196, 255, 255 |
Tone Curve Name | Medium Contrast |
Version | 5.5 |
Vibrance | +19 |
Vignette Amount | +52 |
Vignette Midpoint | 41 |
White Balance | Auto |